{"text_format":"1","workbook":"xlsx","n_sheets":3,"sheets":["PROGRAMACION","BACKEND","DATA"],"not_rendered":{"charts":0,"images":1,"macros":1,"external_links":0,"defined_names":10,"comments":0,"pivot_tables":0},"unopened":[],"bounds":{"document_bytes":16777216,"sheet_cells":100000,"rows_first":2000,"rows_last":500,"rows_between":2000,"halvings":0,"cell_chars":16384,"cell_head_chars":4096},"cells_cut":0,"cells_raw":0,"read":"whole","date_system":"1900"}

{"sheet":"PROGRAMACION","index":0,"n_rows":308,"n_cols":15,"rows_kept":308,"cut":false,"hidden":false,"merged":[[4,0,4,1],[5,0,5,1],[4,2,4,3],[5,2,5,3]]}
[null,"CENTRO NACIONAL DE DESPACHO"]
[null,"EMPRESA DE TRANSMISIÓN ELÉCTRICA, S.A."]
[null,"PROGRAMA DE MANTENIMIENTO ANUAL RTR"]
[]
["OS/OM",null,"PANAMA"]
["AGENTE"]
[]
["Semana","OS/OM Solicitante","Solmant No.","Fecha Inicio","Hora Inicio","Fecha Final","Hora Final","Continuo / Diario","Tipo Equipo","Equipo","Instalación","Con Desconexión","Sin Desconexión","Descripción del trabajo","Comentarios / Observaciones"]
[{"$f":" IF(NOT(D9=\"\"),VLOOKUP(D9,DATA!$J$3:$K$368,2,FALSE),\"\")","v":""},{"$f":"IF(NOT(D9=\"\"),\"PANAMA\",\"\")","v":""},null,{"$f":"IF(ISBLANK(BACKEND!D9),\"\",BACKEND!D9)","v":""},null,{"$f":"IF(ISBLANK(BACKEND!F9),\"\",BACKEND!F9)","v":""},null,null,null,null,{"$f":"IF(NOT(ISBLANK(J9)),VLOOKUP(J9,DATA!$V$1:$W$307,2,FALSE),\"\")","v":""},null,{"$f":"IF(ISBLANK(L9),\"\",IF(L9=\"SÍ\",\"NO\",\"SÍ\"))","v":""}]
[{"$f":" IF(NOT(D10=\"\"),VLOOKUP(D10,DATA!$J$3:$K$368,2,FALSE),\"\")","v":""},{"$f":"IF(NOT(D10=\"\"),\"PANAMA\",\"\")","v":""},null,{"$f":"IF(ISBLANK(BACKEND!D10),\"\",BACKEND!D10)","v":""},null,{"$f":"IF(ISBLANK(BACKEND!F10),\"\",BACKEND!F10)","v":""},null,null,null,null,{"$f":"IF(NOT(ISBLANK(J10)),VLOOKUP(J10,DATA!$V$1:$W$307,2,FALSE),\"\")","v":""},null,{"$f":"IF(ISBLANK(L10),\"\",IF(L10=\"SÍ\",\"NO\",\"SÍ\"))","v":""}]
[{"$f":" IF(NOT(D11=\"\"),VLOOKUP(D11,DATA!$J$3:$K$368,2,FALSE),\"\")","v":""},"",null,{"$f":"IF(ISBLANK(BACKEND!D11),\"\",BACKEND!D11)","v":""},null,{"$f":"IF(ISBLANK(BACKEND!F11),\"\",BACKEND!F11)","v":""},null,null,null,null,{"$f":"IF(NOT(ISBLANK(J11)),VLOOKUP(J11,DATA!$V$1:$W$307,2,FALSE),\"\")","v":""},null,""]
[{"$f":" IF(NOT(D12=\"\"),VLOOKUP(D12,DATA!$J$3:$K$368,2,FALSE),\"\")","v":""},"",null,{"$f":"IF(ISBLANK(BACKEND!D12),\"\",BACKEND!D12)","v":""},null,{"$f":"IF(ISBLANK(BACKEND!F12),\"\",BACKEND!F12)","v":""},null,null,null,null,{"$f":"IF(NOT(ISBLANK(J12)),VLOOKUP(J12,DATA!$V$1:$W$307,2,FALSE),\"\")","v":""},null,""]
[{"$f":" IF(NOT(D13=\"\"),VLOOKUP(D13,DATA!$J$3:$K$368,2,FALSE),\"\")","v":""},"",null,{"$f":"IF(ISBLANK(BACKEND!D13),\"\",BACKEND!D13)","v":""},null,{"$f":"IF(ISBLANK(BACKEND!F13),\"\",BACKEND!F13)","v":""},null,null,null,null,{"$f":"IF(NOT(ISBLANK(J13)),VLOOKUP(J13,DATA!$V$1:$W$307,2,FALSE),\"\")","v":""},null,""]
[{"$f":" IF(NOT(D14=\"\"),VLOOKUP(D14,DATA!$J$3:$K$368,2,FALSE),\"\")","v":""},"",null,{"$f":"IF(ISBLANK(BACKEND!D14),\"\",BACKEND!D14)","v":""},null,{"$f":"IF(ISBLANK(BACKEND!F14),\"\",BACKEND!F14)","v":""},null,null,null,null,{"$f":"IF(NOT(ISBLANK(J14)),VLOOKUP(J14,DATA!$V$1:$W$307,2,FALSE),\"\")","v":""},null,""]
[{"$f":" IF(NOT(D15=\"\"),VLOOKUP(D15,DATA!$J$3:$K$368,2,FALSE),\"\")","v":""},"",null,{"$f":"IF(ISBLANK(BACKEND!D15),\"\",BACKEND!D15)","v":""},null,{"$f":"IF(ISBLANK(BACKEND!F15),\"\",BACKEND!F15)","v":""},null,null,null,null,{"$f":"IF(NOT(ISBLANK(J15)),VLOOKUP(J15,DATA!$V$1:$W$307,2,FALSE),\"\")","v":""},null,""]
[{"$f":" IF(NOT(D16=\"\"),VLOOKUP(D16,DATA!$J$3:$K$368,2,FALSE),\"\")","v":""},"",null,{"$f":"IF(ISBLANK(BACKEND!D16),\"\",BACKEND!D16)","v":""},null,{"$f":"IF(ISBLANK(BACKEND!F16),\"\",BACKEND!F16)","v":""},null,null,null,null,{"$f":"IF(NOT(ISBLANK(J16)),VLOOKUP(J16,DATA!$V$1:$W$307,2,FALSE),\"\")","v":""},null,""]
[{"$f":" IF(NOT(D17=\"\"),VLOOKUP(D17,DATA!$J$3:$K$368,2,FALSE),\"\")","v":""},"",null,{"$f":"IF(ISBLANK(BACKEND!D17),\"\",BACKEND!D17)","v":""},null,{"$f":"IF(ISBLANK(BACKEND!F17),\"\",BACKEND!F17)","v":""},null,null,null,null,{"$f":"IF(NOT(ISBLANK(J17)),VLOOKUP(J17,DATA!$V$1:$W$307,2,FALSE),\"\")","v":""},null,""]
[{"$f":" IF(NOT(D18=\"\"),VLOOKUP(D18,DATA!$J$3:$K$368,2,FALSE),\"\")","v":""},"",null,{"$f":"IF(ISBLANK(BACKEND!D18),\"\",BACKEND!D18)","v":""},null,{"$f":"IF(ISBLANK(BACKEND!F18),\"\",BACKEND!F18)","v":""},null,null,null,null,{"$f":"IF(NOT(ISBLANK(J18)),VLOOKUP(J18,DATA!$V$1:$W$307,2,FALSE),\"\")","v":""},null,""]
[{"$f":" IF(NOT(D19=\"\"),VLOOKUP(D19,DATA!$J$3:$K$368,2,FALSE),\"\")","v":""},"",null,{"$f":"IF(ISBLANK(BACKEND!D19),\"\",BACKEND!D19)","v":""},null,{"$f":"IF(ISBLANK(BACKEND!F19),\"\",BACKEND!F19)","v":""},null,null,null,null,{"$f":"IF(NOT(ISBLANK(J19)),VLOOKUP(J19,DATA!$V$1:$W$307,2,FALSE),\"\")","v":""},null,""]
[{"$f":" IF(NOT(D20=\"\"),VLOOKUP(D20,DATA!$J$3:$K$368,2,FALSE),\"\")","v":""},"",null,{"$f":"IF(ISBLANK(BACKEND!D20),\"\",BACKEND!D20)","v":""},null,{"$f":"IF(ISBLANK(BACKEND!F20),\"\",BACKEND!F20)","v":""},null,null,null,null,{"$f":"IF(NOT(ISBLANK(J20)),VLOOKUP(J20,DATA!$V$1:$W$307,2,FALSE),\"\")","v":""},null,""]
[{"$f":" IF(NOT(D21=\"\"),VLOOKUP(D21,DATA!$J$3:$K$368,2,FALSE),\"\")","v":""},"",null,{"$f":"IF(ISBLANK(BACKEND!D21),\"\",BACKEND!D21)","v":""},null,{"$f":"IF(ISBLANK(BACKEND!F21),\"\",BACKEND!F21)","v":""},null,null,null,null,{"$f":"IF(NOT(ISBLANK(J21)),VLOOKUP(J21,DATA!$V$1:$W$307,2,FALSE),\"\")","v":""},null,""]
[{"$f":" IF(NOT(D22=\"\"),VLOOKUP(D22,DATA!$J$3:$K$368,2,FALSE),\"\")","v":""},"",null,{"$f":"IF(ISBLANK(BACKEND!D22),\"\",BACKEND!D22)","v":""},null,{"$f":"IF(ISBLANK(BACKEND!F22),\"\",BACKEND!F22)","v":""},null,null,null,null,{"$f":"IF(NOT(ISBLANK(J22)),VLOOKUP(J22,DATA!$V$1:$W$307,2,FALSE),\"\")","v":""},null,""]
[{"$f":" IF(NOT(D23=\"\"),VLOOKUP(D23,DATA!$J$3:$K$368,2,FALSE),\"\")","v":""},"",null,{"$f":"IF(ISBLANK(BACKEND!D23),\"\",BACKEND!D23)","v":""},null,{"$f":"IF(ISBLANK(BACKEND!F23),\"\",BACKEND!F23)","v":""},null,null,null,null,{"$f":"IF(NOT(ISBLANK(J23)),VLOOKUP(J23,DATA!$V$1:$W$307,2,FALSE),\"\")","v":""},null,""]
[{"$f":" IF(NOT(D24=\"\"),VLOOKUP(D24,DATA!$J$3:$K$368,2,FALSE),\"\")","v":""},"",null,{"$f":"IF(ISBLANK(BACKEND!D24),\"\",BACKEND!D24)","v":""},null,{"$f":"IF(ISBLANK(BACKEND!F24),\"\",BACKEND!F24)","v":""},null,null,null,null,{"$f":"IF(NOT(ISBLANK(J24)),VLOOKUP(J24,DATA!$V$1:$W$307,2,FALSE),\"\")","v":""},null,""]
[{"$f":" IF(NOT(D25=\"\"),VLOOKUP(D25,DATA!$J$3:$K$368,2,FALSE),\"\")","v":""},"",null,{"$f":"IF(ISBLANK(BACKEND!D25),\"\",BACKEND!D25)","v":""},null,{"$f":"IF(ISBLANK(BACKEND!F25),\"\",BACKEND!F25)","v":""},null,null,null,null,{"$f":"IF(NOT(ISBLANK(J25)),VLOOKUP(J25,DATA!$V$1:$W$307,2,FALSE),\"\")","v":""},null,""]
[{"$f":" IF(NOT(D26=\"\"),VLOOKUP(D26,DATA!$J$3:$K$368,2,FALSE),\"\")","v":""},"",null,{"$f":"IF(ISBLANK(BACKEND!D26),\"\",BACKEND!D26)","v":""},null,{"$f":"IF(ISBLANK(BACKEND!F26),\"\",BACKEND!F26)","v":""},null,null,null,null,{"$f":"IF(NOT(ISBLANK(J26)),VLOOKUP(J26,DATA!$V$1:$W$307,2,FALSE),\"\")","v":""},null,""]
[{"$f":" IF(NOT(D27=\"\"),VLOOKUP(D27,DATA!$J$3:$K$368,2,FALSE),\"\")","v":""},"",null,{"$f":"IF(ISBLANK(BACKEND!D27),\"\",BACKEND!D27)","v":""},null,{"$f":"IF(ISBLANK(BACKEND!F27),\"\",BACKEND!F27)","v":""},null,null,null,null,{"$f":"IF(NOT(ISBLANK(J27)),VLOOKUP(J27,DATA!$V$1:$W$307,2,FALSE),\"\")","v":""},null,""]
[{"$f":" IF(NOT(D28=\"\"),VLOOKUP(D28,DATA!$J$3:$K$368,2,FALSE),\"\")","v":""},"",null,{"$f":"IF(ISBLANK(BACKEND!D28),\"\",BACKEND!D28)","v":""},null,{"$f":"IF(ISBLANK(BACKEND!F28),\"\",BACKEND!F28)","v":""},null,null,null,null,{"$f":"IF(NOT(ISBLANK(J28)),VLOOKUP(J28,DATA!$V$1:$W$307,2,FALSE),\"\")","v":""},null,""]
[{"$f":" IF(NOT(D29=\"\"),VLOOKUP(D29,DATA!$J$3:$K$368,2,FALSE),\"\")","v":""},"",null,{"$f":"IF(ISBLANK(BACKEND!D29),\"\",BACKEND!D29)","v":""},null,{"$f":"IF(ISBLANK(BACKEND!F29),\"\",BACKEND!F29)","v":""},null,null,null,null,{"$f":"IF(NOT(ISBLANK(J29)),VLOOKUP(J29,DATA!$V$1:$W$307,2,FALSE),\"\")","v":""},null,""]
[{"$f":" IF(NOT(D30=\"\"),VLOOKUP(D30,DATA!$J$3:$K$368,2,FALSE),\"\")","v":""},"",null,{"$f":"IF(ISBLANK(BACKEND!D30),\"\",BACKEND!D30)","v":""},null,{"$f":"IF(ISBLANK(BACKEND!F30),\"\",BACKEND!F30)","v":""},null,null,null,null,{"$f":"IF(NOT(ISBLANK(J30)),VLOOKUP(J30,DATA!$V$1:$W$307,2,FALSE),\"\")","v":""},null,""]
[{"$f":" IF(NOT(D31=\"\"),VLOOKUP(D31,DATA!$J$3:$K$368,2,FALSE),\"\")","v":""},"",null,{"$f":"IF(ISBLANK(BACKEND!D31),\"\",BACKEND!D31)","v":""},null,{"$f":"IF(ISBLANK(BACKEND!F31),\"\",BACKEND!F31)","v":""},null,null,null,null,{"$f":"IF(NOT(ISBLANK(J31)),VLOOKUP(J31,DATA!$V$1:$W$307,2,FALSE),\"\")","v":""},null,""]
[{"$f":" IF(NOT(D32=\"\"),VLOOKUP(D32,DATA!$J$3:$K$368,2,FALSE),\"\")","v":""},"",null,{"$f":"IF(ISBLANK(BACKEND!D32),\"\",BACKEND!D32)","v":""},null,{"$f":"IF(ISBLANK(BACKEND!F32),\"\",BACKEND!F32)","v":""},null,null,null,null,{"$f":"IF(NOT(ISBLANK(J32)),VLOOKUP(J32,DATA!$V$1:$W$307,2,FALSE),\"\")","v":""},null,""]
[{"$f":" IF(NOT(D33=\"\"),VLOOKUP(D33,DATA!$J$3:$K$368,2,FALSE),\"\")","v":""},"",null,{"$f":"IF(ISBLANK(BACKEND!D33),\"\",BACKEND!D33)","v":""},null,{"$f":"IF(ISBLANK(BACKEND!F33),\"\",BACKEND!F33)","v":""},null,null,null,null,{"$f":"IF(NOT(ISBLANK(J33)),VLOOKUP(J33,DATA!$V$1:$W$307,2,FALSE),\"\")","v":""},null,""]
[{"$f":" IF(NOT(D34=\"\"),VLOOKUP(D34,DATA!$J$3:$K$368,2,FALSE),\"\")","v":""},"",null,{"$f":"IF(ISBLANK(BACKEND!D34),\"\",BACKEND!D34)","v":""},null,{"$f":"IF(ISBLANK(BACKEND!F34),\"\",BACKEND!F34)","v":""},null,null,null,null,{"$f":"IF(NOT(ISBLANK(J34)),VLOOKUP(J34,DATA!$V$1:$W$307,2,FALSE),\"\")","v":""},null,""]
[{"$f":" IF(NOT(D35=\"\"),VLOOKUP(D35,DATA!$J$3:$K$368,2,FALSE),\"\")","v":""},"",null,{"$f":"IF(ISBLANK(BACKEND!D35),\"\",BACKEND!D35)","v":""},null,{"$f":"IF(ISBLANK(BACKEND!F35),\"\",BACKEND!F35)","v":""},null,null,null,null,{"$f":"IF(NOT(ISBLANK(J35)),VLOOKUP(J35,DATA!$V$1:$W$307,2,FALSE),\"\")","v":""},null,""]
[{"$f":" IF(NOT(D36=\"\"),VLOOKUP(D36,DATA!$J$3:$K$368,2,FALSE),\"\")","v":""},"",null,{"$f":"IF(ISBLANK(BACKEND!D36),\"\",BACKEND!D36)","v":""},null,{"$f":"IF(ISBLANK(BACKEND!F36),\"\",BACKEND!F36)","v":""},null,null,null,null,{"$f":"IF(NOT(ISBLANK(J36)),VLOOKUP(J36,DATA!$V$1:$W$307,2,FALSE),\"\")","v":""},null,""]
[{"$f":" IF(NOT(D37=\"\"),VLOOKUP(D37,DATA!$J$3:$K$368,2,FALSE),\"\")","v":""},"",null,{"$f":"IF(ISBLANK(BACKEND!D37),\"\",BACKEND!D37)","v":""},null,{"$f":"IF(ISBLANK(BACKEND!F37),\"\",BACKEND!F37)","v":""},null,null,null,null,{"$f":"IF(NOT(ISBLANK(J37)),VLOOKUP(J37,DATA!$V$1:$W$307,2,FALSE),\"\")","v":""},null,""]
[{"$f":" IF(NOT(D38=\"\"),VLOOKUP(D38,DATA!$J$3:$K$368,2,FALSE),\"\")","v":""},"",null,{"$f":"IF(ISBLANK(BACKEND!D38),\"\",BACKEND!D38)","v":""},null,{"$f":"IF(ISBLANK(BACKEND!F38),\"\",BACKEND!F38)","v":""},null,null,null,null,{"$f":"IF(NOT(ISBLANK(J38)),VLOOKUP(J38,DATA!$V$1:$W$307,2,FALSE),\"\")","v":""},null,""]
[{"$f":" IF(NOT(D39=\"\"),VLOOKUP(D39,DATA!$J$3:$K$368,2,FALSE),\"\")","v":""},"",null,{"$f":"IF(ISBLANK(BACKEND!D39),\"\",BACKEND!D39)","v":""},null,{"$f":"IF(ISBLANK(BACKEND!F39),\"\",BACKEND!F39)","v":""},null,null,null,null,{"$f":"IF(NOT(ISBLANK(J39)),VLOOKUP(J39,DATA!$V$1:$W$307,2,FALSE),\"\")","v":""},null,""]
[{"$f":" IF(NOT(D40=\"\"),VLOOKUP(D40,DATA!$J$3:$K$368,2,FALSE),\"\")","v":""},"",null,{"$f":"IF(ISBLANK(BACKEND!D40),\"\",BACKEND!D40)","v":""},null,{"$f":"IF(ISBLANK(BACKEND!F40),\"\",BACKEND!F40)","v":""},null,null,null,null,{"$f":"IF(NOT(ISBLANK(J40)),VLOOKUP(J40,DATA!$V$1:$W$307,2,FALSE),\"\")","v":""},null,""]
[{"$f":" IF(NOT(D41=\"\"),VLOOKUP(D41,DATA!$J$3:$K$368,2,FALSE),\"\")","v":""},"",null,{"$f":"IF(ISBLANK(BACKEND!D41),\"\",BACKEND!D41)","v":""},null,{"$f":"IF(ISBLANK(BACKEND!F41),\"\",BACKEND!F41)","v":""},null,null,null,null,{"$f":"IF(NOT(ISBLANK(J41)),VLOOKUP(J41,DATA!$V$1:$W$307,2,FALSE),\"\")","v":""},null,""]
[{"$f":" IF(NOT(D42=\"\"),VLOOKUP(D42,DATA!$J$3:$K$368,2,FALSE),\"\")","v":""},"",null,{"$f":"IF(ISBLANK(BACKEND!D42),\"\",BACKEND!D42)","v":""},null,{"$f":"IF(ISBLANK(BACKEND!F42),\"\",BACKEND!F42)","v":""},null,null,null,null,{"$f":"IF(NOT(ISBLANK(J42)),VLOOKUP(J42,DATA!$V$1:$W$307,2,FALSE),\"\")","v":""},null,""]
[{"$f":" IF(NOT(D43=\"\"),VLOOKUP(D43,DATA!$J$3:$K$368,2,FALSE),\"\")","v":""},"",null,{"$f":"IF(ISBLANK(BACKEND!D43),\"\",BACKEND!D43)","v":""},null,{"$f":"IF(ISBLANK(BACKEND!F43),\"\",BACKEND!F43)","v":""},null,null,null,null,{"$f":"IF(NOT(ISBLANK(J43)),VLOOKUP(J43,DATA!$V$1:$W$307,2,FALSE),\"\")","v":""},null,""]
[{"$f":" IF(NOT(D44=\"\"),VLOOKUP(D44,DATA!$J$3:$K$368,2,FALSE),\"\")","v":""},"",null,{"$f":"IF(ISBLANK(BACKEND!D44),\"\",BACKEND!D44)","v":""},null,{"$f":"IF(ISBLANK(BACKEND!F44),\"\",BACKEND!F44)","v":""},null,null,null,null,{"$f":"IF(NOT(ISBLANK(J44)),VLOOKUP(J44,DATA!$V$1:$W$307,2,FALSE),\"\")","v":""},null,""]
[{"$f":" IF(NOT(D45=\"\"),VLOOKUP(D45,DATA!$J$3:$K$368,2,FALSE),\"\")","v":""},"",null,{"$f":"IF(ISBLANK(BACKEND!D45),\"\",BACKEND!D45)","v":""},null,{"$f":"IF(ISBLANK(BACKEND!F45),\"\",BACKEND!F45)","v":""},null,null,null,null,{"$f":"IF(NOT(ISBLANK(J45)),VLOOKUP(J45,DATA!$V$1:$W$307,2,FALSE),\"\")","v":""},null,""]
[{"$f":" IF(NOT(D46=\"\"),VLOOKUP(D46,DATA!$J$3:$K$368,2,FALSE),\"\")","v":""},"",null,{"$f":"IF(ISBLANK(BACKEND!D46),\"\",BACKEND!D46)","v":""},null,{"$f":"IF(ISBLANK(BACKEND!F46),\"\",BACKEND!F46)","v":""},null,null,null,null,{"$f":"IF(NOT(ISBLANK(J46)),VLOOKUP(J46,DATA!$V$1:$W$307,2,FALSE),\"\")","v":""},null,""]
[{"$f":" IF(NOT(D47=\"\"),VLOOKUP(D47,DATA!$J$3:$K$368,2,FALSE),\"\")","v":""},"",null,{"$f":"IF(ISBLANK(BACKEND!D47),\"\",BACKEND!D47)","v":""},null,{"$f":"IF(ISBLANK(BACKEND!F47),\"\",BACKEND!F47)","v":""},null,null,null,null,{"$f":"IF(NOT(ISBLANK(J47)),VLOOKUP(J47,DATA!$V$1:$W$307,2,FALSE),\"\")","v":""},null,""]
[{"$f":" IF(NOT(D48=\"\"),VLOOKUP(D48,DATA!$J$3:$K$368,2,FALSE),\"\")","v":""},"",null,{"$f":"IF(ISBLANK(BACKEND!D48),\"\",BACKEND!D48)","v":""},null,{"$f":"IF(ISBLANK(BACKEND!F48),\"\",BACKEND!F48)","v":""},null,null,null,null,{"$f":"IF(NOT(ISBLANK(J48)),VLOOKUP(J48,DATA!$V$1:$W$307,2,FALSE),\"\")","v":""},null,""]
[{"$f":" IF(NOT(D49=\"\"),VLOOKUP(D49,DATA!$J$3:$K$368,2,FALSE),\"\")","v":""},"",null,{"$f":"IF(ISBLANK(BACKEND!D49),\"\",BACKEND!D49)","v":""},null,{"$f":"IF(ISBLANK(BACKEND!F49),\"\",BACKEND!F49)","v":""},null,null,null,null,{"$f":"IF(NOT(ISBLANK(J49)),VLOOKUP(J49,DATA!$V$1:$W$307,2,FALSE),\"\")","v":""},null,""]
[{"$f":" IF(NOT(D50=\"\"),VLOOKUP(D50,DATA!$J$3:$K$368,2,FALSE),\"\")","v":""},"",null,{"$f":"IF(ISBLANK(BACKEND!D50),\"\",BACKEND!D50)","v":""},null,{"$f":"IF(ISBLANK(BACKEND!F50),\"\",BACKEND!F50)","v":""},null,null,null,null,{"$f":"IF(NOT(ISBLANK(J50)),VLOOKUP(J50,DATA!$V$1:$W$307,2,FALSE),\"\")","v":""},null,""]
[{"$f":" IF(NOT(D51=\"\"),VLOOKUP(D51,DATA!$J$3:$K$368,2,FALSE),\"\")","v":""},"",null,{"$f":"IF(ISBLANK(BACKEND!D51),\"\",BACKEND!D51)","v":""},null,{"$f":"IF(ISBLANK(BACKEND!F51),\"\",BACKEND!F51)","v":""},null,null,null,null,{"$f":"IF(NOT(ISBLANK(J51)),VLOOKUP(J51,DATA!$V$1:$W$307,2,FALSE),\"\")","v":""},null,""]
[{"$f":" IF(NOT(D52=\"\"),VLOOKUP(D52,DATA!$J$3:$K$368,2,FALSE),\"\")","v":""},"",null,{"$f":"IF(ISBLANK(BACKEND!D52),\"\",BACKEND!D52)","v":""},null,{"$f":"IF(ISBLANK(BACKEND!F52),\"\",BACKEND!F52)","v":""},null,null,null,null,{"$f":"IF(NOT(ISBLANK(J52)),VLOOKUP(J52,DATA!$V$1:$W$307,2,FALSE),\"\")","v":""},null,""]
[{"$f":" IF(NOT(D53=\"\"),VLOOKUP(D53,DATA!$J$3:$K$368,2,FALSE),\"\")","v":""},"",null,{"$f":"IF(ISBLANK(BACKEND!D53),\"\",BACKEND!D53)","v":""},null,{"$f":"IF(ISBLANK(BACKEND!F53),\"\",BACKEND!F53)","v":""},null,null,null,null,{"$f":"IF(NOT(ISBLANK(J53)),VLOOKUP(J53,DATA!$V$1:$W$307,2,FALSE),\"\")","v":""},null,""]
[{"$f":" IF(NOT(D54=\"\"),VLOOKUP(D54,DATA!$J$3:$K$368,2,FALSE),\"\")","v":""},"",null,{"$f":"IF(ISBLANK(BACKEND!D54),\"\",BACKEND!D54)","v":""},null,{"$f":"IF(ISBLANK(BACKEND!F54),\"\",BACKEND!F54)","v":""},null,null,null,null,{"$f":"IF(NOT(ISBLANK(J54)),VLOOKUP(J54,DATA!$V$1:$W$307,2,FALSE),\"\")","v":""},null,""]
[{"$f":" IF(NOT(D55=\"\"),VLOOKUP(D55,DATA!$J$3:$K$368,2,FALSE),\"\")","v":""},"",null,{"$f":"IF(ISBLANK(BACKEND!D55),\"\",BACKEND!D55)","v":""},null,{"$f":"IF(ISBLANK(BACKEND!F55),\"\",BACKEND!F55)","v":""},null,null,null,null,{"$f":"IF(NOT(ISBLANK(J55)),VLOOKUP(J55,DATA!$V$1:$W$307,2,FALSE),\"\")","v":""},null,""]
[{"$f":" IF(NOT(D56=\"\"),VLOOKUP(D56,DATA!$J$3:$K$368,2,FALSE),\"\")","v":""},"",null,{"$f":"IF(ISBLANK(BACKEND!D56),\"\",BACKEND!D56)","v":""},null,{"$f":"IF(ISBLANK(BACKEND!F56),\"\",BACKEND!F56)","v":""},null,null,null,null,{"$f":"IF(NOT(ISBLANK(J56)),VLOOKUP(J56,DATA!$V$1:$W$307,2,FALSE),\"\")","v":""},null,""]
[{"$f":" IF(NOT(D57=\"\"),VLOOKUP(D57,DATA!$J$3:$K$368,2,FALSE),\"\")","v":""},"",null,{"$f":"IF(ISBLANK(BACKEND!D57),\"\",BACKEND!D57)","v":""},null,{"$f":"IF(ISBLANK(BACKEND!F57),\"\",BACKEND!F57)","v":""},null,null,null,null,{"$f":"IF(NOT(ISBLANK(J57)),VLOOKUP(J57,DATA!$V$1:$W$307,2,FALSE),\"\")","v":""},null,""]
[{"$f":" IF(NOT(D58=\"\"),VLOOKUP(D58,DATA!$J$3:$K$368,2,FALSE),\"\")","v":""},"",null,{"$f":"IF(ISBLANK(BACKEND!D58),\"\",BACKEND!D58)","v":""},null,{"$f":"IF(ISBLANK(BACKEND!F58),\"\",BACKEND!F58)","v":""},null,null,null,null,{"$f":"IF(NOT(ISBLANK(J58)),VLOOKUP(J58,DATA!$V$1:$W$307,2,FALSE),\"\")","v":""},null,""]
[{"$f":" IF(NOT(D59=\"\"),VLOOKUP(D59,DATA!$J$3:$K$368,2,FALSE),\"\")","v":""},"",null,{"$f":"IF(ISBLANK(BACKEND!D59),\"\",BACKEND!D59)","v":""},null,{"$f":"IF(ISBLANK(BACKEND!F59),\"\",BACKEND!F59)","v":""},null,null,null,null,{"$f":"IF(NOT(ISBLANK(J59)),VLOOKUP(J59,DATA!$V$1:$W$307,2,FALSE),\"\")","v":""},null,""]
[{"$f":" IF(NOT(D60=\"\"),VLOOKUP(D60,DATA!$J$3:$K$368,2,FALSE),\"\")","v":""},"",null,{"$f":"IF(ISBLANK(BACKEND!D60),\"\",BACKEND!D60)","v":""},null,{"$f":"IF(ISBLANK(BACKEND!F60),\"\",BACKEND!F60)","v":""},null,null,null,null,{"$f":"IF(NOT(ISBLANK(J60)),VLOOKUP(J60,DATA!$V$1:$W$307,2,FALSE),\"\")","v":""},null,""]
[{"$f":" IF(NOT(D61=\"\"),VLOOKUP(D61,DATA!$J$3:$K$368,2,FALSE),\"\")","v":""},"",null,{"$f":"IF(ISBLANK(BACKEND!D61),\"\",BACKEND!D61)","v":""},null,{"$f":"IF(ISBLANK(BACKEND!F61),\"\",BACKEND!F61)","v":""},null,null,null,null,{"$f":"IF(NOT(ISBLANK(J61)),VLOOKUP(J61,DATA!$V$1:$W$307,2,FALSE),\"\")","v":""},null,""]
[{"$f":" IF(NOT(D62=\"\"),VLOOKUP(D62,DATA!$J$3:$K$368,2,FALSE),\"\")","v":""},"",null,{"$f":"IF(ISBLANK(BACKEND!D62),\"\",BACKEND!D62)","v":""},null,{"$f":"IF(ISBLANK(BACKEND!F62),\"\",BACKEND!F62)","v":""},null,null,null,null,{"$f":"IF(NOT(ISBLANK(J62)),VLOOKUP(J62,DATA!$V$1:$W$307,2,FALSE),\"\")","v":""},null,""]
[{"$f":" IF(NOT(D63=\"\"),VLOOKUP(D63,DATA!$J$3:$K$368,2,FALSE),\"\")","v":""},"",null,{"$f":"IF(ISBLANK(BACKEND!D63),\"\",BACKEND!D63)","v":""},null,{"$f":"IF(ISBLANK(BACKEND!F63),\"\",BACKEND!F63)","v":""},null,null,null,null,{"$f":"IF(NOT(ISBLANK(J63)),VLOOKUP(J63,DATA!$V$1:$W$307,2,FALSE),\"\")","v":""},null,""]
[{"$f":" IF(NOT(D64=\"\"),VLOOKUP(D64,DATA!$J$3:$K$368,2,FALSE),\"\")","v":""},"",null,{"$f":"IF(ISBLANK(BACKEND!D64),\"\",BACKEND!D64)","v":""},null,{"$f":"IF(ISBLANK(BACKEND!F64),\"\",BACKEND!F64)","v":""},null,null,null,null,{"$f":"IF(NOT(ISBLANK(J64)),VLOOKUP(J64,DATA!$V$1:$W$307,2,FALSE),\"\")","v":""},null,""]
[{"$f":" IF(NOT(D65=\"\"),VLOOKUP(D65,DATA!$J$3:$K$368,2,FALSE),\"\")","v":""},"",null,{"$f":"IF(ISBLANK(BACKEND!D65),\"\",BACKEND!D65)","v":""},null,{"$f":"IF(ISBLANK(BACKEND!F65),\"\",BACKEND!F65)","v":""},null,null,null,null,{"$f":"IF(NOT(ISBLANK(J65)),VLOOKUP(J65,DATA!$V$1:$W$307,2,FALSE),\"\")","v":""},null,""]
[{"$f":" IF(NOT(D66=\"\"),VLOOKUP(D66,DATA!$J$3:$K$368,2,FALSE),\"\")","v":""},"",null,{"$f":"IF(ISBLANK(BACKEND!D66),\"\",BACKEND!D66)","v":""},null,{"$f":"IF(ISBLANK(BACKEND!F66),\"\",BACKEND!F66)","v":""},null,null,null,null,{"$f":"IF(NOT(ISBLANK(J66)),VLOOKUP(J66,DATA!$V$1:$W$307,2,FALSE),\"\")","v":""},null,""]
[{"$f":" IF(NOT(D67=\"\"),VLOOKUP(D67,DATA!$J$3:$K$368,2,FALSE),\"\")","v":""},"",null,{"$f":"IF(ISBLANK(BACKEND!D67),\"\",BACKEND!D67)","v":""},null,{"$f":"IF(ISBLANK(BACKEND!F67),\"\",BACKEND!F67)","v":""},null,null,null,null,{"$f":"IF(NOT(ISBLANK(J67)),VLOOKUP(J67,DATA!$V$1:$W$307,2,FALSE),\"\")","v":""},null,""]
[{"$f":" IF(NOT(D68=\"\"),VLOOKUP(D68,DATA!$J$3:$K$368,2,FALSE),\"\")","v":""},"",null,{"$f":"IF(ISBLANK(BACKEND!D68),\"\",BACKEND!D68)","v":""},null,{"$f":"IF(ISBLANK(BACKEND!F68),\"\",BACKEND!F68)","v":""},null,null,null,null,{"$f":"IF(NOT(ISBLANK(J68)),VLOOKUP(J68,DATA!$V$1:$W$307,2,FALSE),\"\")","v":""},null,""]
[{"$f":" IF(NOT(D69=\"\"),VLOOKUP(D69,DATA!$J$3:$K$368,2,FALSE),\"\")","v":""},"",null,{"$f":"IF(ISBLANK(BACKEND!D69),\"\",BACKEND!D69)","v":""},null,{"$f":"IF(ISBLANK(BACKEND!F69),\"\",BACKEND!F69)","v":""},null,null,null,null,{"$f":"IF(NOT(ISBLANK(J69)),VLOOKUP(J69,DATA!$V$1:$W$307,2,FALSE),\"\")","v":""},null,""]
[{"$f":" IF(NOT(D70=\"\"),VLOOKUP(D70,DATA!$J$3:$K$368,2,FALSE),\"\")","v":""},"",null,{"$f":"IF(ISBLANK(BACKEND!D70),\"\",BACKEND!D70)","v":""},null,{"$f":"IF(ISBLANK(BACKEND!F70),\"\",BACKEND!F70)","v":""},null,null,null,null,{"$f":"IF(NOT(ISBLANK(J70)),VLOOKUP(J70,DATA!$V$1:$W$307,2,FALSE),\"\")","v":""},null,""]
[{"$f":" IF(NOT(D71=\"\"),VLOOKUP(D71,DATA!$J$3:$K$368,2,FALSE),\"\")","v":""},"",null,{"$f":"IF(ISBLANK(BACKEND!D71),\"\",BACKEND!D71)","v":""},null,{"$f":"IF(ISBLANK(BACKEND!F71),\"\",BACKEND!F71)","v":""},null,null,null,null,{"$f":"IF(NOT(ISBLANK(J71)),VLOOKUP(J71,DATA!$V$1:$W$307,2,FALSE),\"\")","v":""},null,""]
[{"$f":" IF(NOT(D72=\"\"),VLOOKUP(D72,DATA!$J$3:$K$368,2,FALSE),\"\")","v":""},"",null,{"$f":"IF(ISBLANK(BACKEND!D72),\"\",BACKEND!D72)","v":""},null,{"$f":"IF(ISBLANK(BACKEND!F72),\"\",BACKEND!F72)","v":""},null,null,null,null,{"$f":"IF(NOT(ISBLANK(J72)),VLOOKUP(J72,DATA!$V$1:$W$307,2,FALSE),\"\")","v":""},null,""]
[{"$f":" IF(NOT(D73=\"\"),VLOOKUP(D73,DATA!$J$3:$K$368,2,FALSE),\"\")","v":""},"",null,{"$f":"IF(ISBLANK(BACKEND!D73),\"\",BACKEND!D73)","v":""},null,{"$f":"IF(ISBLANK(BACKEND!F73),\"\",BACKEND!F73)","v":""},null,null,null,null,{"$f":"IF(NOT(ISBLANK(J73)),VLOOKUP(J73,DATA!$V$1:$W$307,2,FALSE),\"\")","v":""},null,""]
[{"$f":" IF(NOT(D74=\"\"),VLOOKUP(D74,DATA!$J$3:$K$368,2,FALSE),\"\")","v":""},{"$f":"IF(NOT(D74=\"\"),\"PANAMA\",\"\")","v":""},null,{"$f":"IF(ISBLANK(BACKEND!D74),\"\",BACKEND!D74)","v":""},null,{"$f":"IF(ISBLANK(BACKEND!F74),\"\",BACKEND!F74)","v":""},null,null,null,null,{"$f":"IF(NOT(ISBLANK(J74)),VLOOKUP(J74,DATA!$V$1:$W$307,2,FALSE),\"\")","v":""},null,{"$f":"IF(ISBLANK(L74),\"\",IF(L74=\"SÍ\",\"NO\",\"SÍ\"))","v":""}]
[{"$f":" IF(NOT(D75=\"\"),VLOOKUP(D75,DATA!$J$3:$K$368,2,FALSE),\"\")","v":""},"",null,{"$f":"IF(ISBLANK(BACKEND!D75),\"\",BACKEND!D75)","v":""},null,{"$f":"IF(ISBLANK(BACKEND!F75),\"\",BACKEND!F75)","v":""},null,null,null,null,{"$f":"IF(NOT(ISBLANK(J75)),VLOOKUP(J75,DATA!$V$1:$W$307,2,FALSE),\"\")","v":""},null,""]
[{"$f":" IF(NOT(D76=\"\"),VLOOKUP(D76,DATA!$J$3:$K$368,2,FALSE),\"\")","v":""},"",null,{"$f":"IF(ISBLANK(BACKEND!D76),\"\",BACKEND!D76)","v":""},null,{"$f":"IF(ISBLANK(BACKEND!F76),\"\",BACKEND!F76)","v":""},null,null,null,null,{"$f":"IF(NOT(ISBLANK(J76)),VLOOKUP(J76,DATA!$V$1:$W$307,2,FALSE),\"\")","v":""},null,""]
[{"$f":" IF(NOT(D77=\"\"),VLOOKUP(D77,DATA!$J$3:$K$368,2,FALSE),\"\")","v":""},"",null,{"$f":"IF(ISBLANK(BACKEND!D77),\"\",BACKEND!D77)","v":""},null,{"$f":"IF(ISBLANK(BACKEND!F77),\"\",BACKEND!F77)","v":""},null,null,null,null,{"$f":"IF(NOT(ISBLANK(J77)),VLOOKUP(J77,DATA!$V$1:$W$307,2,FALSE),\"\")","v":""},null,""]
[{"$f":" IF(NOT(D78=\"\"),VLOOKUP(D78,DATA!$J$3:$K$368,2,FALSE),\"\")","v":""},"",null,{"$f":"IF(ISBLANK(BACKEND!D78),\"\",BACKEND!D78)","v":""},null,{"$f":"IF(ISBLANK(BACKEND!F78),\"\",BACKEND!F78)","v":""},null,null,null,null,{"$f":"IF(NOT(ISBLANK(J78)),VLOOKUP(J78,DATA!$V$1:$W$307,2,FALSE),\"\")","v":""},null,""]
[{"$f":" IF(NOT(D79=\"\"),VLOOKUP(D79,DATA!$J$3:$K$368,2,FALSE),\"\")","v":""},"",null,{"$f":"IF(ISBLANK(BACKEND!D79),\"\",BACKEND!D79)","v":""},null,{"$f":"IF(ISBLANK(BACKEND!F79),\"\",BACKEND!F79)","v":""},null,null,null,null,{"$f":"IF(NOT(ISBLANK(J79)),VLOOKUP(J79,DATA!$V$1:$W$307,2,FALSE),\"\")","v":""},null,""]
[{"$f":" IF(NOT(D80=\"\"),VLOOKUP(D80,DATA!$J$3:$K$368,2,FALSE),\"\")","v":""},"",null,{"$f":"IF(ISBLANK(BACKEND!D80),\"\",BACKEND!D80)","v":""},null,{"$f":"IF(ISBLANK(BACKEND!F80),\"\",BACKEND!F80)","v":""},null,null,null,null,{"$f":"IF(NOT(ISBLANK(J80)),VLOOKUP(J80,DATA!$V$1:$W$307,2,FALSE),\"\")","v":""},null,""]
[{"$f":" IF(NOT(D81=\"\"),VLOOKUP(D81,DATA!$J$3:$K$368,2,FALSE),\"\")","v":""},"",null,{"$f":"IF(ISBLANK(BACKEND!D81),\"\",BACKEND!D81)","v":""},null,{"$f":"IF(ISBLANK(BACKEND!F81),\"\",BACKEND!F81)","v":""},null,null,null,null,{"$f":"IF(NOT(ISBLANK(J81)),VLOOKUP(J81,DATA!$V$1:$W$307,2,FALSE),\"\")","v":""},null,""]
[{"$f":" IF(NOT(D82=\"\"),VLOOKUP(D82,DATA!$J$3:$K$368,2,FALSE),\"\")","v":""},"",null,{"$f":"IF(ISBLANK(BACKEND!D82),\"\",BACKEND!D82)","v":""},null,{"$f":"IF(ISBLANK(BACKEND!F82),\"\",BACKEND!F82)","v":""},null,null,null,null,{"$f":"IF(NOT(ISBLANK(J82)),VLOOKUP(J82,DATA!$V$1:$W$307,2,FALSE),\"\")","v":""},null,""]
[{"$f":" IF(NOT(D83=\"\"),VLOOKUP(D83,DATA!$J$3:$K$368,2,FALSE),\"\")","v":""},"",null,{"$f":"IF(ISBLANK(BACKEND!D83),\"\",BACKEND!D83)","v":""},null,{"$f":"IF(ISBLANK(BACKEND!F83),\"\",BACKEND!F83)","v":""},null,null,null,null,{"$f":"IF(NOT(ISBLANK(J83)),VLOOKUP(J83,DATA!$V$1:$W$307,2,FALSE),\"\")","v":""},null,""]
[{"$f":" IF(NOT(D84=\"\"),VLOOKUP(D84,DATA!$J$3:$K$368,2,FALSE),\"\")","v":""},"",null,{"$f":"IF(ISBLANK(BACKEND!D84),\"\",BACKEND!D84)","v":""},null,{"$f":"IF(ISBLANK(BACKEND!F84),\"\",BACKEND!F84)","v":""},null,null,null,null,{"$f":"IF(NOT(ISBLANK(J84)),VLOOKUP(J84,DATA!$V$1:$W$307,2,FALSE),\"\")","v":""},null,""]
[{"$f":" IF(NOT(D85=\"\"),VLOOKUP(D85,DATA!$J$3:$K$368,2,FALSE),\"\")","v":""},"",null,{"$f":"IF(ISBLANK(BACKEND!D85),\"\",BACKEND!D85)","v":""},null,{"$f":"IF(ISBLANK(BACKEND!F85),\"\",BACKEND!F85)","v":""},null,null,null,null,{"$f":"IF(NOT(ISBLANK(J85)),VLOOKUP(J85,DATA!$V$1:$W$307,2,FALSE),\"\")","v":""},null,""]
[{"$f":" IF(NOT(D86=\"\"),VLOOKUP(D86,DATA!$J$3:$K$368,2,FALSE),\"\")","v":""},"",null,{"$f":"IF(ISBLANK(BACKEND!D86),\"\",BACKEND!D86)","v":""},null,{"$f":"IF(ISBLANK(BACKEND!F86),\"\",BACKEND!F86)","v":""},null,null,null,null,{"$f":"IF(NOT(ISBLANK(J86)),VLOOKUP(J86,DATA!$V$1:$W$307,2,FALSE),\"\")","v":""},null,""]
[{"$f":" IF(NOT(D87=\"\"),VLOOKUP(D87,DATA!$J$3:$K$368,2,FALSE),\"\")","v":""},"",null,{"$f":"IF(ISBLANK(BACKEND!D87),\"\",BACKEND!D87)","v":""},null,{"$f":"IF(ISBLANK(BACKEND!F87),\"\",BACKEND!F87)","v":""},null,null,null,null,{"$f":"IF(NOT(ISBLANK(J87)),VLOOKUP(J87,DATA!$V$1:$W$307,2,FALSE),\"\")","v":""},null,""]
[{"$f":" IF(NOT(D88=\"\"),VLOOKUP(D88,DATA!$J$3:$K$368,2,FALSE),\"\")","v":""},"",null,{"$f":"IF(ISBLANK(BACKEND!D88),\"\",BACKEND!D88)","v":""},null,{"$f":"IF(ISBLANK(BACKEND!F88),\"\",BACKEND!F88)","v":""},null,null,null,null,{"$f":"IF(NOT(ISBLANK(J88)),VLOOKUP(J88,DATA!$V$1:$W$307,2,FALSE),\"\")","v":""},null,""]
[{"$f":" IF(NOT(D89=\"\"),VLOOKUP(D89,DATA!$J$3:$K$368,2,FALSE),\"\")","v":""},"",null,{"$f":"IF(ISBLANK(BACKEND!D89),\"\",BACKEND!D89)","v":""},null,{"$f":"IF(ISBLANK(BACKEND!F89),\"\",BACKEND!F89)","v":""},null,null,null,null,{"$f":"IF(NOT(ISBLANK(J89)),VLOOKUP(J89,DATA!$V$1:$W$307,2,FALSE),\"\")","v":""},null,""]
[{"$f":" IF(NOT(D90=\"\"),VLOOKUP(D90,DATA!$J$3:$K$368,2,FALSE),\"\")","v":""},"",null,{"$f":"IF(ISBLANK(BACKEND!D90),\"\",BACKEND!D90)","v":""},null,{"$f":"IF(ISBLANK(BACKEND!F90),\"\",BACKEND!F90)","v":""},null,null,null,null,{"$f":"IF(NOT(ISBLANK(J90)),VLOOKUP(J90,DATA!$V$1:$W$307,2,FALSE),\"\")","v":""},null,""]
[{"$f":" IF(NOT(D91=\"\"),VLOOKUP(D91,DATA!$J$3:$K$368,2,FALSE),\"\")","v":""},"",null,{"$f":"IF(ISBLANK(BACKEND!D91),\"\",BACKEND!D91)","v":""},null,{"$f":"IF(ISBLANK(BACKEND!F91),\"\",BACKEND!F91)","v":""},null,null,null,null,{"$f":"IF(NOT(ISBLANK(J91)),VLOOKUP(J91,DATA!$V$1:$W$307,2,FALSE),\"\")","v":""},null,""]
[{"$f":" IF(NOT(D92=\"\"),VLOOKUP(D92,DATA!$J$3:$K$368,2,FALSE),\"\")","v":""},"",null,{"$f":"IF(ISBLANK(BACKEND!D92),\"\",BACKEND!D92)","v":""},null,{"$f":"IF(ISBLANK(BACKEND!F92),\"\",BACKEND!F92)","v":""},null,null,null,null,{"$f":"IF(NOT(ISBLANK(J92)),VLOOKUP(J92,DATA!$V$1:$W$307,2,FALSE),\"\")","v":""},null,""]
[{"$f":" IF(NOT(D93=\"\"),VLOOKUP(D93,DATA!$J$3:$K$368,2,FALSE),\"\")","v":""},"",null,{"$f":"IF(ISBLANK(BACKEND!D93),\"\",BACKEND!D93)","v":""},null,{"$f":"IF(ISBLANK(BACKEND!F93),\"\",BACKEND!F93)","v":""},null,null,null,null,{"$f":"IF(NOT(ISBLANK(J93)),VLOOKUP(J93,DATA!$V$1:$W$307,2,FALSE),\"\")","v":""},null,""]
[{"$f":" IF(NOT(D94=\"\"),VLOOKUP(D94,DATA!$J$3:$K$368,2,FALSE),\"\")","v":""},"",null,{"$f":"IF(ISBLANK(BACKEND!D94),\"\",BACKEND!D94)","v":""},null,{"$f":"IF(ISBLANK(BACKEND!F94),\"\",BACKEND!F94)","v":""},null,null,null,null,{"$f":"IF(NOT(ISBLANK(J94)),VLOOKUP(J94,DATA!$V$1:$W$307,2,FALSE),\"\")","v":""},null,""]
[{"$f":" IF(NOT(D95=\"\"),VLOOKUP(D95,DATA!$J$3:$K$368,2,FALSE),\"\")","v":""},"",null,{"$f":"IF(ISBLANK(BACKEND!D95),\"\",BACKEND!D95)","v":""},null,{"$f":"IF(ISBLANK(BACKEND!F95),\"\",BACKEND!F95)","v":""},null,null,null,null,{"$f":"IF(NOT(ISBLANK(J95)),VLOOKUP(J95,DATA!$V$1:$W$307,2,FALSE),\"\")","v":""},null,""]
[{"$f":" IF(NOT(D96=\"\"),VLOOKUP(D96,DATA!$J$3:$K$368,2,FALSE),\"\")","v":""},"",null,{"$f":"IF(ISBLANK(BACKEND!D96),\"\",BACKEND!D96)","v":""},null,{"$f":"IF(ISBLANK(BACKEND!F96),\"\",BACKEND!F96)","v":""},null,null,null,null,{"$f":"IF(NOT(ISBLANK(J96)),VLOOKUP(J96,DATA!$V$1:$W$307,2,FALSE),\"\")","v":""},null,""]
[{"$f":" IF(NOT(D97=\"\"),VLOOKUP(D97,DATA!$J$3:$K$368,2,FALSE),\"\")","v":""},"",null,{"$f":"IF(ISBLANK(BACKEND!D97),\"\",BACKEND!D97)","v":""},null,{"$f":"IF(ISBLANK(BACKEND!F97),\"\",BACKEND!F97)","v":""},null,null,null,null,{"$f":"IF(NOT(ISBLANK(J97)),VLOOKUP(J97,DATA!$V$1:$W$307,2,FALSE),\"\")","v":""},null,""]
[{"$f":" IF(NOT(D98=\"\"),VLOOKUP(D98,DATA!$J$3:$K$368,2,FALSE),\"\")","v":""},"",null,{"$f":"IF(ISBLANK(BACKEND!D98),\"\",BACKEND!D98)","v":""},null,{"$f":"IF(ISBLANK(BACKEND!F98),\"\",BACKEND!F98)","v":""},null,null,null,null,{"$f":"IF(NOT(ISBLANK(J98)),VLOOKUP(J98,DATA!$V$1:$W$307,2,FALSE),\"\")","v":""},null,""]
[{"$f":" IF(NOT(D99=\"\"),VLOOKUP(D99,DATA!$J$3:$K$368,2,FALSE),\"\")","v":""},"",null,{"$f":"IF(ISBLANK(BACKEND!D99),\"\",BACKEND!D99)","v":""},null,{"$f":"IF(ISBLANK(BACKEND!F99),\"\",BACKEND!F99)","v":""},null,null,null,null,{"$f":"IF(NOT(ISBLANK(J99)),VLOOKUP(J99,DATA!$V$1:$W$307,2,FALSE),\"\")","v":""},null,""]
[{"$f":" IF(NOT(D100=\"\"),VLOOKUP(D100,DATA!$J$3:$K$368,2,FALSE),\"\")","v":""},"",null,{"$f":"IF(ISBLANK(BACKEND!D100),\"\",BACKEND!D100)","v":""},null,{"$f":"IF(ISBLANK(BACKEND!F100),\"\",BACKEND!F100)","v":""},null,null,null,null,{"$f":"IF(NOT(ISBLANK(J100)),VLOOKUP(J100,DATA!$V$1:$W$307,2,FALSE),\"\")","v":""},null,""]
[{"$f":" IF(NOT(D101=\"\"),VLOOKUP(D101,DATA!$J$3:$K$368,2,FALSE),\"\")","v":""},"",null,{"$f":"IF(ISBLANK(BACKEND!D101),\"\",BACKEND!D101)","v":""},null,{"$f":"IF(ISBLANK(BACKEND!F101),\"\",BACKEND!F101)","v":""},null,null,null,null,{"$f":"IF(NOT(ISBLANK(J101)),VLOOKUP(J101,DATA!$V$1:$W$307,2,FALSE),\"\")","v":""},null,""]
[{"$f":" IF(NOT(D102=\"\"),VLOOKUP(D102,DATA!$J$3:$K$368,2,FALSE),\"\")","v":""},"",null,{"$f":"IF(ISBLANK(BACKEND!D102),\"\",BACKEND!D102)","v":""},null,{"$f":"IF(ISBLANK(BACKEND!F102),\"\",BACKEND!F102)","v":""},null,null,null,null,{"$f":"IF(NOT(ISBLANK(J102)),VLOOKUP(J102,DATA!$V$1:$W$307,2,FALSE),\"\")","v":""},null,""]
[{"$f":" IF(NOT(D103=\"\"),VLOOKUP(D103,DATA!$J$3:$K$368,2,FALSE),\"\")","v":""},"",null,{"$f":"IF(ISBLANK(BACKEND!D103),\"\",BACKEND!D103)","v":""},null,{"$f":"IF(ISBLANK(BACKEND!F103),\"\",BACKEND!F103)","v":""},null,null,null,null,{"$f":"IF(NOT(ISBLANK(J103)),VLOOKUP(J103,DATA!$V$1:$W$307,2,FALSE),\"\")","v":""},null,""]
[{"$f":" IF(NOT(D104=\"\"),VLOOKUP(D104,DATA!$J$3:$K$368,2,FALSE),\"\")","v":""},"",null,{"$f":"IF(ISBLANK(BACKEND!D104),\"\",BACKEND!D104)","v":""},null,{"$f":"IF(ISBLANK(BACKEND!F104),\"\",BACKEND!F104)","v":""},null,null,null,null,{"$f":"IF(NOT(ISBLANK(J104)),VLOOKUP(J104,DATA!$V$1:$W$307,2,FALSE),\"\")","v":""},null,""]
[{"$f":" IF(NOT(D105=\"\"),VLOOKUP(D105,DATA!$J$3:$K$368,2,FALSE),\"\")","v":""},"",null,{"$f":"IF(ISBLANK(BACKEND!D105),\"\",BACKEND!D105)","v":""},null,{"$f":"IF(ISBLANK(BACKEND!F105),\"\",BACKEND!F105)","v":""},null,null,null,null,{"$f":"IF(NOT(ISBLANK(J105)),VLOOKUP(J105,DATA!$V$1:$W$307,2,FALSE),\"\")","v":""},null,""]
[{"$f":" IF(NOT(D106=\"\"),VLOOKUP(D106,DATA!$J$3:$K$368,2,FALSE),\"\")","v":""},"",null,{"$f":"IF(ISBLANK(BACKEND!D106),\"\",BACKEND!D106)","v":""},null,{"$f":"IF(ISBLANK(BACKEND!F106),\"\",BACKEND!F106)","v":""},null,null,null,null,{"$f":"IF(NOT(ISBLANK(J106)),VLOOKUP(J106,DATA!$V$1:$W$307,2,FALSE),\"\")","v":""},null,""]
[{"$f":" IF(NOT(D107=\"\"),VLOOKUP(D107,DATA!$J$3:$K$368,2,FALSE),\"\")","v":""},"",null,{"$f":"IF(ISBLANK(BACKEND!D107),\"\",BACKEND!D107)","v":""},null,{"$f":"IF(ISBLANK(BACKEND!F107),\"\",BACKEND!F107)","v":""},null,null,null,null,{"$f":"IF(NOT(ISBLANK(J107)),VLOOKUP(J107,DATA!$V$1:$W$307,2,FALSE),\"\")","v":""},null,""]
[{"$f":" IF(NOT(D108=\"\"),VLOOKUP(D108,DATA!$J$3:$K$368,2,FALSE),\"\")","v":""},"",null,{"$f":"IF(ISBLANK(BACKEND!D108),\"\",BACKEND!D108)","v":""},null,{"$f":"IF(ISBLANK(BACKEND!F108),\"\",BACKEND!F108)","v":""},null,null,null,null,{"$f":"IF(NOT(ISBLANK(J108)),VLOOKUP(J108,DATA!$V$1:$W$307,2,FALSE),\"\")","v":""},null,""]
[{"$f":" IF(NOT(D109=\"\"),VLOOKUP(D109,DATA!$J$3:$K$368,2,FALSE),\"\")","v":""},"",null,{"$f":"IF(ISBLANK(BACKEND!D109),\"\",BACKEND!D109)","v":""},null,{"$f":"IF(ISBLANK(BACKEND!F109),\"\",BACKEND!F109)","v":""},null,null,null,null,{"$f":"IF(NOT(ISBLANK(J109)),VLOOKUP(J109,DATA!$V$1:$W$307,2,FALSE),\"\")","v":""},null,""]
[{"$f":" IF(NOT(D110=\"\"),VLOOKUP(D110,DATA!$J$3:$K$368,2,FALSE),\"\")","v":""},"",null,{"$f":"IF(ISBLANK(BACKEND!D110),\"\",BACKEND!D110)","v":""},null,{"$f":"IF(ISBLANK(BACKEND!F110),\"\",BACKEND!F110)","v":""},null,null,null,null,{"$f":"IF(NOT(ISBLANK(J110)),VLOOKUP(J110,DATA!$V$1:$W$307,2,FALSE),\"\")","v":""},null,""]
[{"$f":" IF(NOT(D111=\"\"),VLOOKUP(D111,DATA!$J$3:$K$368,2,FALSE),\"\")","v":""},"",null,{"$f":"IF(ISBLANK(BACKEND!D111),\"\",BACKEND!D111)","v":""},null,{"$f":"IF(ISBLANK(BACKEND!F111),\"\",BACKEND!F111)","v":""},null,null,null,null,{"$f":"IF(NOT(ISBLANK(J111)),VLOOKUP(J111,DATA!$V$1:$W$307,2,FALSE),\"\")","v":""},null,""]
[{"$f":" IF(NOT(D112=\"\"),VLOOKUP(D112,DATA!$J$3:$K$368,2,FALSE),\"\")","v":""},"",null,{"$f":"IF(ISBLANK(BACKEND!D112),\"\",BACKEND!D112)","v":""},null,{"$f":"IF(ISBLANK(BACKEND!F112),\"\",BACKEND!F112)","v":""},null,null,null,null,{"$f":"IF(NOT(ISBLANK(J112)),VLOOKUP(J112,DATA!$V$1:$W$307,2,FALSE),\"\")","v":""},null,""]
[{"$f":" IF(NOT(D113=\"\"),VLOOKUP(D113,DATA!$J$3:$K$368,2,FALSE),\"\")","v":""},"",null,{"$f":"IF(ISBLANK(BACKEND!D113),\"\",BACKEND!D113)","v":""},null,{"$f":"IF(ISBLANK(BACKEND!F113),\"\",BACKEND!F113)","v":""},null,null,null,null,{"$f":"IF(NOT(ISBLANK(J113)),VLOOKUP(J113,DATA!$V$1:$W$307,2,FALSE),\"\")","v":""},null,""]
[{"$f":" IF(NOT(D114=\"\"),VLOOKUP(D114,DATA!$J$3:$K$368,2,FALSE),\"\")","v":""},"",null,{"$f":"IF(ISBLANK(BACKEND!D114),\"\",BACKEND!D114)","v":""},null,{"$f":"IF(ISBLANK(BACKEND!F114),\"\",BACKEND!F114)","v":""},null,null,null,null,{"$f":"IF(NOT(ISBLANK(J114)),VLOOKUP(J114,DATA!$V$1:$W$307,2,FALSE),\"\")","v":""},null,""]
[{"$f":" IF(NOT(D115=\"\"),VLOOKUP(D115,DATA!$J$3:$K$368,2,FALSE),\"\")","v":""},"",null,{"$f":"IF(ISBLANK(BACKEND!D115),\"\",BACKEND!D115)","v":""},null,{"$f":"IF(ISBLANK(BACKEND!F115),\"\",BACKEND!F115)","v":""},null,null,null,null,{"$f":"IF(NOT(ISBLANK(J115)),VLOOKUP(J115,DATA!$V$1:$W$307,2,FALSE),\"\")","v":""},null,""]
[{"$f":" IF(NOT(D116=\"\"),VLOOKUP(D116,DATA!$J$3:$K$368,2,FALSE),\"\")","v":""},"",null,{"$f":"IF(ISBLANK(BACKEND!D116),\"\",BACKEND!D116)","v":""},null,{"$f":"IF(ISBLANK(BACKEND!F116),\"\",BACKEND!F116)","v":""},null,null,null,null,{"$f":"IF(NOT(ISBLANK(J116)),VLOOKUP(J116,DATA!$V$1:$W$307,2,FALSE),\"\")","v":""},null,""]
[{"$f":" IF(NOT(D117=\"\"),VLOOKUP(D117,DATA!$J$3:$K$368,2,FALSE),\"\")","v":""},"",null,{"$f":"IF(ISBLANK(BACKEND!D117),\"\",BACKEND!D117)","v":""},null,{"$f":"IF(ISBLANK(BACKEND!F117),\"\",BACKEND!F117)","v":""},null,null,null,null,{"$f":"IF(NOT(ISBLANK(J117)),VLOOKUP(J117,DATA!$V$1:$W$307,2,FALSE),\"\")","v":""},null,""]
[{"$f":" IF(NOT(D118=\"\"),VLOOKUP(D118,DATA!$J$3:$K$368,2,FALSE),\"\")","v":""},"",null,{"$f":"IF(ISBLANK(BACKEND!D118),\"\",BACKEND!D118)","v":""},null,{"$f":"IF(ISBLANK(BACKEND!F118),\"\",BACKEND!F118)","v":""},null,null,null,null,{"$f":"IF(NOT(ISBLANK(J118)),VLOOKUP(J118,DATA!$V$1:$W$307,2,FALSE),\"\")","v":""},null,""]
[{"$f":" IF(NOT(D119=\"\"),VLOOKUP(D119,DATA!$J$3:$K$368,2,FALSE),\"\")","v":""},"",null,{"$f":"IF(ISBLANK(BACKEND!D119),\"\",BACKEND!D119)","v":""},null,{"$f":"IF(ISBLANK(BACKEND!F119),\"\",BACKEND!F119)","v":""},null,null,null,null,{"$f":"IF(NOT(ISBLANK(J119)),VLOOKUP(J119,DATA!$V$1:$W$307,2,FALSE),\"\")","v":""},null,""]
[{"$f":" IF(NOT(D120=\"\"),VLOOKUP(D120,DATA!$J$3:$K$368,2,FALSE),\"\")","v":""},"",null,{"$f":"IF(ISBLANK(BACKEND!D120),\"\",BACKEND!D120)","v":""},null,{"$f":"IF(ISBLANK(BACKEND!F120),\"\",BACKEND!F120)","v":""},null,null,null,null,{"$f":"IF(NOT(ISBLANK(J120)),VLOOKUP(J120,DATA!$V$1:$W$307,2,FALSE),\"\")","v":""},null,""]
[{"$f":" IF(NOT(D121=\"\"),VLOOKUP(D121,DATA!$J$3:$K$368,2,FALSE),\"\")","v":""},"",null,{"$f":"IF(ISBLANK(BACKEND!D121),\"\",BACKEND!D121)","v":""},null,{"$f":"IF(ISBLANK(BACKEND!F121),\"\",BACKEND!F121)","v":""},null,null,null,null,{"$f":"IF(NOT(ISBLANK(J121)),VLOOKUP(J121,DATA!$V$1:$W$307,2,FALSE),\"\")","v":""},null,""]
[{"$f":" IF(NOT(D122=\"\"),VLOOKUP(D122,DATA!$J$3:$K$368,2,FALSE),\"\")","v":""},"",null,{"$f":"IF(ISBLANK(BACKEND!D122),\"\",BACKEND!D122)","v":""},null,{"$f":"IF(ISBLANK(BACKEND!F122),\"\",BACKEND!F122)","v":""},null,null,null,null,{"$f":"IF(NOT(ISBLANK(J122)),VLOOKUP(J122,DATA!$V$1:$W$307,2,FALSE),\"\")","v":""},null,""]
[{"$f":" IF(NOT(D123=\"\"),VLOOKUP(D123,DATA!$J$3:$K$368,2,FALSE),\"\")","v":""},"",null,{"$f":"IF(ISBLANK(BACKEND!D123),\"\",BACKEND!D123)","v":""},null,{"$f":"IF(ISBLANK(BACKEND!F123),\"\",BACKEND!F123)","v":""},null,null,null,null,{"$f":"IF(NOT(ISBLANK(J123)),VLOOKUP(J123,DATA!$V$1:$W$307,2,FALSE),\"\")","v":""},null,""]
[{"$f":" IF(NOT(D124=\"\"),VLOOKUP(D124,DATA!$J$3:$K$368,2,FALSE),\"\")","v":""},"",null,{"$f":"IF(ISBLANK(BACKEND!D124),\"\",BACKEND!D124)","v":""},null,{"$f":"IF(ISBLANK(BACKEND!F124),\"\",BACKEND!F124)","v":""},null,null,null,null,{"$f":"IF(NOT(ISBLANK(J124)),VLOOKUP(J124,DATA!$V$1:$W$307,2,FALSE),\"\")","v":""},null,""]
[{"$f":" IF(NOT(D125=\"\"),VLOOKUP(D125,DATA!$J$3:$K$368,2,FALSE),\"\")","v":""},"",null,{"$f":"IF(ISBLANK(BACKEND!D125),\"\",BACKEND!D125)","v":""},null,{"$f":"IF(ISBLANK(BACKEND!F125),\"\",BACKEND!F125)","v":""},null,null,null,null,{"$f":"IF(NOT(ISBLANK(J125)),VLOOKUP(J125,DATA!$V$1:$W$307,2,FALSE),\"\")","v":""},null,""]
[{"$f":" IF(NOT(D126=\"\"),VLOOKUP(D126,DATA!$J$3:$K$368,2,FALSE),\"\")","v":""},"",null,{"$f":"IF(ISBLANK(BACKEND!D126),\"\",BACKEND!D126)","v":""},null,{"$f":"IF(ISBLANK(BACKEND!F126),\"\",BACKEND!F126)","v":""},null,null,null,null,{"$f":"IF(NOT(ISBLANK(J126)),VLOOKUP(J126,DATA!$V$1:$W$307,2,FALSE),\"\")","v":""},null,""]
[{"$f":" IF(NOT(D127=\"\"),VLOOKUP(D127,DATA!$J$3:$K$368,2,FALSE),\"\")","v":""},"",null,{"$f":"IF(ISBLANK(BACKEND!D127),\"\",BACKEND!D127)","v":""},null,{"$f":"IF(ISBLANK(BACKEND!F127),\"\",BACKEND!F127)","v":""},null,null,null,null,{"$f":"IF(NOT(ISBLANK(J127)),VLOOKUP(J127,DATA!$V$1:$W$307,2,FALSE),\"\")","v":""},null,""]
[{"$f":" IF(NOT(D128=\"\"),VLOOKUP(D128,DATA!$J$3:$K$368,2,FALSE),\"\")","v":""},"",null,{"$f":"IF(ISBLANK(BACKEND!D128),\"\",BACKEND!D128)","v":""},null,{"$f":"IF(ISBLANK(BACKEND!F128),\"\",BACKEND!F128)","v":""},null,null,null,null,{"$f":"IF(NOT(ISBLANK(J128)),VLOOKUP(J128,DATA!$V$1:$W$307,2,FALSE),\"\")","v":""},null,""]
[{"$f":" IF(NOT(D129=\"\"),VLOOKUP(D129,DATA!$J$3:$K$368,2,FALSE),\"\")","v":""},"",null,{"$f":"IF(ISBLANK(BACKEND!D129),\"\",BACKEND!D129)","v":""},null,{"$f":"IF(ISBLANK(BACKEND!F129),\"\",BACKEND!F129)","v":""},null,null,null,null,{"$f":"IF(NOT(ISBLANK(J129)),VLOOKUP(J129,DATA!$V$1:$W$307,2,FALSE),\"\")","v":""},null,""]
[{"$f":" IF(NOT(D130=\"\"),VLOOKUP(D130,DATA!$J$3:$K$368,2,FALSE),\"\")","v":""},"",null,{"$f":"IF(ISBLANK(BACKEND!D130),\"\",BACKEND!D130)","v":""},null,{"$f":"IF(ISBLANK(BACKEND!F130),\"\",BACKEND!F130)","v":""},null,null,null,null,{"$f":"IF(NOT(ISBLANK(J130)),VLOOKUP(J130,DATA!$V$1:$W$307,2,FALSE),\"\")","v":""},null,""]
[{"$f":" IF(NOT(D131=\"\"),VLOOKUP(D131,DATA!$J$3:$K$368,2,FALSE),\"\")","v":""},"",null,{"$f":"IF(ISBLANK(BACKEND!D131),\"\",BACKEND!D131)","v":""},null,{"$f":"IF(ISBLANK(BACKEND!F131),\"\",BACKEND!F131)","v":""},null,null,null,null,{"$f":"IF(NOT(ISBLANK(J131)),VLOOKUP(J131,DATA!$V$1:$W$307,2,FALSE),\"\")","v":""},null,""]
[{"$f":" IF(NOT(D132=\"\"),VLOOKUP(D132,DATA!$J$3:$K$368,2,FALSE),\"\")","v":""},"",null,{"$f":"IF(ISBLANK(BACKEND!D132),\"\",BACKEND!D132)","v":""},null,{"$f":"IF(ISBLANK(BACKEND!F132),\"\",BACKEND!F132)","v":""},null,null,null,null,{"$f":"IF(NOT(ISBLANK(J132)),VLOOKUP(J132,DATA!$V$1:$W$307,2,FALSE),\"\")","v":""},null,""]
[{"$f":" IF(NOT(D133=\"\"),VLOOKUP(D133,DATA!$J$3:$K$368,2,FALSE),\"\")","v":""},"",null,{"$f":"IF(ISBLANK(BACKEND!D133),\"\",BACKEND!D133)","v":""},null,{"$f":"IF(ISBLANK(BACKEND!F133),\"\",BACKEND!F133)","v":""},null,null,null,null,{"$f":"IF(NOT(ISBLANK(J133)),VLOOKUP(J133,DATA!$V$1:$W$307,2,FALSE),\"\")","v":""},null,""]
[{"$f":" IF(NOT(D134=\"\"),VLOOKUP(D134,DATA!$J$3:$K$368,2,FALSE),\"\")","v":""},"",null,{"$f":"IF(ISBLANK(BACKEND!D134),\"\",BACKEND!D134)","v":""},null,{"$f":"IF(ISBLANK(BACKEND!F134),\"\",BACKEND!F134)","v":""},null,null,null,null,{"$f":"IF(NOT(ISBLANK(J134)),VLOOKUP(J134,DATA!$V$1:$W$307,2,FALSE),\"\")","v":""},null,""]
[{"$f":" IF(NOT(D135=\"\"),VLOOKUP(D135,DATA!$J$3:$K$368,2,FALSE),\"\")","v":""},"",null,{"$f":"IF(ISBLANK(BACKEND!D135),\"\",BACKEND!D135)","v":""},null,{"$f":"IF(ISBLANK(BACKEND!F135),\"\",BACKEND!F135)","v":""},null,null,null,null,{"$f":"IF(NOT(ISBLANK(J135)),VLOOKUP(J135,DATA!$V$1:$W$307,2,FALSE),\"\")","v":""},null,""]
[{"$f":" IF(NOT(D136=\"\"),VLOOKUP(D136,DATA!$J$3:$K$368,2,FALSE),\"\")","v":""},"",null,{"$f":"IF(ISBLANK(BACKEND!D136),\"\",BACKEND!D136)","v":""},null,{"$f":"IF(ISBLANK(BACKEND!F136),\"\",BACKEND!F136)","v":""},null,null,null,null,{"$f":"IF(NOT(ISBLANK(J136)),VLOOKUP(J136,DATA!$V$1:$W$307,2,FALSE),\"\")","v":""},null,""]
[{"$f":" IF(NOT(D137=\"\"),VLOOKUP(D137,DATA!$J$3:$K$368,2,FALSE),\"\")","v":""},"",null,{"$f":"IF(ISBLANK(BACKEND!D137),\"\",BACKEND!D137)","v":""},null,{"$f":"IF(ISBLANK(BACKEND!F137),\"\",BACKEND!F137)","v":""},null,null,null,null,{"$f":"IF(NOT(ISBLANK(J137)),VLOOKUP(J137,DATA!$V$1:$W$307,2,FALSE),\"\")","v":""},null,""]
[{"$f":" IF(NOT(D138=\"\"),VLOOKUP(D138,DATA!$J$3:$K$368,2,FALSE),\"\")","v":""},{"$f":"IF(NOT(D138=\"\"),\"PANAMA\",\"\")","v":""},null,{"$f":"IF(ISBLANK(BACKEND!D138),\"\",BACKEND!D138)","v":""},null,{"$f":"IF(ISBLANK(BACKEND!F138),\"\",BACKEND!F138)","v":""},null,null,null,null,{"$f":"IF(NOT(ISBLANK(J138)),VLOOKUP(J138,DATA!$V$1:$W$307,2,FALSE),\"\")","v":""},null,{"$f":"IF(ISBLANK(L138),\"\",IF(L138=\"SÍ\",\"NO\",\"SÍ\"))","v":""}]
[{"$f":" IF(NOT(D139=\"\"),VLOOKUP(D139,DATA!$J$3:$K$368,2,FALSE),\"\")","v":""},"",null,{"$f":"IF(ISBLANK(BACKEND!D139),\"\",BACKEND!D139)","v":""},null,{"$f":"IF(ISBLANK(BACKEND!F139),\"\",BACKEND!F139)","v":""},null,null,null,null,{"$f":"IF(NOT(ISBLANK(J139)),VLOOKUP(J139,DATA!$V$1:$W$307,2,FALSE),\"\")","v":""},null,""]
[{"$f":" IF(NOT(D140=\"\"),VLOOKUP(D140,DATA!$J$3:$K$368,2,FALSE),\"\")","v":""},"",null,{"$f":"IF(ISBLANK(BACKEND!D140),\"\",BACKEND!D140)","v":""},null,{"$f":"IF(ISBLANK(BACKEND!F140),\"\",BACKEND!F140)","v":""},null,null,null,null,{"$f":"IF(NOT(ISBLANK(J140)),VLOOKUP(J140,DATA!$V$1:$W$307,2,FALSE),\"\")","v":""},null,""]
[{"$f":" IF(NOT(D141=\"\"),VLOOKUP(D141,DATA!$J$3:$K$368,2,FALSE),\"\")","v":""},"",null,{"$f":"IF(ISBLANK(BACKEND!D141),\"\",BACKEND!D141)","v":""},null,{"$f":"IF(ISBLANK(BACKEND!F141),\"\",BACKEND!F141)","v":""},null,null,null,null,{"$f":"IF(NOT(ISBLANK(J141)),VLOOKUP(J141,DATA!$V$1:$W$307,2,FALSE),\"\")","v":""},null,""]
[{"$f":" IF(NOT(D142=\"\"),VLOOKUP(D142,DATA!$J$3:$K$368,2,FALSE),\"\")","v":""},"",null,{"$f":"IF(ISBLANK(BACKEND!D142),\"\",BACKEND!D142)","v":""},null,{"$f":"IF(ISBLANK(BACKEND!F142),\"\",BACKEND!F142)","v":""},null,null,null,null,{"$f":"IF(NOT(ISBLANK(J142)),VLOOKUP(J142,DATA!$V$1:$W$307,2,FALSE),\"\")","v":""},null,""]
[{"$f":" IF(NOT(D143=\"\"),VLOOKUP(D143,DATA!$J$3:$K$368,2,FALSE),\"\")","v":""},"",null,{"$f":"IF(ISBLANK(BACKEND!D143),\"\",BACKEND!D143)","v":""},null,{"$f":"IF(ISBLANK(BACKEND!F143),\"\",BACKEND!F143)","v":""},null,null,null,null,{"$f":"IF(NOT(ISBLANK(J143)),VLOOKUP(J143,DATA!$V$1:$W$307,2,FALSE),\"\")","v":""},null,""]
[{"$f":" IF(NOT(D144=\"\"),VLOOKUP(D144,DATA!$J$3:$K$368,2,FALSE),\"\")","v":""},"",null,{"$f":"IF(ISBLANK(BACKEND!D144),\"\",BACKEND!D144)","v":""},null,{"$f":"IF(ISBLANK(BACKEND!F144),\"\",BACKEND!F144)","v":""},null,null,null,null,{"$f":"IF(NOT(ISBLANK(J144)),VLOOKUP(J144,DATA!$V$1:$W$307,2,FALSE),\"\")","v":""},null,""]
[{"$f":" IF(NOT(D145=\"\"),VLOOKUP(D145,DATA!$J$3:$K$368,2,FALSE),\"\")","v":""},"",null,{"$f":"IF(ISBLANK(BACKEND!D145),\"\",BACKEND!D145)","v":""},null,{"$f":"IF(ISBLANK(BACKEND!F145),\"\",BACKEND!F145)","v":""},null,null,null,null,{"$f":"IF(NOT(ISBLANK(J145)),VLOOKUP(J145,DATA!$V$1:$W$307,2,FALSE),\"\")","v":""},null,""]
[{"$f":" IF(NOT(D146=\"\"),VLOOKUP(D146,DATA!$J$3:$K$368,2,FALSE),\"\")","v":""},"",null,{"$f":"IF(ISBLANK(BACKEND!D146),\"\",BACKEND!D146)","v":""},null,{"$f":"IF(ISBLANK(BACKEND!F146),\"\",BACKEND!F146)","v":""},null,null,null,null,{"$f":"IF(NOT(ISBLANK(J146)),VLOOKUP(J146,DATA!$V$1:$W$307,2,FALSE),\"\")","v":""},null,""]
[{"$f":" IF(NOT(D147=\"\"),VLOOKUP(D147,DATA!$J$3:$K$368,2,FALSE),\"\")","v":""},"",null,{"$f":"IF(ISBLANK(BACKEND!D147),\"\",BACKEND!D147)","v":""},null,{"$f":"IF(ISBLANK(BACKEND!F147),\"\",BACKEND!F147)","v":""},null,null,null,null,{"$f":"IF(NOT(ISBLANK(J147)),VLOOKUP(J147,DATA!$V$1:$W$307,2,FALSE),\"\")","v":""},null,""]
[{"$f":" IF(NOT(D148=\"\"),VLOOKUP(D148,DATA!$J$3:$K$368,2,FALSE),\"\")","v":""},"",null,{"$f":"IF(ISBLANK(BACKEND!D148),\"\",BACKEND!D148)","v":""},null,{"$f":"IF(ISBLANK(BACKEND!F148),\"\",BACKEND!F148)","v":""},null,null,null,null,{"$f":"IF(NOT(ISBLANK(J148)),VLOOKUP(J148,DATA!$V$1:$W$307,2,FALSE),\"\")","v":""},null,""]
[{"$f":" IF(NOT(D149=\"\"),VLOOKUP(D149,DATA!$J$3:$K$368,2,FALSE),\"\")","v":""},"",null,{"$f":"IF(ISBLANK(BACKEND!D149),\"\",BACKEND!D149)","v":""},null,{"$f":"IF(ISBLANK(BACKEND!F149),\"\",BACKEND!F149)","v":""},null,null,null,null,{"$f":"IF(NOT(ISBLANK(J149)),VLOOKUP(J149,DATA!$V$1:$W$307,2,FALSE),\"\")","v":""},null,""]
[{"$f":" IF(NOT(D150=\"\"),VLOOKUP(D150,DATA!$J$3:$K$368,2,FALSE),\"\")","v":""},"",null,{"$f":"IF(ISBLANK(BACKEND!D150),\"\",BACKEND!D150)","v":""},null,{"$f":"IF(ISBLANK(BACKEND!F150),\"\",BACKEND!F150)","v":""},null,null,null,null,{"$f":"IF(NOT(ISBLANK(J150)),VLOOKUP(J150,DATA!$V$1:$W$307,2,FALSE),\"\")","v":""},null,""]
[{"$f":" IF(NOT(D151=\"\"),VLOOKUP(D151,DATA!$J$3:$K$368,2,FALSE),\"\")","v":""},"",null,{"$f":"IF(ISBLANK(BACKEND!D151),\"\",BACKEND!D151)","v":""},null,{"$f":"IF(ISBLANK(BACKEND!F151),\"\",BACKEND!F151)","v":""},null,null,null,null,{"$f":"IF(NOT(ISBLANK(J151)),VLOOKUP(J151,DATA!$V$1:$W$307,2,FALSE),\"\")","v":""},null,""]
[{"$f":" IF(NOT(D152=\"\"),VLOOKUP(D152,DATA!$J$3:$K$368,2,FALSE),\"\")","v":""},"",null,{"$f":"IF(ISBLANK(BACKEND!D152),\"\",BACKEND!D152)","v":""},null,{"$f":"IF(ISBLANK(BACKEND!F152),\"\",BACKEND!F152)","v":""},null,null,null,null,{"$f":"IF(NOT(ISBLANK(J152)),VLOOKUP(J152,DATA!$V$1:$W$307,2,FALSE),\"\")","v":""},null,""]
[{"$f":" IF(NOT(D153=\"\"),VLOOKUP(D153,DATA!$J$3:$K$368,2,FALSE),\"\")","v":""},"",null,{"$f":"IF(ISBLANK(BACKEND!D153),\"\",BACKEND!D153)","v":""},null,{"$f":"IF(ISBLANK(BACKEND!F153),\"\",BACKEND!F153)","v":""},null,null,null,null,{"$f":"IF(NOT(ISBLANK(J153)),VLOOKUP(J153,DATA!$V$1:$W$307,2,FALSE),\"\")","v":""},null,""]
[{"$f":" IF(NOT(D154=\"\"),VLOOKUP(D154,DATA!$J$3:$K$368,2,FALSE),\"\")","v":""},"",null,{"$f":"IF(ISBLANK(BACKEND!D154),\"\",BACKEND!D154)","v":""},null,{"$f":"IF(ISBLANK(BACKEND!F154),\"\",BACKEND!F154)","v":""},null,null,null,null,{"$f":"IF(NOT(ISBLANK(J154)),VLOOKUP(J154,DATA!$V$1:$W$307,2,FALSE),\"\")","v":""},null,""]
[{"$f":" IF(NOT(D155=\"\"),VLOOKUP(D155,DATA!$J$3:$K$368,2,FALSE),\"\")","v":""},"",null,{"$f":"IF(ISBLANK(BACKEND!D155),\"\",BACKEND!D155)","v":""},null,{"$f":"IF(ISBLANK(BACKEND!F155),\"\",BACKEND!F155)","v":""},null,null,null,null,{"$f":"IF(NOT(ISBLANK(J155)),VLOOKUP(J155,DATA!$V$1:$W$307,2,FALSE),\"\")","v":""},null,""]
[{"$f":" IF(NOT(D156=\"\"),VLOOKUP(D156,DATA!$J$3:$K$368,2,FALSE),\"\")","v":""},"",null,{"$f":"IF(ISBLANK(BACKEND!D156),\"\",BACKEND!D156)","v":""},null,{"$f":"IF(ISBLANK(BACKEND!F156),\"\",BACKEND!F156)","v":""},null,null,null,null,{"$f":"IF(NOT(ISBLANK(J156)),VLOOKUP(J156,DATA!$V$1:$W$307,2,FALSE),\"\")","v":""},null,""]
[{"$f":" IF(NOT(D157=\"\"),VLOOKUP(D157,DATA!$J$3:$K$368,2,FALSE),\"\")","v":""},"",null,{"$f":"IF(ISBLANK(BACKEND!D157),\"\",BACKEND!D157)","v":""},null,{"$f":"IF(ISBLANK(BACKEND!F157),\"\",BACKEND!F157)","v":""},null,null,null,null,{"$f":"IF(NOT(ISBLANK(J157)),VLOOKUP(J157,DATA!$V$1:$W$307,2,FALSE),\"\")","v":""},null,""]
[{"$f":" IF(NOT(D158=\"\"),VLOOKUP(D158,DATA!$J$3:$K$368,2,FALSE),\"\")","v":""},"",null,{"$f":"IF(ISBLANK(BACKEND!D158),\"\",BACKEND!D158)","v":""},null,{"$f":"IF(ISBLANK(BACKEND!F158),\"\",BACKEND!F158)","v":""},null,null,null,null,{"$f":"IF(NOT(ISBLANK(J158)),VLOOKUP(J158,DATA!$V$1:$W$307,2,FALSE),\"\")","v":""},null,""]
[{"$f":" IF(NOT(D159=\"\"),VLOOKUP(D159,DATA!$J$3:$K$368,2,FALSE),\"\")","v":""},"",null,{"$f":"IF(ISBLANK(BACKEND!D159),\"\",BACKEND!D159)","v":""},null,{"$f":"IF(ISBLANK(BACKEND!F159),\"\",BACKEND!F159)","v":""},null,null,null,null,{"$f":"IF(NOT(ISBLANK(J159)),VLOOKUP(J159,DATA!$V$1:$W$307,2,FALSE),\"\")","v":""},null,""]
[{"$f":" IF(NOT(D160=\"\"),VLOOKUP(D160,DATA!$J$3:$K$368,2,FALSE),\"\")","v":""},"",null,{"$f":"IF(ISBLANK(BACKEND!D160),\"\",BACKEND!D160)","v":""},null,{"$f":"IF(ISBLANK(BACKEND!F160),\"\",BACKEND!F160)","v":""},null,null,null,null,{"$f":"IF(NOT(ISBLANK(J160)),VLOOKUP(J160,DATA!$V$1:$W$307,2,FALSE),\"\")","v":""},null,""]
[{"$f":" IF(NOT(D161=\"\"),VLOOKUP(D161,DATA!$J$3:$K$368,2,FALSE),\"\")","v":""},"",null,{"$f":"IF(ISBLANK(BACKEND!D161),\"\",BACKEND!D161)","v":""},null,{"$f":"IF(ISBLANK(BACKEND!F161),\"\",BACKEND!F161)","v":""},null,null,null,null,{"$f":"IF(NOT(ISBLANK(J161)),VLOOKUP(J161,DATA!$V$1:$W$307,2,FALSE),\"\")","v":""},null,""]
[{"$f":" IF(NOT(D162=\"\"),VLOOKUP(D162,DATA!$J$3:$K$368,2,FALSE),\"\")","v":""},"",null,{"$f":"IF(ISBLANK(BACKEND!D162),\"\",BACKEND!D162)","v":""},null,{"$f":"IF(ISBLANK(BACKEND!F162),\"\",BACKEND!F162)","v":""},null,null,null,null,{"$f":"IF(NOT(ISBLANK(J162)),VLOOKUP(J162,DATA!$V$1:$W$307,2,FALSE),\"\")","v":""},null,""]
[{"$f":" IF(NOT(D163=\"\"),VLOOKUP(D163,DATA!$J$3:$K$368,2,FALSE),\"\")","v":""},"",null,{"$f":"IF(ISBLANK(BACKEND!D163),\"\",BACKEND!D163)","v":""},null,{"$f":"IF(ISBLANK(BACKEND!F163),\"\",BACKEND!F163)","v":""},null,null,null,null,{"$f":"IF(NOT(ISBLANK(J163)),VLOOKUP(J163,DATA!$V$1:$W$307,2,FALSE),\"\")","v":""},null,""]
[{"$f":" IF(NOT(D164=\"\"),VLOOKUP(D164,DATA!$J$3:$K$368,2,FALSE),\"\")","v":""},"",null,{"$f":"IF(ISBLANK(BACKEND!D164),\"\",BACKEND!D164)","v":""},null,{"$f":"IF(ISBLANK(BACKEND!F164),\"\",BACKEND!F164)","v":""},null,null,null,null,{"$f":"IF(NOT(ISBLANK(J164)),VLOOKUP(J164,DATA!$V$1:$W$307,2,FALSE),\"\")","v":""},null,""]
[{"$f":" IF(NOT(D165=\"\"),VLOOKUP(D165,DATA!$J$3:$K$368,2,FALSE),\"\")","v":""},"",null,{"$f":"IF(ISBLANK(BACKEND!D165),\"\",BACKEND!D165)","v":""},null,{"$f":"IF(ISBLANK(BACKEND!F165),\"\",BACKEND!F165)","v":""},null,null,null,null,{"$f":"IF(NOT(ISBLANK(J165)),VLOOKUP(J165,DATA!$V$1:$W$307,2,FALSE),\"\")","v":""},null,""]
[{"$f":" IF(NOT(D166=\"\"),VLOOKUP(D166,DATA!$J$3:$K$368,2,FALSE),\"\")","v":""},"",null,{"$f":"IF(ISBLANK(BACKEND!D166),\"\",BACKEND!D166)","v":""},null,{"$f":"IF(ISBLANK(BACKEND!F166),\"\",BACKEND!F166)","v":""},null,null,null,null,{"$f":"IF(NOT(ISBLANK(J166)),VLOOKUP(J166,DATA!$V$1:$W$307,2,FALSE),\"\")","v":""},null,""]
[{"$f":" IF(NOT(D167=\"\"),VLOOKUP(D167,DATA!$J$3:$K$368,2,FALSE),\"\")","v":""},"",null,{"$f":"IF(ISBLANK(BACKEND!D167),\"\",BACKEND!D167)","v":""},null,{"$f":"IF(ISBLANK(BACKEND!F167),\"\",BACKEND!F167)","v":""},null,null,null,null,{"$f":"IF(NOT(ISBLANK(J167)),VLOOKUP(J167,DATA!$V$1:$W$307,2,FALSE),\"\")","v":""},null,""]
[{"$f":" IF(NOT(D168=\"\"),VLOOKUP(D168,DATA!$J$3:$K$368,2,FALSE),\"\")","v":""},"",null,{"$f":"IF(ISBLANK(BACKEND!D168),\"\",BACKEND!D168)","v":""},null,{"$f":"IF(ISBLANK(BACKEND!F168),\"\",BACKEND!F168)","v":""},null,null,null,null,{"$f":"IF(NOT(ISBLANK(J168)),VLOOKUP(J168,DATA!$V$1:$W$307,2,FALSE),\"\")","v":""},null,""]
[{"$f":" IF(NOT(D169=\"\"),VLOOKUP(D169,DATA!$J$3:$K$368,2,FALSE),\"\")","v":""},"",null,{"$f":"IF(ISBLANK(BACKEND!D169),\"\",BACKEND!D169)","v":""},null,{"$f":"IF(ISBLANK(BACKEND!F169),\"\",BACKEND!F169)","v":""},null,null,null,null,{"$f":"IF(NOT(ISBLANK(J169)),VLOOKUP(J169,DATA!$V$1:$W$307,2,FALSE),\"\")","v":""},null,""]
[{"$f":" IF(NOT(D170=\"\"),VLOOKUP(D170,DATA!$J$3:$K$368,2,FALSE),\"\")","v":""},"",null,{"$f":"IF(ISBLANK(BACKEND!D170),\"\",BACKEND!D170)","v":""},null,{"$f":"IF(ISBLANK(BACKEND!F170),\"\",BACKEND!F170)","v":""},null,null,null,null,{"$f":"IF(NOT(ISBLANK(J170)),VLOOKUP(J170,DATA!$V$1:$W$307,2,FALSE),\"\")","v":""},null,""]
[{"$f":" IF(NOT(D171=\"\"),VLOOKUP(D171,DATA!$J$3:$K$368,2,FALSE),\"\")","v":""},"",null,{"$f":"IF(ISBLANK(BACKEND!D171),\"\",BACKEND!D171)","v":""},null,{"$f":"IF(ISBLANK(BACKEND!F171),\"\",BACKEND!F171)","v":""},null,null,null,null,{"$f":"IF(NOT(ISBLANK(J171)),VLOOKUP(J171,DATA!$V$1:$W$307,2,FALSE),\"\")","v":""},null,""]
[{"$f":" IF(NOT(D172=\"\"),VLOOKUP(D172,DATA!$J$3:$K$368,2,FALSE),\"\")","v":""},"",null,{"$f":"IF(ISBLANK(BACKEND!D172),\"\",BACKEND!D172)","v":""},null,{"$f":"IF(ISBLANK(BACKEND!F172),\"\",BACKEND!F172)","v":""},null,null,null,null,{"$f":"IF(NOT(ISBLANK(J172)),VLOOKUP(J172,DATA!$V$1:$W$307,2,FALSE),\"\")","v":""},null,""]
[{"$f":" IF(NOT(D173=\"\"),VLOOKUP(D173,DATA!$J$3:$K$368,2,FALSE),\"\")","v":""},"",null,{"$f":"IF(ISBLANK(BACKEND!D173),\"\",BACKEND!D173)","v":""},null,{"$f":"IF(ISBLANK(BACKEND!F173),\"\",BACKEND!F173)","v":""},null,null,null,null,{"$f":"IF(NOT(ISBLANK(J173)),VLOOKUP(J173,DATA!$V$1:$W$307,2,FALSE),\"\")","v":""},null,""]
[{"$f":" IF(NOT(D174=\"\"),VLOOKUP(D174,DATA!$J$3:$K$368,2,FALSE),\"\")","v":""},"",null,{"$f":"IF(ISBLANK(BACKEND!D174),\"\",BACKEND!D174)","v":""},null,{"$f":"IF(ISBLANK(BACKEND!F174),\"\",BACKEND!F174)","v":""},null,null,null,null,{"$f":"IF(NOT(ISBLANK(J174)),VLOOKUP(J174,DATA!$V$1:$W$307,2,FALSE),\"\")","v":""},null,""]
[{"$f":" IF(NOT(D175=\"\"),VLOOKUP(D175,DATA!$J$3:$K$368,2,FALSE),\"\")","v":""},"",null,{"$f":"IF(ISBLANK(BACKEND!D175),\"\",BACKEND!D175)","v":""},null,{"$f":"IF(ISBLANK(BACKEND!F175),\"\",BACKEND!F175)","v":""},null,null,null,null,{"$f":"IF(NOT(ISBLANK(J175)),VLOOKUP(J175,DATA!$V$1:$W$307,2,FALSE),\"\")","v":""},null,""]
[{"$f":" IF(NOT(D176=\"\"),VLOOKUP(D176,DATA!$J$3:$K$368,2,FALSE),\"\")","v":""},"",null,{"$f":"IF(ISBLANK(BACKEND!D176),\"\",BACKEND!D176)","v":""},null,{"$f":"IF(ISBLANK(BACKEND!F176),\"\",BACKEND!F176)","v":""},null,null,null,null,{"$f":"IF(NOT(ISBLANK(J176)),VLOOKUP(J176,DATA!$V$1:$W$307,2,FALSE),\"\")","v":""},null,""]
[{"$f":" IF(NOT(D177=\"\"),VLOOKUP(D177,DATA!$J$3:$K$368,2,FALSE),\"\")","v":""},"",null,{"$f":"IF(ISBLANK(BACKEND!D177),\"\",BACKEND!D177)","v":""},null,{"$f":"IF(ISBLANK(BACKEND!F177),\"\",BACKEND!F177)","v":""},null,null,null,null,{"$f":"IF(NOT(ISBLANK(J177)),VLOOKUP(J177,DATA!$V$1:$W$307,2,FALSE),\"\")","v":""},null,""]
[{"$f":" IF(NOT(D178=\"\"),VLOOKUP(D178,DATA!$J$3:$K$368,2,FALSE),\"\")","v":""},"",null,{"$f":"IF(ISBLANK(BACKEND!D178),\"\",BACKEND!D178)","v":""},null,{"$f":"IF(ISBLANK(BACKEND!F178),\"\",BACKEND!F178)","v":""},null,null,null,null,{"$f":"IF(NOT(ISBLANK(J178)),VLOOKUP(J178,DATA!$V$1:$W$307,2,FALSE),\"\")","v":""},null,""]
[{"$f":" IF(NOT(D179=\"\"),VLOOKUP(D179,DATA!$J$3:$K$368,2,FALSE),\"\")","v":""},"",null,{"$f":"IF(ISBLANK(BACKEND!D179),\"\",BACKEND!D179)","v":""},null,{"$f":"IF(ISBLANK(BACKEND!F179),\"\",BACKEND!F179)","v":""},null,null,null,null,{"$f":"IF(NOT(ISBLANK(J179)),VLOOKUP(J179,DATA!$V$1:$W$307,2,FALSE),\"\")","v":""},null,""]
[{"$f":" IF(NOT(D180=\"\"),VLOOKUP(D180,DATA!$J$3:$K$368,2,FALSE),\"\")","v":""},"",null,{"$f":"IF(ISBLANK(BACKEND!D180),\"\",BACKEND!D180)","v":""},null,{"$f":"IF(ISBLANK(BACKEND!F180),\"\",BACKEND!F180)","v":""},null,null,null,null,{"$f":"IF(NOT(ISBLANK(J180)),VLOOKUP(J180,DATA!$V$1:$W$307,2,FALSE),\"\")","v":""},null,""]
[{"$f":" IF(NOT(D181=\"\"),VLOOKUP(D181,DATA!$J$3:$K$368,2,FALSE),\"\")","v":""},"",null,{"$f":"IF(ISBLANK(BACKEND!D181),\"\",BACKEND!D181)","v":""},null,{"$f":"IF(ISBLANK(BACKEND!F181),\"\",BACKEND!F181)","v":""},null,null,null,null,{"$f":"IF(NOT(ISBLANK(J181)),VLOOKUP(J181,DATA!$V$1:$W$307,2,FALSE),\"\")","v":""},null,""]
[{"$f":" IF(NOT(D182=\"\"),VLOOKUP(D182,DATA!$J$3:$K$368,2,FALSE),\"\")","v":""},"",null,{"$f":"IF(ISBLANK(BACKEND!D182),\"\",BACKEND!D182)","v":""},null,{"$f":"IF(ISBLANK(BACKEND!F182),\"\",BACKEND!F182)","v":""},null,null,null,null,{"$f":"IF(NOT(ISBLANK(J182)),VLOOKUP(J182,DATA!$V$1:$W$307,2,FALSE),\"\")","v":""},null,""]
[{"$f":" IF(NOT(D183=\"\"),VLOOKUP(D183,DATA!$J$3:$K$368,2,FALSE),\"\")","v":""},"",null,{"$f":"IF(ISBLANK(BACKEND!D183),\"\",BACKEND!D183)","v":""},null,{"$f":"IF(ISBLANK(BACKEND!F183),\"\",BACKEND!F183)","v":""},null,null,null,null,{"$f":"IF(NOT(ISBLANK(J183)),VLOOKUP(J183,DATA!$V$1:$W$307,2,FALSE),\"\")","v":""},null,""]
[{"$f":" IF(NOT(D184=\"\"),VLOOKUP(D184,DATA!$J$3:$K$368,2,FALSE),\"\")","v":""},"",null,{"$f":"IF(ISBLANK(BACKEND!D184),\"\",BACKEND!D184)","v":""},null,{"$f":"IF(ISBLANK(BACKEND!F184),\"\",BACKEND!F184)","v":""},null,null,null,null,{"$f":"IF(NOT(ISBLANK(J184)),VLOOKUP(J184,DATA!$V$1:$W$307,2,FALSE),\"\")","v":""},null,""]
[{"$f":" IF(NOT(D185=\"\"),VLOOKUP(D185,DATA!$J$3:$K$368,2,FALSE),\"\")","v":""},"",null,{"$f":"IF(ISBLANK(BACKEND!D185),\"\",BACKEND!D185)","v":""},null,{"$f":"IF(ISBLANK(BACKEND!F185),\"\",BACKEND!F185)","v":""},null,null,null,null,{"$f":"IF(NOT(ISBLANK(J185)),VLOOKUP(J185,DATA!$V$1:$W$307,2,FALSE),\"\")","v":""},null,""]
[{"$f":" IF(NOT(D186=\"\"),VLOOKUP(D186,DATA!$J$3:$K$368,2,FALSE),\"\")","v":""},"",null,{"$f":"IF(ISBLANK(BACKEND!D186),\"\",BACKEND!D186)","v":""},null,{"$f":"IF(ISBLANK(BACKEND!F186),\"\",BACKEND!F186)","v":""},null,null,null,null,{"$f":"IF(NOT(ISBLANK(J186)),VLOOKUP(J186,DATA!$V$1:$W$307,2,FALSE),\"\")","v":""},null,""]
[{"$f":" IF(NOT(D187=\"\"),VLOOKUP(D187,DATA!$J$3:$K$368,2,FALSE),\"\")","v":""},"",null,{"$f":"IF(ISBLANK(BACKEND!D187),\"\",BACKEND!D187)","v":""},null,{"$f":"IF(ISBLANK(BACKEND!F187),\"\",BACKEND!F187)","v":""},null,null,null,null,{"$f":"IF(NOT(ISBLANK(J187)),VLOOKUP(J187,DATA!$V$1:$W$307,2,FALSE),\"\")","v":""},null,""]
[{"$f":" IF(NOT(D188=\"\"),VLOOKUP(D188,DATA!$J$3:$K$368,2,FALSE),\"\")","v":""},"",null,{"$f":"IF(ISBLANK(BACKEND!D188),\"\",BACKEND!D188)","v":""},null,{"$f":"IF(ISBLANK(BACKEND!F188),\"\",BACKEND!F188)","v":""},null,null,null,null,{"$f":"IF(NOT(ISBLANK(J188)),VLOOKUP(J188,DATA!$V$1:$W$307,2,FALSE),\"\")","v":""},null,""]
[{"$f":" IF(NOT(D189=\"\"),VLOOKUP(D189,DATA!$J$3:$K$368,2,FALSE),\"\")","v":""},"",null,{"$f":"IF(ISBLANK(BACKEND!D189),\"\",BACKEND!D189)","v":""},null,{"$f":"IF(ISBLANK(BACKEND!F189),\"\",BACKEND!F189)","v":""},null,null,null,null,{"$f":"IF(NOT(ISBLANK(J189)),VLOOKUP(J189,DATA!$V$1:$W$307,2,FALSE),\"\")","v":""},null,""]
[{"$f":" IF(NOT(D190=\"\"),VLOOKUP(D190,DATA!$J$3:$K$368,2,FALSE),\"\")","v":""},"",null,{"$f":"IF(ISBLANK(BACKEND!D190),\"\",BACKEND!D190)","v":""},null,{"$f":"IF(ISBLANK(BACKEND!F190),\"\",BACKEND!F190)","v":""},null,null,null,null,{"$f":"IF(NOT(ISBLANK(J190)),VLOOKUP(J190,DATA!$V$1:$W$307,2,FALSE),\"\")","v":""},null,""]
[{"$f":" IF(NOT(D191=\"\"),VLOOKUP(D191,DATA!$J$3:$K$368,2,FALSE),\"\")","v":""},"",null,{"$f":"IF(ISBLANK(BACKEND!D191),\"\",BACKEND!D191)","v":""},null,{"$f":"IF(ISBLANK(BACKEND!F191),\"\",BACKEND!F191)","v":""},null,null,null,null,{"$f":"IF(NOT(ISBLANK(J191)),VLOOKUP(J191,DATA!$V$1:$W$307,2,FALSE),\"\")","v":""},null,""]
[{"$f":" IF(NOT(D192=\"\"),VLOOKUP(D192,DATA!$J$3:$K$368,2,FALSE),\"\")","v":""},"",null,{"$f":"IF(ISBLANK(BACKEND!D192),\"\",BACKEND!D192)","v":""},null,{"$f":"IF(ISBLANK(BACKEND!F192),\"\",BACKEND!F192)","v":""},null,null,null,null,{"$f":"IF(NOT(ISBLANK(J192)),VLOOKUP(J192,DATA!$V$1:$W$307,2,FALSE),\"\")","v":""},null,""]
[{"$f":" IF(NOT(D193=\"\"),VLOOKUP(D193,DATA!$J$3:$K$368,2,FALSE),\"\")","v":""},"",null,{"$f":"IF(ISBLANK(BACKEND!D193),\"\",BACKEND!D193)","v":""},null,{"$f":"IF(ISBLANK(BACKEND!F193),\"\",BACKEND!F193)","v":""},null,null,null,null,{"$f":"IF(NOT(ISBLANK(J193)),VLOOKUP(J193,DATA!$V$1:$W$307,2,FALSE),\"\")","v":""},null,""]
[{"$f":" IF(NOT(D194=\"\"),VLOOKUP(D194,DATA!$J$3:$K$368,2,FALSE),\"\")","v":""},"",null,{"$f":"IF(ISBLANK(BACKEND!D194),\"\",BACKEND!D194)","v":""},null,{"$f":"IF(ISBLANK(BACKEND!F194),\"\",BACKEND!F194)","v":""},null,null,null,null,{"$f":"IF(NOT(ISBLANK(J194)),VLOOKUP(J194,DATA!$V$1:$W$307,2,FALSE),\"\")","v":""},null,""]
[{"$f":" IF(NOT(D195=\"\"),VLOOKUP(D195,DATA!$J$3:$K$368,2,FALSE),\"\")","v":""},"",null,{"$f":"IF(ISBLANK(BACKEND!D195),\"\",BACKEND!D195)","v":""},null,{"$f":"IF(ISBLANK(BACKEND!F195),\"\",BACKEND!F195)","v":""},null,null,null,null,{"$f":"IF(NOT(ISBLANK(J195)),VLOOKUP(J195,DATA!$V$1:$W$307,2,FALSE),\"\")","v":""},null,""]
[{"$f":" IF(NOT(D196=\"\"),VLOOKUP(D196,DATA!$J$3:$K$368,2,FALSE),\"\")","v":""},"",null,{"$f":"IF(ISBLANK(BACKEND!D196),\"\",BACKEND!D196)","v":""},null,{"$f":"IF(ISBLANK(BACKEND!F196),\"\",BACKEND!F196)","v":""},null,null,null,null,{"$f":"IF(NOT(ISBLANK(J196)),VLOOKUP(J196,DATA!$V$1:$W$307,2,FALSE),\"\")","v":""},null,""]
[{"$f":" IF(NOT(D197=\"\"),VLOOKUP(D197,DATA!$J$3:$K$368,2,FALSE),\"\")","v":""},"",null,{"$f":"IF(ISBLANK(BACKEND!D197),\"\",BACKEND!D197)","v":""},null,{"$f":"IF(ISBLANK(BACKEND!F197),\"\",BACKEND!F197)","v":""},null,null,null,null,{"$f":"IF(NOT(ISBLANK(J197)),VLOOKUP(J197,DATA!$V$1:$W$307,2,FALSE),\"\")","v":""},null,""]
[{"$f":" IF(NOT(D198=\"\"),VLOOKUP(D198,DATA!$J$3:$K$368,2,FALSE),\"\")","v":""},"",null,{"$f":"IF(ISBLANK(BACKEND!D198),\"\",BACKEND!D198)","v":""},null,{"$f":"IF(ISBLANK(BACKEND!F198),\"\",BACKEND!F198)","v":""},null,null,null,null,{"$f":"IF(NOT(ISBLANK(J198)),VLOOKUP(J198,DATA!$V$1:$W$307,2,FALSE),\"\")","v":""},null,""]
[{"$f":" IF(NOT(D199=\"\"),VLOOKUP(D199,DATA!$J$3:$K$368,2,FALSE),\"\")","v":""},"",null,{"$f":"IF(ISBLANK(BACKEND!D199),\"\",BACKEND!D199)","v":""},null,{"$f":"IF(ISBLANK(BACKEND!F199),\"\",BACKEND!F199)","v":""},null,null,null,null,{"$f":"IF(NOT(ISBLANK(J199)),VLOOKUP(J199,DATA!$V$1:$W$307,2,FALSE),\"\")","v":""},null,""]
[{"$f":" IF(NOT(D200=\"\"),VLOOKUP(D200,DATA!$J$3:$K$368,2,FALSE),\"\")","v":""},"",null,{"$f":"IF(ISBLANK(BACKEND!D200),\"\",BACKEND!D200)","v":""},null,{"$f":"IF(ISBLANK(BACKEND!F200),\"\",BACKEND!F200)","v":""},null,null,null,null,{"$f":"IF(NOT(ISBLANK(J200)),VLOOKUP(J200,DATA!$V$1:$W$307,2,FALSE),\"\")","v":""},null,""]
[{"$f":" IF(NOT(D201=\"\"),VLOOKUP(D201,DATA!$J$3:$K$368,2,FALSE),\"\")","v":""},"",null,{"$f":"IF(ISBLANK(BACKEND!D201),\"\",BACKEND!D201)","v":""},null,{"$f":"IF(ISBLANK(BACKEND!F201),\"\",BACKEND!F201)","v":""},null,null,null,null,{"$f":"IF(NOT(ISBLANK(J201)),VLOOKUP(J201,DATA!$V$1:$W$307,2,FALSE),\"\")","v":""},null,""]
[{"$f":" IF(NOT(D202=\"\"),VLOOKUP(D202,DATA!$J$3:$K$368,2,FALSE),\"\")","v":""},{"$f":"IF(NOT(D202=\"\"),\"PANAMA\",\"\")","v":""},null,{"$f":"IF(ISBLANK(BACKEND!D202),\"\",BACKEND!D202)","v":""},null,{"$f":"IF(ISBLANK(BACKEND!F202),\"\",BACKEND!F202)","v":""},null,null,null,null,{"$f":"IF(NOT(ISBLANK(J202)),VLOOKUP(J202,DATA!$V$1:$W$307,2,FALSE),\"\")","v":""},null,{"$f":"IF(ISBLANK(L202),\"\",IF(L202=\"SÍ\",\"NO\",\"SÍ\"))","v":""}]
[{"$f":" IF(NOT(D203=\"\"),VLOOKUP(D203,DATA!$J$3:$K$368,2,FALSE),\"\")","v":""},"",null,{"$f":"IF(ISBLANK(BACKEND!D203),\"\",BACKEND!D203)","v":""},null,{"$f":"IF(ISBLANK(BACKEND!F203),\"\",BACKEND!F203)","v":""},null,null,null,null,{"$f":"IF(NOT(ISBLANK(J203)),VLOOKUP(J203,DATA!$V$1:$W$307,2,FALSE),\"\")","v":""},null,""]
[{"$f":" IF(NOT(D204=\"\"),VLOOKUP(D204,DATA!$J$3:$K$368,2,FALSE),\"\")","v":""},"",null,{"$f":"IF(ISBLANK(BACKEND!D204),\"\",BACKEND!D204)","v":""},null,{"$f":"IF(ISBLANK(BACKEND!F204),\"\",BACKEND!F204)","v":""},null,null,null,null,{"$f":"IF(NOT(ISBLANK(J204)),VLOOKUP(J204,DATA!$V$1:$W$307,2,FALSE),\"\")","v":""},null,""]
[{"$f":" IF(NOT(D205=\"\"),VLOOKUP(D205,DATA!$J$3:$K$368,2,FALSE),\"\")","v":""},"",null,{"$f":"IF(ISBLANK(BACKEND!D205),\"\",BACKEND!D205)","v":""},null,{"$f":"IF(ISBLANK(BACKEND!F205),\"\",BACKEND!F205)","v":""},null,null,null,null,{"$f":"IF(NOT(ISBLANK(J205)),VLOOKUP(J205,DATA!$V$1:$W$307,2,FALSE),\"\")","v":""},null,""]
[{"$f":" IF(NOT(D206=\"\"),VLOOKUP(D206,DATA!$J$3:$K$368,2,FALSE),\"\")","v":""},"",null,{"$f":"IF(ISBLANK(BACKEND!D206),\"\",BACKEND!D206)","v":""},null,{"$f":"IF(ISBLANK(BACKEND!F206),\"\",BACKEND!F206)","v":""},null,null,null,null,{"$f":"IF(NOT(ISBLANK(J206)),VLOOKUP(J206,DATA!$V$1:$W$307,2,FALSE),\"\")","v":""},null,""]
[{"$f":" IF(NOT(D207=\"\"),VLOOKUP(D207,DATA!$J$3:$K$368,2,FALSE),\"\")","v":""},"",null,{"$f":"IF(ISBLANK(BACKEND!D207),\"\",BACKEND!D207)","v":""},null,{"$f":"IF(ISBLANK(BACKEND!F207),\"\",BACKEND!F207)","v":""},null,null,null,null,{"$f":"IF(NOT(ISBLANK(J207)),VLOOKUP(J207,DATA!$V$1:$W$307,2,FALSE),\"\")","v":""},null,""]
[{"$f":" IF(NOT(D208=\"\"),VLOOKUP(D208,DATA!$J$3:$K$368,2,FALSE),\"\")","v":""},"",null,{"$f":"IF(ISBLANK(BACKEND!D208),\"\",BACKEND!D208)","v":""},null,{"$f":"IF(ISBLANK(BACKEND!F208),\"\",BACKEND!F208)","v":""},null,null,null,null,{"$f":"IF(NOT(ISBLANK(J208)),VLOOKUP(J208,DATA!$V$1:$W$307,2,FALSE),\"\")","v":""},null,""]
[{"$f":" IF(NOT(D209=\"\"),VLOOKUP(D209,DATA!$J$3:$K$368,2,FALSE),\"\")","v":""},"",null,{"$f":"IF(ISBLANK(BACKEND!D209),\"\",BACKEND!D209)","v":""},null,{"$f":"IF(ISBLANK(BACKEND!F209),\"\",BACKEND!F209)","v":""},null,null,null,null,{"$f":"IF(NOT(ISBLANK(J209)),VLOOKUP(J209,DATA!$V$1:$W$307,2,FALSE),\"\")","v":""},null,""]
[{"$f":" IF(NOT(D210=\"\"),VLOOKUP(D210,DATA!$J$3:$K$368,2,FALSE),\"\")","v":""},"",null,{"$f":"IF(ISBLANK(BACKEND!D210),\"\",BACKEND!D210)","v":""},null,{"$f":"IF(ISBLANK(BACKEND!F210),\"\",BACKEND!F210)","v":""},null,null,null,null,{"$f":"IF(NOT(ISBLANK(J210)),VLOOKUP(J210,DATA!$V$1:$W$307,2,FALSE),\"\")","v":""},null,""]
[{"$f":" IF(NOT(D211=\"\"),VLOOKUP(D211,DATA!$J$3:$K$368,2,FALSE),\"\")","v":""},"",null,{"$f":"IF(ISBLANK(BACKEND!D211),\"\",BACKEND!D211)","v":""},null,{"$f":"IF(ISBLANK(BACKEND!F211),\"\",BACKEND!F211)","v":""},null,null,null,null,{"$f":"IF(NOT(ISBLANK(J211)),VLOOKUP(J211,DATA!$V$1:$W$307,2,FALSE),\"\")","v":""},null,""]
[{"$f":" IF(NOT(D212=\"\"),VLOOKUP(D212,DATA!$J$3:$K$368,2,FALSE),\"\")","v":""},"",null,{"$f":"IF(ISBLANK(BACKEND!D212),\"\",BACKEND!D212)","v":""},null,{"$f":"IF(ISBLANK(BACKEND!F212),\"\",BACKEND!F212)","v":""},null,null,null,null,{"$f":"IF(NOT(ISBLANK(J212)),VLOOKUP(J212,DATA!$V$1:$W$307,2,FALSE),\"\")","v":""},null,""]
[{"$f":" IF(NOT(D213=\"\"),VLOOKUP(D213,DATA!$J$3:$K$368,2,FALSE),\"\")","v":""},"",null,{"$f":"IF(ISBLANK(BACKEND!D213),\"\",BACKEND!D213)","v":""},null,{"$f":"IF(ISBLANK(BACKEND!F213),\"\",BACKEND!F213)","v":""},null,null,null,null,{"$f":"IF(NOT(ISBLANK(J213)),VLOOKUP(J213,DATA!$V$1:$W$307,2,FALSE),\"\")","v":""},null,""]
[{"$f":" IF(NOT(D214=\"\"),VLOOKUP(D214,DATA!$J$3:$K$368,2,FALSE),\"\")","v":""},"",null,{"$f":"IF(ISBLANK(BACKEND!D214),\"\",BACKEND!D214)","v":""},null,{"$f":"IF(ISBLANK(BACKEND!F214),\"\",BACKEND!F214)","v":""},null,null,null,null,{"$f":"IF(NOT(ISBLANK(J214)),VLOOKUP(J214,DATA!$V$1:$W$307,2,FALSE),\"\")","v":""},null,""]
[{"$f":" IF(NOT(D215=\"\"),VLOOKUP(D215,DATA!$J$3:$K$368,2,FALSE),\"\")","v":""},"",null,{"$f":"IF(ISBLANK(BACKEND!D215),\"\",BACKEND!D215)","v":""},null,{"$f":"IF(ISBLANK(BACKEND!F215),\"\",BACKEND!F215)","v":""},null,null,null,null,{"$f":"IF(NOT(ISBLANK(J215)),VLOOKUP(J215,DATA!$V$1:$W$307,2,FALSE),\"\")","v":""},null,""]
[{"$f":" IF(NOT(D216=\"\"),VLOOKUP(D216,DATA!$J$3:$K$368,2,FALSE),\"\")","v":""},"",null,{"$f":"IF(ISBLANK(BACKEND!D216),\"\",BACKEND!D216)","v":""},null,{"$f":"IF(ISBLANK(BACKEND!F216),\"\",BACKEND!F216)","v":""},null,null,null,null,{"$f":"IF(NOT(ISBLANK(J216)),VLOOKUP(J216,DATA!$V$1:$W$307,2,FALSE),\"\")","v":""},null,""]
[{"$f":" IF(NOT(D217=\"\"),VLOOKUP(D217,DATA!$J$3:$K$368,2,FALSE),\"\")","v":""},"",null,{"$f":"IF(ISBLANK(BACKEND!D217),\"\",BACKEND!D217)","v":""},null,{"$f":"IF(ISBLANK(BACKEND!F217),\"\",BACKEND!F217)","v":""},null,null,null,null,{"$f":"IF(NOT(ISBLANK(J217)),VLOOKUP(J217,DATA!$V$1:$W$307,2,FALSE),\"\")","v":""},null,""]
[{"$f":" IF(NOT(D218=\"\"),VLOOKUP(D218,DATA!$J$3:$K$368,2,FALSE),\"\")","v":""},"",null,{"$f":"IF(ISBLANK(BACKEND!D218),\"\",BACKEND!D218)","v":""},null,{"$f":"IF(ISBLANK(BACKEND!F218),\"\",BACKEND!F218)","v":""},null,null,null,null,{"$f":"IF(NOT(ISBLANK(J218)),VLOOKUP(J218,DATA!$V$1:$W$307,2,FALSE),\"\")","v":""},null,""]
[{"$f":" IF(NOT(D219=\"\"),VLOOKUP(D219,DATA!$J$3:$K$368,2,FALSE),\"\")","v":""},"",null,{"$f":"IF(ISBLANK(BACKEND!D219),\"\",BACKEND!D219)","v":""},null,{"$f":"IF(ISBLANK(BACKEND!F219),\"\",BACKEND!F219)","v":""},null,null,null,null,{"$f":"IF(NOT(ISBLANK(J219)),VLOOKUP(J219,DATA!$V$1:$W$307,2,FALSE),\"\")","v":""},null,""]
[{"$f":" IF(NOT(D220=\"\"),VLOOKUP(D220,DATA!$J$3:$K$368,2,FALSE),\"\")","v":""},"",null,{"$f":"IF(ISBLANK(BACKEND!D220),\"\",BACKEND!D220)","v":""},null,{"$f":"IF(ISBLANK(BACKEND!F220),\"\",BACKEND!F220)","v":""},null,null,null,null,{"$f":"IF(NOT(ISBLANK(J220)),VLOOKUP(J220,DATA!$V$1:$W$307,2,FALSE),\"\")","v":""},null,""]
[{"$f":" IF(NOT(D221=\"\"),VLOOKUP(D221,DATA!$J$3:$K$368,2,FALSE),\"\")","v":""},"",null,{"$f":"IF(ISBLANK(BACKEND!D221),\"\",BACKEND!D221)","v":""},null,{"$f":"IF(ISBLANK(BACKEND!F221),\"\",BACKEND!F221)","v":""},null,null,null,null,{"$f":"IF(NOT(ISBLANK(J221)),VLOOKUP(J221,DATA!$V$1:$W$307,2,FALSE),\"\")","v":""},null,""]
[{"$f":" IF(NOT(D222=\"\"),VLOOKUP(D222,DATA!$J$3:$K$368,2,FALSE),\"\")","v":""},"",null,{"$f":"IF(ISBLANK(BACKEND!D222),\"\",BACKEND!D222)","v":""},null,{"$f":"IF(ISBLANK(BACKEND!F222),\"\",BACKEND!F222)","v":""},null,null,null,null,{"$f":"IF(NOT(ISBLANK(J222)),VLOOKUP(J222,DATA!$V$1:$W$307,2,FALSE),\"\")","v":""},null,""]
[{"$f":" IF(NOT(D223=\"\"),VLOOKUP(D223,DATA!$J$3:$K$368,2,FALSE),\"\")","v":""},"",null,{"$f":"IF(ISBLANK(BACKEND!D223),\"\",BACKEND!D223)","v":""},null,{"$f":"IF(ISBLANK(BACKEND!F223),\"\",BACKEND!F223)","v":""},null,null,null,null,{"$f":"IF(NOT(ISBLANK(J223)),VLOOKUP(J223,DATA!$V$1:$W$307,2,FALSE),\"\")","v":""},null,""]
[{"$f":" IF(NOT(D224=\"\"),VLOOKUP(D224,DATA!$J$3:$K$368,2,FALSE),\"\")","v":""},"",null,{"$f":"IF(ISBLANK(BACKEND!D224),\"\",BACKEND!D224)","v":""},null,{"$f":"IF(ISBLANK(BACKEND!F224),\"\",BACKEND!F224)","v":""},null,null,null,null,{"$f":"IF(NOT(ISBLANK(J224)),VLOOKUP(J224,DATA!$V$1:$W$307,2,FALSE),\"\")","v":""},null,""]
[{"$f":" IF(NOT(D225=\"\"),VLOOKUP(D225,DATA!$J$3:$K$368,2,FALSE),\"\")","v":""},"",null,{"$f":"IF(ISBLANK(BACKEND!D225),\"\",BACKEND!D225)","v":""},null,{"$f":"IF(ISBLANK(BACKEND!F225),\"\",BACKEND!F225)","v":""},null,null,null,null,{"$f":"IF(NOT(ISBLANK(J225)),VLOOKUP(J225,DATA!$V$1:$W$307,2,FALSE),\"\")","v":""},null,""]
[{"$f":" IF(NOT(D226=\"\"),VLOOKUP(D226,DATA!$J$3:$K$368,2,FALSE),\"\")","v":""},"",null,{"$f":"IF(ISBLANK(BACKEND!D226),\"\",BACKEND!D226)","v":""},null,{"$f":"IF(ISBLANK(BACKEND!F226),\"\",BACKEND!F226)","v":""},null,null,null,null,{"$f":"IF(NOT(ISBLANK(J226)),VLOOKUP(J226,DATA!$V$1:$W$307,2,FALSE),\"\")","v":""},null,""]
[{"$f":" IF(NOT(D227=\"\"),VLOOKUP(D227,DATA!$J$3:$K$368,2,FALSE),\"\")","v":""},"",null,{"$f":"IF(ISBLANK(BACKEND!D227),\"\",BACKEND!D227)","v":""},null,{"$f":"IF(ISBLANK(BACKEND!F227),\"\",BACKEND!F227)","v":""},null,null,null,null,{"$f":"IF(NOT(ISBLANK(J227)),VLOOKUP(J227,DATA!$V$1:$W$307,2,FALSE),\"\")","v":""},null,""]
[{"$f":" IF(NOT(D228=\"\"),VLOOKUP(D228,DATA!$J$3:$K$368,2,FALSE),\"\")","v":""},"",null,{"$f":"IF(ISBLANK(BACKEND!D228),\"\",BACKEND!D228)","v":""},null,{"$f":"IF(ISBLANK(BACKEND!F228),\"\",BACKEND!F228)","v":""},null,null,null,null,{"$f":"IF(NOT(ISBLANK(J228)),VLOOKUP(J228,DATA!$V$1:$W$307,2,FALSE),\"\")","v":""},null,""]
[{"$f":" IF(NOT(D229=\"\"),VLOOKUP(D229,DATA!$J$3:$K$368,2,FALSE),\"\")","v":""},"",null,{"$f":"IF(ISBLANK(BACKEND!D229),\"\",BACKEND!D229)","v":""},null,{"$f":"IF(ISBLANK(BACKEND!F229),\"\",BACKEND!F229)","v":""},null,null,null,null,{"$f":"IF(NOT(ISBLANK(J229)),VLOOKUP(J229,DATA!$V$1:$W$307,2,FALSE),\"\")","v":""},null,""]
[{"$f":" IF(NOT(D230=\"\"),VLOOKUP(D230,DATA!$J$3:$K$368,2,FALSE),\"\")","v":""},"",null,{"$f":"IF(ISBLANK(BACKEND!D230),\"\",BACKEND!D230)","v":""},null,{"$f":"IF(ISBLANK(BACKEND!F230),\"\",BACKEND!F230)","v":""},null,null,null,null,{"$f":"IF(NOT(ISBLANK(J230)),VLOOKUP(J230,DATA!$V$1:$W$307,2,FALSE),\"\")","v":""},null,""]
[{"$f":" IF(NOT(D231=\"\"),VLOOKUP(D231,DATA!$J$3:$K$368,2,FALSE),\"\")","v":""},"",null,{"$f":"IF(ISBLANK(BACKEND!D231),\"\",BACKEND!D231)","v":""},null,{"$f":"IF(ISBLANK(BACKEND!F231),\"\",BACKEND!F231)","v":""},null,null,null,null,{"$f":"IF(NOT(ISBLANK(J231)),VLOOKUP(J231,DATA!$V$1:$W$307,2,FALSE),\"\")","v":""},null,""]
[{"$f":" IF(NOT(D232=\"\"),VLOOKUP(D232,DATA!$J$3:$K$368,2,FALSE),\"\")","v":""},"",null,{"$f":"IF(ISBLANK(BACKEND!D232),\"\",BACKEND!D232)","v":""},null,{"$f":"IF(ISBLANK(BACKEND!F232),\"\",BACKEND!F232)","v":""},null,null,null,null,{"$f":"IF(NOT(ISBLANK(J232)),VLOOKUP(J232,DATA!$V$1:$W$307,2,FALSE),\"\")","v":""},null,""]
[{"$f":" IF(NOT(D233=\"\"),VLOOKUP(D233,DATA!$J$3:$K$368,2,FALSE),\"\")","v":""},"",null,{"$f":"IF(ISBLANK(BACKEND!D233),\"\",BACKEND!D233)","v":""},null,{"$f":"IF(ISBLANK(BACKEND!F233),\"\",BACKEND!F233)","v":""},null,null,null,null,{"$f":"IF(NOT(ISBLANK(J233)),VLOOKUP(J233,DATA!$V$1:$W$307,2,FALSE),\"\")","v":""},null,""]
[{"$f":" IF(NOT(D234=\"\"),VLOOKUP(D234,DATA!$J$3:$K$368,2,FALSE),\"\")","v":""},"",null,{"$f":"IF(ISBLANK(BACKEND!D234),\"\",BACKEND!D234)","v":""},null,{"$f":"IF(ISBLANK(BACKEND!F234),\"\",BACKEND!F234)","v":""},null,null,null,null,{"$f":"IF(NOT(ISBLANK(J234)),VLOOKUP(J234,DATA!$V$1:$W$307,2,FALSE),\"\")","v":""},null,""]
[{"$f":" IF(NOT(D235=\"\"),VLOOKUP(D235,DATA!$J$3:$K$368,2,FALSE),\"\")","v":""},"",null,{"$f":"IF(ISBLANK(BACKEND!D235),\"\",BACKEND!D235)","v":""},null,{"$f":"IF(ISBLANK(BACKEND!F235),\"\",BACKEND!F235)","v":""},null,null,null,null,{"$f":"IF(NOT(ISBLANK(J235)),VLOOKUP(J235,DATA!$V$1:$W$307,2,FALSE),\"\")","v":""},null,""]
[{"$f":" IF(NOT(D236=\"\"),VLOOKUP(D236,DATA!$J$3:$K$368,2,FALSE),\"\")","v":""},"",null,{"$f":"IF(ISBLANK(BACKEND!D236),\"\",BACKEND!D236)","v":""},null,{"$f":"IF(ISBLANK(BACKEND!F236),\"\",BACKEND!F236)","v":""},null,null,null,null,{"$f":"IF(NOT(ISBLANK(J236)),VLOOKUP(J236,DATA!$V$1:$W$307,2,FALSE),\"\")","v":""},null,""]
[{"$f":" IF(NOT(D237=\"\"),VLOOKUP(D237,DATA!$J$3:$K$368,2,FALSE),\"\")","v":""},"",null,{"$f":"IF(ISBLANK(BACKEND!D237),\"\",BACKEND!D237)","v":""},null,{"$f":"IF(ISBLANK(BACKEND!F237),\"\",BACKEND!F237)","v":""},null,null,null,null,{"$f":"IF(NOT(ISBLANK(J237)),VLOOKUP(J237,DATA!$V$1:$W$307,2,FALSE),\"\")","v":""},null,""]
[{"$f":" IF(NOT(D238=\"\"),VLOOKUP(D238,DATA!$J$3:$K$368,2,FALSE),\"\")","v":""},"",null,{"$f":"IF(ISBLANK(BACKEND!D238),\"\",BACKEND!D238)","v":""},null,{"$f":"IF(ISBLANK(BACKEND!F238),\"\",BACKEND!F238)","v":""},null,null,null,null,{"$f":"IF(NOT(ISBLANK(J238)),VLOOKUP(J238,DATA!$V$1:$W$307,2,FALSE),\"\")","v":""},null,""]
[{"$f":" IF(NOT(D239=\"\"),VLOOKUP(D239,DATA!$J$3:$K$368,2,FALSE),\"\")","v":""},"",null,{"$f":"IF(ISBLANK(BACKEND!D239),\"\",BACKEND!D239)","v":""},null,{"$f":"IF(ISBLANK(BACKEND!F239),\"\",BACKEND!F239)","v":""},null,null,null,null,{"$f":"IF(NOT(ISBLANK(J239)),VLOOKUP(J239,DATA!$V$1:$W$307,2,FALSE),\"\")","v":""},null,""]
[{"$f":" IF(NOT(D240=\"\"),VLOOKUP(D240,DATA!$J$3:$K$368,2,FALSE),\"\")","v":""},"",null,{"$f":"IF(ISBLANK(BACKEND!D240),\"\",BACKEND!D240)","v":""},null,{"$f":"IF(ISBLANK(BACKEND!F240),\"\",BACKEND!F240)","v":""},null,null,null,null,{"$f":"IF(NOT(ISBLANK(J240)),VLOOKUP(J240,DATA!$V$1:$W$307,2,FALSE),\"\")","v":""},null,""]
[{"$f":" IF(NOT(D241=\"\"),VLOOKUP(D241,DATA!$J$3:$K$368,2,FALSE),\"\")","v":""},"",null,{"$f":"IF(ISBLANK(BACKEND!D241),\"\",BACKEND!D241)","v":""},null,{"$f":"IF(ISBLANK(BACKEND!F241),\"\",BACKEND!F241)","v":""},null,null,null,null,{"$f":"IF(NOT(ISBLANK(J241)),VLOOKUP(J241,DATA!$V$1:$W$307,2,FALSE),\"\")","v":""},null,""]
[{"$f":" IF(NOT(D242=\"\"),VLOOKUP(D242,DATA!$J$3:$K$368,2,FALSE),\"\")","v":""},"",null,{"$f":"IF(ISBLANK(BACKEND!D242),\"\",BACKEND!D242)","v":""},null,{"$f":"IF(ISBLANK(BACKEND!F242),\"\",BACKEND!F242)","v":""},null,null,null,null,{"$f":"IF(NOT(ISBLANK(J242)),VLOOKUP(J242,DATA!$V$1:$W$307,2,FALSE),\"\")","v":""},null,""]
[{"$f":" IF(NOT(D243=\"\"),VLOOKUP(D243,DATA!$J$3:$K$368,2,FALSE),\"\")","v":""},"",null,{"$f":"IF(ISBLANK(BACKEND!D243),\"\",BACKEND!D243)","v":""},null,{"$f":"IF(ISBLANK(BACKEND!F243),\"\",BACKEND!F243)","v":""},null,null,null,null,{"$f":"IF(NOT(ISBLANK(J243)),VLOOKUP(J243,DATA!$V$1:$W$307,2,FALSE),\"\")","v":""},null,""]
[{"$f":" IF(NOT(D244=\"\"),VLOOKUP(D244,DATA!$J$3:$K$368,2,FALSE),\"\")","v":""},"",null,{"$f":"IF(ISBLANK(BACKEND!D244),\"\",BACKEND!D244)","v":""},null,{"$f":"IF(ISBLANK(BACKEND!F244),\"\",BACKEND!F244)","v":""},null,null,null,null,{"$f":"IF(NOT(ISBLANK(J244)),VLOOKUP(J244,DATA!$V$1:$W$307,2,FALSE),\"\")","v":""},null,""]
[{"$f":" IF(NOT(D245=\"\"),VLOOKUP(D245,DATA!$J$3:$K$368,2,FALSE),\"\")","v":""},"",null,{"$f":"IF(ISBLANK(BACKEND!D245),\"\",BACKEND!D245)","v":""},null,{"$f":"IF(ISBLANK(BACKEND!F245),\"\",BACKEND!F245)","v":""},null,null,null,null,{"$f":"IF(NOT(ISBLANK(J245)),VLOOKUP(J245,DATA!$V$1:$W$307,2,FALSE),\"\")","v":""},null,""]
[{"$f":" IF(NOT(D246=\"\"),VLOOKUP(D246,DATA!$J$3:$K$368,2,FALSE),\"\")","v":""},"",null,{"$f":"IF(ISBLANK(BACKEND!D246),\"\",BACKEND!D246)","v":""},null,{"$f":"IF(ISBLANK(BACKEND!F246),\"\",BACKEND!F246)","v":""},null,null,null,null,{"$f":"IF(NOT(ISBLANK(J246)),VLOOKUP(J246,DATA!$V$1:$W$307,2,FALSE),\"\")","v":""},null,""]
[{"$f":" IF(NOT(D247=\"\"),VLOOKUP(D247,DATA!$J$3:$K$368,2,FALSE),\"\")","v":""},"",null,{"$f":"IF(ISBLANK(BACKEND!D247),\"\",BACKEND!D247)","v":""},null,{"$f":"IF(ISBLANK(BACKEND!F247),\"\",BACKEND!F247)","v":""},null,null,null,null,{"$f":"IF(NOT(ISBLANK(J247)),VLOOKUP(J247,DATA!$V$1:$W$307,2,FALSE),\"\")","v":""},null,""]
[{"$f":" IF(NOT(D248=\"\"),VLOOKUP(D248,DATA!$J$3:$K$368,2,FALSE),\"\")","v":""},"",null,{"$f":"IF(ISBLANK(BACKEND!D248),\"\",BACKEND!D248)","v":""},null,{"$f":"IF(ISBLANK(BACKEND!F248),\"\",BACKEND!F248)","v":""},null,null,null,null,{"$f":"IF(NOT(ISBLANK(J248)),VLOOKUP(J248,DATA!$V$1:$W$307,2,FALSE),\"\")","v":""},null,""]
[{"$f":" IF(NOT(D249=\"\"),VLOOKUP(D249,DATA!$J$3:$K$368,2,FALSE),\"\")","v":""},"",null,{"$f":"IF(ISBLANK(BACKEND!D249),\"\",BACKEND!D249)","v":""},null,{"$f":"IF(ISBLANK(BACKEND!F249),\"\",BACKEND!F249)","v":""},null,null,null,null,{"$f":"IF(NOT(ISBLANK(J249)),VLOOKUP(J249,DATA!$V$1:$W$307,2,FALSE),\"\")","v":""},null,""]
[{"$f":" IF(NOT(D250=\"\"),VLOOKUP(D250,DATA!$J$3:$K$368,2,FALSE),\"\")","v":""},"",null,{"$f":"IF(ISBLANK(BACKEND!D250),\"\",BACKEND!D250)","v":""},null,{"$f":"IF(ISBLANK(BACKEND!F250),\"\",BACKEND!F250)","v":""},null,null,null,null,{"$f":"IF(NOT(ISBLANK(J250)),VLOOKUP(J250,DATA!$V$1:$W$307,2,FALSE),\"\")","v":""},null,""]
[{"$f":" IF(NOT(D251=\"\"),VLOOKUP(D251,DATA!$J$3:$K$368,2,FALSE),\"\")","v":""},"",null,{"$f":"IF(ISBLANK(BACKEND!D251),\"\",BACKEND!D251)","v":""},null,{"$f":"IF(ISBLANK(BACKEND!F251),\"\",BACKEND!F251)","v":""},null,null,null,null,{"$f":"IF(NOT(ISBLANK(J251)),VLOOKUP(J251,DATA!$V$1:$W$307,2,FALSE),\"\")","v":""},null,""]
[{"$f":" IF(NOT(D252=\"\"),VLOOKUP(D252,DATA!$J$3:$K$368,2,FALSE),\"\")","v":""},"",null,{"$f":"IF(ISBLANK(BACKEND!D252),\"\",BACKEND!D252)","v":""},null,{"$f":"IF(ISBLANK(BACKEND!F252),\"\",BACKEND!F252)","v":""},null,null,null,null,{"$f":"IF(NOT(ISBLANK(J252)),VLOOKUP(J252,DATA!$V$1:$W$307,2,FALSE),\"\")","v":""},null,""]
[{"$f":" IF(NOT(D253=\"\"),VLOOKUP(D253,DATA!$J$3:$K$368,2,FALSE),\"\")","v":""},"",null,{"$f":"IF(ISBLANK(BACKEND!D253),\"\",BACKEND!D253)","v":""},null,{"$f":"IF(ISBLANK(BACKEND!F253),\"\",BACKEND!F253)","v":""},null,null,null,null,{"$f":"IF(NOT(ISBLANK(J253)),VLOOKUP(J253,DATA!$V$1:$W$307,2,FALSE),\"\")","v":""},null,""]
[{"$f":" IF(NOT(D254=\"\"),VLOOKUP(D254,DATA!$J$3:$K$368,2,FALSE),\"\")","v":""},"",null,{"$f":"IF(ISBLANK(BACKEND!D254),\"\",BACKEND!D254)","v":""},null,{"$f":"IF(ISBLANK(BACKEND!F254),\"\",BACKEND!F254)","v":""},null,null,null,null,{"$f":"IF(NOT(ISBLANK(J254)),VLOOKUP(J254,DATA!$V$1:$W$307,2,FALSE),\"\")","v":""},null,""]
[{"$f":" IF(NOT(D255=\"\"),VLOOKUP(D255,DATA!$J$3:$K$368,2,FALSE),\"\")","v":""},"",null,{"$f":"IF(ISBLANK(BACKEND!D255),\"\",BACKEND!D255)","v":""},null,{"$f":"IF(ISBLANK(BACKEND!F255),\"\",BACKEND!F255)","v":""},null,null,null,null,{"$f":"IF(NOT(ISBLANK(J255)),VLOOKUP(J255,DATA!$V$1:$W$307,2,FALSE),\"\")","v":""},null,""]
[{"$f":" IF(NOT(D256=\"\"),VLOOKUP(D256,DATA!$J$3:$K$368,2,FALSE),\"\")","v":""},"",null,{"$f":"IF(ISBLANK(BACKEND!D256),\"\",BACKEND!D256)","v":""},null,{"$f":"IF(ISBLANK(BACKEND!F256),\"\",BACKEND!F256)","v":""},null,null,null,null,{"$f":"IF(NOT(ISBLANK(J256)),VLOOKUP(J256,DATA!$V$1:$W$307,2,FALSE),\"\")","v":""},null,""]
[{"$f":" IF(NOT(D257=\"\"),VLOOKUP(D257,DATA!$J$3:$K$368,2,FALSE),\"\")","v":""},"",null,{"$f":"IF(ISBLANK(BACKEND!D257),\"\",BACKEND!D257)","v":""},null,{"$f":"IF(ISBLANK(BACKEND!F257),\"\",BACKEND!F257)","v":""},null,null,null,null,{"$f":"IF(NOT(ISBLANK(J257)),VLOOKUP(J257,DATA!$V$1:$W$307,2,FALSE),\"\")","v":""},null,""]
[{"$f":" IF(NOT(D258=\"\"),VLOOKUP(D258,DATA!$J$3:$K$368,2,FALSE),\"\")","v":""},"",null,{"$f":"IF(ISBLANK(BACKEND!D258),\"\",BACKEND!D258)","v":""},null,{"$f":"IF(ISBLANK(BACKEND!F258),\"\",BACKEND!F258)","v":""},null,null,null,null,{"$f":"IF(NOT(ISBLANK(J258)),VLOOKUP(J258,DATA!$V$1:$W$307,2,FALSE),\"\")","v":""},null,""]
[{"$f":" IF(NOT(D259=\"\"),VLOOKUP(D259,DATA!$J$3:$K$368,2,FALSE),\"\")","v":""},"",null,{"$f":"IF(ISBLANK(BACKEND!D259),\"\",BACKEND!D259)","v":""},null,{"$f":"IF(ISBLANK(BACKEND!F259),\"\",BACKEND!F259)","v":""},null,null,null,null,{"$f":"IF(NOT(ISBLANK(J259)),VLOOKUP(J259,DATA!$V$1:$W$307,2,FALSE),\"\")","v":""},null,""]
[{"$f":" IF(NOT(D260=\"\"),VLOOKUP(D260,DATA!$J$3:$K$368,2,FALSE),\"\")","v":""},"",null,{"$f":"IF(ISBLANK(BACKEND!D260),\"\",BACKEND!D260)","v":""},null,{"$f":"IF(ISBLANK(BACKEND!F260),\"\",BACKEND!F260)","v":""},null,null,null,null,{"$f":"IF(NOT(ISBLANK(J260)),VLOOKUP(J260,DATA!$V$1:$W$307,2,FALSE),\"\")","v":""},null,""]
[{"$f":" IF(NOT(D261=\"\"),VLOOKUP(D261,DATA!$J$3:$K$368,2,FALSE),\"\")","v":""},"",null,{"$f":"IF(ISBLANK(BACKEND!D261),\"\",BACKEND!D261)","v":""},null,{"$f":"IF(ISBLANK(BACKEND!F261),\"\",BACKEND!F261)","v":""},null,null,null,null,{"$f":"IF(NOT(ISBLANK(J261)),VLOOKUP(J261,DATA!$V$1:$W$307,2,FALSE),\"\")","v":""},null,""]
[{"$f":" IF(NOT(D262=\"\"),VLOOKUP(D262,DATA!$J$3:$K$368,2,FALSE),\"\")","v":""},"",null,{"$f":"IF(ISBLANK(BACKEND!D262),\"\",BACKEND!D262)","v":""},null,{"$f":"IF(ISBLANK(BACKEND!F262),\"\",BACKEND!F262)","v":""},null,null,null,null,{"$f":"IF(NOT(ISBLANK(J262)),VLOOKUP(J262,DATA!$V$1:$W$307,2,FALSE),\"\")","v":""},null,""]
[{"$f":" IF(NOT(D263=\"\"),VLOOKUP(D263,DATA!$J$3:$K$368,2,FALSE),\"\")","v":""},"",null,{"$f":"IF(ISBLANK(BACKEND!D263),\"\",BACKEND!D263)","v":""},null,{"$f":"IF(ISBLANK(BACKEND!F263),\"\",BACKEND!F263)","v":""},null,null,null,null,{"$f":"IF(NOT(ISBLANK(J263)),VLOOKUP(J263,DATA!$V$1:$W$307,2,FALSE),\"\")","v":""},null,""]
[{"$f":" IF(NOT(D264=\"\"),VLOOKUP(D264,DATA!$J$3:$K$368,2,FALSE),\"\")","v":""},"",null,{"$f":"IF(ISBLANK(BACKEND!D264),\"\",BACKEND!D264)","v":""},null,{"$f":"IF(ISBLANK(BACKEND!F264),\"\",BACKEND!F264)","v":""},null,null,null,null,{"$f":"IF(NOT(ISBLANK(J264)),VLOOKUP(J264,DATA!$V$1:$W$307,2,FALSE),\"\")","v":""},null,""]
[{"$f":" IF(NOT(D265=\"\"),VLOOKUP(D265,DATA!$J$3:$K$368,2,FALSE),\"\")","v":""},"",null,{"$f":"IF(ISBLANK(BACKEND!D265),\"\",BACKEND!D265)","v":""},null,{"$f":"IF(ISBLANK(BACKEND!F265),\"\",BACKEND!F265)","v":""},null,null,null,null,{"$f":"IF(NOT(ISBLANK(J265)),VLOOKUP(J265,DATA!$V$1:$W$307,2,FALSE),\"\")","v":""},null,""]
[{"$f":" IF(NOT(D266=\"\"),VLOOKUP(D266,DATA!$J$3:$K$368,2,FALSE),\"\")","v":""},{"$f":"IF(NOT(D266=\"\"),\"PANAMA\",\"\")","v":""},null,{"$f":"IF(ISBLANK(BACKEND!D266),\"\",BACKEND!D266)","v":""},null,{"$f":"IF(ISBLANK(BACKEND!F266),\"\",BACKEND!F266)","v":""},null,null,null,null,{"$f":"IF(NOT(ISBLANK(J266)),VLOOKUP(J266,DATA!$V$1:$W$307,2,FALSE),\"\")","v":""},null,{"$f":"IF(ISBLANK(L266),\"\",IF(L266=\"SÍ\",\"NO\",\"SÍ\"))","v":""}]
[{"$f":" IF(NOT(D267=\"\"),VLOOKUP(D267,DATA!$J$3:$K$368,2,FALSE),\"\")","v":""},"",null,{"$f":"IF(ISBLANK(BACKEND!D267),\"\",BACKEND!D267)","v":""},null,{"$f":"IF(ISBLANK(BACKEND!F267),\"\",BACKEND!F267)","v":""},null,null,null,null,{"$f":"IF(NOT(ISBLANK(J267)),VLOOKUP(J267,DATA!$V$1:$W$307,2,FALSE),\"\")","v":""},null,""]
[{"$f":" IF(NOT(D268=\"\"),VLOOKUP(D268,DATA!$J$3:$K$368,2,FALSE),\"\")","v":""},"",null,{"$f":"IF(ISBLANK(BACKEND!D268),\"\",BACKEND!D268)","v":""},null,{"$f":"IF(ISBLANK(BACKEND!F268),\"\",BACKEND!F268)","v":""},null,null,null,null,{"$f":"IF(NOT(ISBLANK(J268)),VLOOKUP(J268,DATA!$V$1:$W$307,2,FALSE),\"\")","v":""},null,""]
[{"$f":" IF(NOT(D269=\"\"),VLOOKUP(D269,DATA!$J$3:$K$368,2,FALSE),\"\")","v":""},"",null,{"$f":"IF(ISBLANK(BACKEND!D269),\"\",BACKEND!D269)","v":""},null,{"$f":"IF(ISBLANK(BACKEND!F269),\"\",BACKEND!F269)","v":""},null,null,null,null,{"$f":"IF(NOT(ISBLANK(J269)),VLOOKUP(J269,DATA!$V$1:$W$307,2,FALSE),\"\")","v":""},null,""]
[{"$f":" IF(NOT(D270=\"\"),VLOOKUP(D270,DATA!$J$3:$K$368,2,FALSE),\"\")","v":""},"",null,{"$f":"IF(ISBLANK(BACKEND!D270),\"\",BACKEND!D270)","v":""},null,{"$f":"IF(ISBLANK(BACKEND!F270),\"\",BACKEND!F270)","v":""},null,null,null,null,{"$f":"IF(NOT(ISBLANK(J270)),VLOOKUP(J270,DATA!$V$1:$W$307,2,FALSE),\"\")","v":""},null,""]
[{"$f":" IF(NOT(D271=\"\"),VLOOKUP(D271,DATA!$J$3:$K$368,2,FALSE),\"\")","v":""},"",null,{"$f":"IF(ISBLANK(BACKEND!D271),\"\",BACKEND!D271)","v":""},null,{"$f":"IF(ISBLANK(BACKEND!F271),\"\",BACKEND!F271)","v":""},null,null,null,null,{"$f":"IF(NOT(ISBLANK(J271)),VLOOKUP(J271,DATA!$V$1:$W$307,2,FALSE),\"\")","v":""},null,""]
[{"$f":" IF(NOT(D272=\"\"),VLOOKUP(D272,DATA!$J$3:$K$368,2,FALSE),\"\")","v":""},"",null,{"$f":"IF(ISBLANK(BACKEND!D272),\"\",BACKEND!D272)","v":""},null,{"$f":"IF(ISBLANK(BACKEND!F272),\"\",BACKEND!F272)","v":""},null,null,null,null,{"$f":"IF(NOT(ISBLANK(J272)),VLOOKUP(J272,DATA!$V$1:$W$307,2,FALSE),\"\")","v":""},null,""]
[{"$f":" IF(NOT(D273=\"\"),VLOOKUP(D273,DATA!$J$3:$K$368,2,FALSE),\"\")","v":""},"",null,{"$f":"IF(ISBLANK(BACKEND!D273),\"\",BACKEND!D273)","v":""},null,{"$f":"IF(ISBLANK(BACKEND!F273),\"\",BACKEND!F273)","v":""},null,null,null,null,{"$f":"IF(NOT(ISBLANK(J273)),VLOOKUP(J273,DATA!$V$1:$W$307,2,FALSE),\"\")","v":""},null,""]
[{"$f":" IF(NOT(D274=\"\"),VLOOKUP(D274,DATA!$J$3:$K$368,2,FALSE),\"\")","v":""},"",null,{"$f":"IF(ISBLANK(BACKEND!D274),\"\",BACKEND!D274)","v":""},null,{"$f":"IF(ISBLANK(BACKEND!F274),\"\",BACKEND!F274)","v":""},null,null,null,null,{"$f":"IF(NOT(ISBLANK(J274)),VLOOKUP(J274,DATA!$V$1:$W$307,2,FALSE),\"\")","v":""},null,""]
[{"$f":" IF(NOT(D275=\"\"),VLOOKUP(D275,DATA!$J$3:$K$368,2,FALSE),\"\")","v":""},"",null,{"$f":"IF(ISBLANK(BACKEND!D275),\"\",BACKEND!D275)","v":""},null,{"$f":"IF(ISBLANK(BACKEND!F275),\"\",BACKEND!F275)","v":""},null,null,null,null,{"$f":"IF(NOT(ISBLANK(J275)),VLOOKUP(J275,DATA!$V$1:$W$307,2,FALSE),\"\")","v":""},null,""]
[{"$f":" IF(NOT(D276=\"\"),VLOOKUP(D276,DATA!$J$3:$K$368,2,FALSE),\"\")","v":""},"",null,{"$f":"IF(ISBLANK(BACKEND!D276),\"\",BACKEND!D276)","v":""},null,{"$f":"IF(ISBLANK(BACKEND!F276),\"\",BACKEND!F276)","v":""},null,null,null,null,{"$f":"IF(NOT(ISBLANK(J276)),VLOOKUP(J276,DATA!$V$1:$W$307,2,FALSE),\"\")","v":""},null,""]
[{"$f":" IF(NOT(D277=\"\"),VLOOKUP(D277,DATA!$J$3:$K$368,2,FALSE),\"\")","v":""},"",null,{"$f":"IF(ISBLANK(BACKEND!D277),\"\",BACKEND!D277)","v":""},null,{"$f":"IF(ISBLANK(BACKEND!F277),\"\",BACKEND!F277)","v":""},null,null,null,null,{"$f":"IF(NOT(ISBLANK(J277)),VLOOKUP(J277,DATA!$V$1:$W$307,2,FALSE),\"\")","v":""},null,""]
[{"$f":" IF(NOT(D278=\"\"),VLOOKUP(D278,DATA!$J$3:$K$368,2,FALSE),\"\")","v":""},"",null,{"$f":"IF(ISBLANK(BACKEND!D278),\"\",BACKEND!D278)","v":""},null,{"$f":"IF(ISBLANK(BACKEND!F278),\"\",BACKEND!F278)","v":""},null,null,null,null,{"$f":"IF(NOT(ISBLANK(J278)),VLOOKUP(J278,DATA!$V$1:$W$307,2,FALSE),\"\")","v":""},null,""]
[{"$f":" IF(NOT(D279=\"\"),VLOOKUP(D279,DATA!$J$3:$K$368,2,FALSE),\"\")","v":""},"",null,{"$f":"IF(ISBLANK(BACKEND!D279),\"\",BACKEND!D279)","v":""},null,{"$f":"IF(ISBLANK(BACKEND!F279),\"\",BACKEND!F279)","v":""},null,null,null,null,{"$f":"IF(NOT(ISBLANK(J279)),VLOOKUP(J279,DATA!$V$1:$W$307,2,FALSE),\"\")","v":""},null,""]
[{"$f":" IF(NOT(D280=\"\"),VLOOKUP(D280,DATA!$J$3:$K$368,2,FALSE),\"\")","v":""},"",null,{"$f":"IF(ISBLANK(BACKEND!D280),\"\",BACKEND!D280)","v":""},null,{"$f":"IF(ISBLANK(BACKEND!F280),\"\",BACKEND!F280)","v":""},null,null,null,null,{"$f":"IF(NOT(ISBLANK(J280)),VLOOKUP(J280,DATA!$V$1:$W$307,2,FALSE),\"\")","v":""},null,""]
[{"$f":" IF(NOT(D281=\"\"),VLOOKUP(D281,DATA!$J$3:$K$368,2,FALSE),\"\")","v":""},"",null,{"$f":"IF(ISBLANK(BACKEND!D281),\"\",BACKEND!D281)","v":""},null,{"$f":"IF(ISBLANK(BACKEND!F281),\"\",BACKEND!F281)","v":""},null,null,null,null,{"$f":"IF(NOT(ISBLANK(J281)),VLOOKUP(J281,DATA!$V$1:$W$307,2,FALSE),\"\")","v":""},null,""]
[{"$f":" IF(NOT(D282=\"\"),VLOOKUP(D282,DATA!$J$3:$K$368,2,FALSE),\"\")","v":""},"",null,{"$f":"IF(ISBLANK(BACKEND!D282),\"\",BACKEND!D282)","v":""},null,{"$f":"IF(ISBLANK(BACKEND!F282),\"\",BACKEND!F282)","v":""},null,null,null,null,{"$f":"IF(NOT(ISBLANK(J282)),VLOOKUP(J282,DATA!$V$1:$W$307,2,FALSE),\"\")","v":""},null,""]
[{"$f":" IF(NOT(D283=\"\"),VLOOKUP(D283,DATA!$J$3:$K$368,2,FALSE),\"\")","v":""},"",null,{"$f":"IF(ISBLANK(BACKEND!D283),\"\",BACKEND!D283)","v":""},null,{"$f":"IF(ISBLANK(BACKEND!F283),\"\",BACKEND!F283)","v":""},null,null,null,null,{"$f":"IF(NOT(ISBLANK(J283)),VLOOKUP(J283,DATA!$V$1:$W$307,2,FALSE),\"\")","v":""},null,""]
[{"$f":" IF(NOT(D284=\"\"),VLOOKUP(D284,DATA!$J$3:$K$368,2,FALSE),\"\")","v":""},"",null,{"$f":"IF(ISBLANK(BACKEND!D284),\"\",BACKEND!D284)","v":""},null,{"$f":"IF(ISBLANK(BACKEND!F284),\"\",BACKEND!F284)","v":""},null,null,null,null,{"$f":"IF(NOT(ISBLANK(J284)),VLOOKUP(J284,DATA!$V$1:$W$307,2,FALSE),\"\")","v":""},null,""]
[{"$f":" IF(NOT(D285=\"\"),VLOOKUP(D285,DATA!$J$3:$K$368,2,FALSE),\"\")","v":""},"",null,{"$f":"IF(ISBLANK(BACKEND!D285),\"\",BACKEND!D285)","v":""},null,{"$f":"IF(ISBLANK(BACKEND!F285),\"\",BACKEND!F285)","v":""},null,null,null,null,{"$f":"IF(NOT(ISBLANK(J285)),VLOOKUP(J285,DATA!$V$1:$W$307,2,FALSE),\"\")","v":""},null,""]
[{"$f":" IF(NOT(D286=\"\"),VLOOKUP(D286,DATA!$J$3:$K$368,2,FALSE),\"\")","v":""},"",null,{"$f":"IF(ISBLANK(BACKEND!D286),\"\",BACKEND!D286)","v":""},null,{"$f":"IF(ISBLANK(BACKEND!F286),\"\",BACKEND!F286)","v":""},null,null,null,null,{"$f":"IF(NOT(ISBLANK(J286)),VLOOKUP(J286,DATA!$V$1:$W$307,2,FALSE),\"\")","v":""},null,""]
[{"$f":" IF(NOT(D287=\"\"),VLOOKUP(D287,DATA!$J$3:$K$368,2,FALSE),\"\")","v":""},"",null,{"$f":"IF(ISBLANK(BACKEND!D287),\"\",BACKEND!D287)","v":""},null,{"$f":"IF(ISBLANK(BACKEND!F287),\"\",BACKEND!F287)","v":""},null,null,null,null,{"$f":"IF(NOT(ISBLANK(J287)),VLOOKUP(J287,DATA!$V$1:$W$307,2,FALSE),\"\")","v":""},null,""]
[{"$f":" IF(NOT(D288=\"\"),VLOOKUP(D288,DATA!$J$3:$K$368,2,FALSE),\"\")","v":""},"",null,{"$f":"IF(ISBLANK(BACKEND!D288),\"\",BACKEND!D288)","v":""},null,{"$f":"IF(ISBLANK(BACKEND!F288),\"\",BACKEND!F288)","v":""},null,null,null,null,{"$f":"IF(NOT(ISBLANK(J288)),VLOOKUP(J288,DATA!$V$1:$W$307,2,FALSE),\"\")","v":""},null,""]
[{"$f":" IF(NOT(D289=\"\"),VLOOKUP(D289,DATA!$J$3:$K$368,2,FALSE),\"\")","v":""},"",null,{"$f":"IF(ISBLANK(BACKEND!D289),\"\",BACKEND!D289)","v":""},null,{"$f":"IF(ISBLANK(BACKEND!F289),\"\",BACKEND!F289)","v":""},null,null,null,null,{"$f":"IF(NOT(ISBLANK(J289)),VLOOKUP(J289,DATA!$V$1:$W$307,2,FALSE),\"\")","v":""},null,""]
[{"$f":" IF(NOT(D290=\"\"),VLOOKUP(D290,DATA!$J$3:$K$368,2,FALSE),\"\")","v":""},"",null,{"$f":"IF(ISBLANK(BACKEND!D290),\"\",BACKEND!D290)","v":""},null,{"$f":"IF(ISBLANK(BACKEND!F290),\"\",BACKEND!F290)","v":""},null,null,null,null,{"$f":"IF(NOT(ISBLANK(J290)),VLOOKUP(J290,DATA!$V$1:$W$307,2,FALSE),\"\")","v":""},null,""]
[{"$f":" IF(NOT(D291=\"\"),VLOOKUP(D291,DATA!$J$3:$K$368,2,FALSE),\"\")","v":""},"",null,{"$f":"IF(ISBLANK(BACKEND!D291),\"\",BACKEND!D291)","v":""},null,{"$f":"IF(ISBLANK(BACKEND!F291),\"\",BACKEND!F291)","v":""},null,null,null,null,{"$f":"IF(NOT(ISBLANK(J291)),VLOOKUP(J291,DATA!$V$1:$W$307,2,FALSE),\"\")","v":""},null,""]
[{"$f":" IF(NOT(D292=\"\"),VLOOKUP(D292,DATA!$J$3:$K$368,2,FALSE),\"\")","v":""},"",null,{"$f":"IF(ISBLANK(BACKEND!D292),\"\",BACKEND!D292)","v":""},null,{"$f":"IF(ISBLANK(BACKEND!F292),\"\",BACKEND!F292)","v":""},null,null,null,null,{"$f":"IF(NOT(ISBLANK(J292)),VLOOKUP(J292,DATA!$V$1:$W$307,2,FALSE),\"\")","v":""},null,""]
[{"$f":" IF(NOT(D293=\"\"),VLOOKUP(D293,DATA!$J$3:$K$368,2,FALSE),\"\")","v":""},"",null,{"$f":"IF(ISBLANK(BACKEND!D293),\"\",BACKEND!D293)","v":""},null,{"$f":"IF(ISBLANK(BACKEND!F293),\"\",BACKEND!F293)","v":""},null,null,null,null,{"$f":"IF(NOT(ISBLANK(J293)),VLOOKUP(J293,DATA!$V$1:$W$307,2,FALSE),\"\")","v":""},null,""]
[{"$f":" IF(NOT(D294=\"\"),VLOOKUP(D294,DATA!$J$3:$K$368,2,FALSE),\"\")","v":""},"",null,{"$f":"IF(ISBLANK(BACKEND!D294),\"\",BACKEND!D294)","v":""},null,{"$f":"IF(ISBLANK(BACKEND!F294),\"\",BACKEND!F294)","v":""},null,null,null,null,{"$f":"IF(NOT(ISBLANK(J294)),VLOOKUP(J294,DATA!$V$1:$W$307,2,FALSE),\"\")","v":""},null,""]
[{"$f":" IF(NOT(D295=\"\"),VLOOKUP(D295,DATA!$J$3:$K$368,2,FALSE),\"\")","v":""},"",null,{"$f":"IF(ISBLANK(BACKEND!D295),\"\",BACKEND!D295)","v":""},null,{"$f":"IF(ISBLANK(BACKEND!F295),\"\",BACKEND!F295)","v":""},null,null,null,null,{"$f":"IF(NOT(ISBLANK(J295)),VLOOKUP(J295,DATA!$V$1:$W$307,2,FALSE),\"\")","v":""},null,""]
[{"$f":" IF(NOT(D296=\"\"),VLOOKUP(D296,DATA!$J$3:$K$368,2,FALSE),\"\")","v":""},"",null,{"$f":"IF(ISBLANK(BACKEND!D296),\"\",BACKEND!D296)","v":""},null,{"$f":"IF(ISBLANK(BACKEND!F296),\"\",BACKEND!F296)","v":""},null,null,null,null,{"$f":"IF(NOT(ISBLANK(J296)),VLOOKUP(J296,DATA!$V$1:$W$307,2,FALSE),\"\")","v":""},null,""]
[{"$f":" IF(NOT(D297=\"\"),VLOOKUP(D297,DATA!$J$3:$K$368,2,FALSE),\"\")","v":""},"",null,{"$f":"IF(ISBLANK(BACKEND!D297),\"\",BACKEND!D297)","v":""},null,{"$f":"IF(ISBLANK(BACKEND!F297),\"\",BACKEND!F297)","v":""},null,null,null,null,{"$f":"IF(NOT(ISBLANK(J297)),VLOOKUP(J297,DATA!$V$1:$W$307,2,FALSE),\"\")","v":""},null,""]
[{"$f":" IF(NOT(D298=\"\"),VLOOKUP(D298,DATA!$J$3:$K$368,2,FALSE),\"\")","v":""},"",null,{"$f":"IF(ISBLANK(BACKEND!D298),\"\",BACKEND!D298)","v":""},null,{"$f":"IF(ISBLANK(BACKEND!F298),\"\",BACKEND!F298)","v":""},null,null,null,null,{"$f":"IF(NOT(ISBLANK(J298)),VLOOKUP(J298,DATA!$V$1:$W$307,2,FALSE),\"\")","v":""},null,""]
[{"$f":" IF(NOT(D299=\"\"),VLOOKUP(D299,DATA!$J$3:$K$368,2,FALSE),\"\")","v":""},"",null,{"$f":"IF(ISBLANK(BACKEND!D299),\"\",BACKEND!D299)","v":""},null,{"$f":"IF(ISBLANK(BACKEND!F299),\"\",BACKEND!F299)","v":""},null,null,null,null,{"$f":"IF(NOT(ISBLANK(J299)),VLOOKUP(J299,DATA!$V$1:$W$307,2,FALSE),\"\")","v":""},null,""]
[{"$f":" IF(NOT(D300=\"\"),VLOOKUP(D300,DATA!$J$3:$K$368,2,FALSE),\"\")","v":""},"",null,{"$f":"IF(ISBLANK(BACKEND!D300),\"\",BACKEND!D300)","v":""},null,{"$f":"IF(ISBLANK(BACKEND!F300),\"\",BACKEND!F300)","v":""},null,null,null,null,{"$f":"IF(NOT(ISBLANK(J300)),VLOOKUP(J300,DATA!$V$1:$W$307,2,FALSE),\"\")","v":""},null,""]
[{"$f":" IF(NOT(D301=\"\"),VLOOKUP(D301,DATA!$J$3:$K$368,2,FALSE),\"\")","v":""},"",null,{"$f":"IF(ISBLANK(BACKEND!D301),\"\",BACKEND!D301)","v":""},null,{"$f":"IF(ISBLANK(BACKEND!F301),\"\",BACKEND!F301)","v":""},null,null,null,null,{"$f":"IF(NOT(ISBLANK(J301)),VLOOKUP(J301,DATA!$V$1:$W$307,2,FALSE),\"\")","v":""},null,""]
[{"$f":" IF(NOT(D302=\"\"),VLOOKUP(D302,DATA!$J$3:$K$368,2,FALSE),\"\")","v":""},"",null,{"$f":"IF(ISBLANK(BACKEND!D302),\"\",BACKEND!D302)","v":""},null,{"$f":"IF(ISBLANK(BACKEND!F302),\"\",BACKEND!F302)","v":""},null,null,null,null,{"$f":"IF(NOT(ISBLANK(J302)),VLOOKUP(J302,DATA!$V$1:$W$307,2,FALSE),\"\")","v":""},null,""]
[{"$f":" IF(NOT(D303=\"\"),VLOOKUP(D303,DATA!$J$3:$K$368,2,FALSE),\"\")","v":""},"",null,{"$f":"IF(ISBLANK(BACKEND!D303),\"\",BACKEND!D303)","v":""},null,{"$f":"IF(ISBLANK(BACKEND!F303),\"\",BACKEND!F303)","v":""},null,null,null,null,{"$f":"IF(NOT(ISBLANK(J303)),VLOOKUP(J303,DATA!$V$1:$W$307,2,FALSE),\"\")","v":""},null,""]
[{"$f":" IF(NOT(D304=\"\"),VLOOKUP(D304,DATA!$J$3:$K$368,2,FALSE),\"\")","v":""},"",null,{"$f":"IF(ISBLANK(BACKEND!D304),\"\",BACKEND!D304)","v":""},null,{"$f":"IF(ISBLANK(BACKEND!F304),\"\",BACKEND!F304)","v":""},null,null,null,null,{"$f":"IF(NOT(ISBLANK(J304)),VLOOKUP(J304,DATA!$V$1:$W$307,2,FALSE),\"\")","v":""},null,""]
[{"$f":" IF(NOT(D305=\"\"),VLOOKUP(D305,DATA!$J$3:$K$368,2,FALSE),\"\")","v":""},"",null,{"$f":"IF(ISBLANK(BACKEND!D305),\"\",BACKEND!D305)","v":""},null,{"$f":"IF(ISBLANK(BACKEND!F305),\"\",BACKEND!F305)","v":""},null,null,null,null,{"$f":"IF(NOT(ISBLANK(J305)),VLOOKUP(J305,DATA!$V$1:$W$307,2,FALSE),\"\")","v":""},null,""]
[{"$f":" IF(NOT(D306=\"\"),VLOOKUP(D306,DATA!$J$3:$K$368,2,FALSE),\"\")","v":""},"",null,{"$f":"IF(ISBLANK(BACKEND!D306),\"\",BACKEND!D306)","v":""},null,{"$f":"IF(ISBLANK(BACKEND!F306),\"\",BACKEND!F306)","v":""},null,null,null,null,{"$f":"IF(NOT(ISBLANK(J306)),VLOOKUP(J306,DATA!$V$1:$W$307,2,FALSE),\"\")","v":""},null,""]
[{"$f":" IF(NOT(D307=\"\"),VLOOKUP(D307,DATA!$J$3:$K$368,2,FALSE),\"\")","v":""},"",null,{"$f":"IF(ISBLANK(BACKEND!D307),\"\",BACKEND!D307)","v":""},null,{"$f":"IF(ISBLANK(BACKEND!F307),\"\",BACKEND!F307)","v":""},null,null,null,null,{"$f":"IF(NOT(ISBLANK(J307)),VLOOKUP(J307,DATA!$V$1:$W$307,2,FALSE),\"\")","v":""},null,""]
[{"$f":" IF(NOT(D308=\"\"),VLOOKUP(D308,DATA!$J$3:$K$368,2,FALSE),\"\")","v":""},"",null,{"$f":"IF(ISBLANK(BACKEND!D308),\"\",BACKEND!D308)","v":""},null,{"$f":"IF(ISBLANK(BACKEND!F308),\"\",BACKEND!F308)","v":""},null,null,null,null,{"$f":"IF(NOT(ISBLANK(J308)),VLOOKUP(J308,DATA!$V$1:$W$307,2,FALSE),\"\")","v":""},null,""]

{"sheet":"BACKEND","index":1,"n_rows":308,"n_cols":15,"rows_kept":308,"cut":false,"hidden":true,"merged":[]}
[]
[]
[]
[]
[]
[]
[]
["Semana","OS/OM Solicitante","Solmant No.","Fecha Inicio","Hora Inicio","Fecha Final","Hora Final","Continuo / Diario","Tipo Equipo","Equipo","Instalación","Con Desconexión","Sin Desconexión","Descripción del trabajo","Comentarios / Observaciones"]
[{"$f":"IF(NOT(ISBLANK(PROGRAMACION!A9)),PROGRAMACION!A9,\"\")","v":""},{"$f":"IF(NOT(ISBLANK(PROGRAMACION!B9)),PROGRAMACION!B9,\"\")","v":""},{"$f":"IF(NOT(ISBLANK(PROGRAMACION!C9)),PROGRAMACION!C9,\"\")","v":""},null,{"$f":"IF(NOT(ISBLANK(PROGRAMACION!E9)),PROGRAMACION!E9,\"\")","v":""},null,{"$f":"IF(NOT(ISBLANK(PROGRAMACION!G9)),PROGRAMACION!G9,\"\")","v":""},{"$f":"IF(NOT(ISBLANK(PROGRAMACION!H9)),PROGRAMACION!H9,\"\")","v":""},{"$f":"IF(NOT(ISBLANK(PROGRAMACION!I9)),PROGRAMACION!I9,\"\")","v":""},{"$f":"IF(NOT(ISBLANK(PROGRAMACION!J9)),IF(PROGRAMACION!I9=\"Transformador\",MID(PROGRAMACION!J9,1,2),PROGRAMACION!J9),\"\")","v":""},{"$f":"IF(NOT(ISBLANK(PROGRAMACION!K9)),PROGRAMACION!K9,\"\")","v":""},{"$f":"IF(NOT(ISBLANK(PROGRAMACION!L9)),PROGRAMACION!L9,\"\")","v":""},{"$f":"IF(NOT(ISBLANK(PROGRAMACION!M9)),PROGRAMACION!M9,\"\")","v":""},{"$f":"IF(NOT(ISBLANK(PROGRAMACION!N9)),PROGRAMACION!N9,\"\")","v":""},{"$f":"IF(NOT(ISBLANK(PROGRAMACION!O9)),PROGRAMACION!O9,\"\")","v":""}]
[{"$f":"IF(NOT(ISBLANK(PROGRAMACION!A10)),PROGRAMACION!A10,\"\")","v":""},{"$f":"IF(NOT(ISBLANK(PROGRAMACION!B10)),PROGRAMACION!B10,\"\")","v":""},{"$f":"IF(NOT(ISBLANK(PROGRAMACION!C10)),PROGRAMACION!C10,\"\")","v":""},null,{"$f":"IF(NOT(ISBLANK(PROGRAMACION!E10)),PROGRAMACION!E10,\"\")","v":""},null,{"$f":"IF(NOT(ISBLANK(PROGRAMACION!G10)),PROGRAMACION!G10,\"\")","v":""},{"$f":"IF(NOT(ISBLANK(PROGRAMACION!H10)),PROGRAMACION!H10,\"\")","v":""},{"$f":"IF(NOT(ISBLANK(PROGRAMACION!I10)),PROGRAMACION!I10,\"\")","v":""},{"$f":"IF(NOT(ISBLANK(PROGRAMACION!J10)),IF(PROGRAMACION!I10=\"Transformador\",MID(PROGRAMACION!J10,1,2),PROGRAMACION!J10),\"\")","v":""},{"$f":"IF(NOT(ISBLANK(PROGRAMACION!K10)),PROGRAMACION!K10,\"\")","v":""},{"$f":"IF(NOT(ISBLANK(PROGRAMACION!L10)),PROGRAMACION!L10,\"\")","v":""},{"$f":"IF(NOT(ISBLANK(PROGRAMACION!M10)),PROGRAMACION!M10,\"\")","v":""},{"$f":"IF(NOT(ISBLANK(PROGRAMACION!N10)),PROGRAMACION!N10,\"\")","v":""},{"$f":"IF(NOT(ISBLANK(PROGRAMACION!O10)),PROGRAMACION!O10,\"\")","v":""}]
[{"$f":"IF(NOT(ISBLANK(PROGRAMACION!A11)),PROGRAMACION!A11,\"\")","v":""},{"$f":"IF(NOT(ISBLANK(PROGRAMACION!B11)),PROGRAMACION!B11,\"\")","v":""},{"$f":"IF(NOT(ISBLANK(PROGRAMACION!C11)),PROGRAMACION!C11,\"\")","v":""},null,{"$f":"IF(NOT(ISBLANK(PROGRAMACION!E11)),PROGRAMACION!E11,\"\")","v":""},null,{"$f":"IF(NOT(ISBLANK(PROGRAMACION!G11)),PROGRAMACION!G11,\"\")","v":""},{"$f":"IF(NOT(ISBLANK(PROGRAMACION!H11)),PROGRAMACION!H11,\"\")","v":""},{"$f":"IF(NOT(ISBLANK(PROGRAMACION!I11)),PROGRAMACION!I11,\"\")","v":""},{"$f":"IF(NOT(ISBLANK(PROGRAMACION!J11)),IF(PROGRAMACION!I11=\"Transformador\",MID(PROGRAMACION!J11,1,2),PROGRAMACION!J11),\"\")","v":""},{"$f":"IF(NOT(ISBLANK(PROGRAMACION!K11)),PROGRAMACION!K11,\"\")","v":""},{"$f":"IF(NOT(ISBLANK(PROGRAMACION!L11)),PROGRAMACION!L11,\"\")","v":""},{"$f":"IF(NOT(ISBLANK(PROGRAMACION!M11)),PROGRAMACION!M11,\"\")","v":""},{"$f":"IF(NOT(ISBLANK(PROGRAMACION!N11)),PROGRAMACION!N11,\"\")","v":""},{"$f":"IF(NOT(ISBLANK(PROGRAMACION!O11)),PROGRAMACION!O11,\"\")","v":""}]
[{"$f":"IF(NOT(ISBLANK(PROGRAMACION!A12)),PROGRAMACION!A12,\"\")","v":""},{"$f":"IF(NOT(ISBLANK(PROGRAMACION!B12)),PROGRAMACION!B12,\"\")","v":""},{"$f":"IF(NOT(ISBLANK(PROGRAMACION!C12)),PROGRAMACION!C12,\"\")","v":""},null,{"$f":"IF(NOT(ISBLANK(PROGRAMACION!E12)),PROGRAMACION!E12,\"\")","v":""},null,{"$f":"IF(NOT(ISBLANK(PROGRAMACION!G12)),PROGRAMACION!G12,\"\")","v":""},{"$f":"IF(NOT(ISBLANK(PROGRAMACION!H12)),PROGRAMACION!H12,\"\")","v":""},{"$f":"IF(NOT(ISBLANK(PROGRAMACION!I12)),PROGRAMACION!I12,\"\")","v":""},{"$f":"IF(NOT(ISBLANK(PROGRAMACION!J12)),IF(PROGRAMACION!I12=\"Transformador\",MID(PROGRAMACION!J12,1,2),PROGRAMACION!J12),\"\")","v":""},{"$f":"IF(NOT(ISBLANK(PROGRAMACION!K12)),PROGRAMACION!K12,\"\")","v":""},{"$f":"IF(NOT(ISBLANK(PROGRAMACION!L12)),PROGRAMACION!L12,\"\")","v":""},{"$f":"IF(NOT(ISBLANK(PROGRAMACION!M12)),PROGRAMACION!M12,\"\")","v":""},{"$f":"IF(NOT(ISBLANK(PROGRAMACION!N12)),PROGRAMACION!N12,\"\")","v":""},{"$f":"IF(NOT(ISBLANK(PROGRAMACION!O12)),PROGRAMACION!O12,\"\")","v":""}]
[{"$f":"IF(NOT(ISBLANK(PROGRAMACION!A13)),PROGRAMACION!A13,\"\")","v":""},{"$f":"IF(NOT(ISBLANK(PROGRAMACION!B13)),PROGRAMACION!B13,\"\")","v":""},{"$f":"IF(NOT(ISBLANK(PROGRAMACION!C13)),PROGRAMACION!C13,\"\")","v":""},null,{"$f":"IF(NOT(ISBLANK(PROGRAMACION!E13)),PROGRAMACION!E13,\"\")","v":""},null,{"$f":"IF(NOT(ISBLANK(PROGRAMACION!G13)),PROGRAMACION!G13,\"\")","v":""},{"$f":"IF(NOT(ISBLANK(PROGRAMACION!H13)),PROGRAMACION!H13,\"\")","v":""},{"$f":"IF(NOT(ISBLANK(PROGRAMACION!I13)),PROGRAMACION!I13,\"\")","v":""},{"$f":"IF(NOT(ISBLANK(PROGRAMACION!J13)),IF(PROGRAMACION!I13=\"Transformador\",MID(PROGRAMACION!J13,1,2),PROGRAMACION!J13),\"\")","v":""},{"$f":"IF(NOT(ISBLANK(PROGRAMACION!K13)),PROGRAMACION!K13,\"\")","v":""},{"$f":"IF(NOT(ISBLANK(PROGRAMACION!L13)),PROGRAMACION!L13,\"\")","v":""},{"$f":"IF(NOT(ISBLANK(PROGRAMACION!M13)),PROGRAMACION!M13,\"\")","v":""},{"$f":"IF(NOT(ISBLANK(PROGRAMACION!N13)),PROGRAMACION!N13,\"\")","v":""},{"$f":"IF(NOT(ISBLANK(PROGRAMACION!O13)),PROGRAMACION!O13,\"\")","v":""}]
[{"$f":"IF(NOT(ISBLANK(PROGRAMACION!A14)),PROGRAMACION!A14,\"\")","v":""},{"$f":"IF(NOT(ISBLANK(PROGRAMACION!B14)),PROGRAMACION!B14,\"\")","v":""},{"$f":"IF(NOT(ISBLANK(PROGRAMACION!C14)),PROGRAMACION!C14,\"\")","v":""},null,{"$f":"IF(NOT(ISBLANK(PROGRAMACION!E14)),PROGRAMACION!E14,\"\")","v":""},null,{"$f":"IF(NOT(ISBLANK(PROGRAMACION!G14)),PROGRAMACION!G14,\"\")","v":""},{"$f":"IF(NOT(ISBLANK(PROGRAMACION!H14)),PROGRAMACION!H14,\"\")","v":""},{"$f":"IF(NOT(ISBLANK(PROGRAMACION!I14)),PROGRAMACION!I14,\"\")","v":""},{"$f":"IF(NOT(ISBLANK(PROGRAMACION!J14)),IF(PROGRAMACION!I14=\"Transformador\",MID(PROGRAMACION!J14,1,2),PROGRAMACION!J14),\"\")","v":""},{"$f":"IF(NOT(ISBLANK(PROGRAMACION!K14)),PROGRAMACION!K14,\"\")","v":""},{"$f":"IF(NOT(ISBLANK(PROGRAMACION!L14)),PROGRAMACION!L14,\"\")","v":""},{"$f":"IF(NOT(ISBLANK(PROGRAMACION!M14)),PROGRAMACION!M14,\"\")","v":""},{"$f":"IF(NOT(ISBLANK(PROGRAMACION!N14)),PROGRAMACION!N14,\"\")","v":""},{"$f":"IF(NOT(ISBLANK(PROGRAMACION!O14)),PROGRAMACION!O14,\"\")","v":""}]
[{"$f":"IF(NOT(ISBLANK(PROGRAMACION!A15)),PROGRAMACION!A15,\"\")","v":""},{"$f":"IF(NOT(ISBLANK(PROGRAMACION!B15)),PROGRAMACION!B15,\"\")","v":""},{"$f":"IF(NOT(ISBLANK(PROGRAMACION!C15)),PROGRAMACION!C15,\"\")","v":""},null,{"$f":"IF(NOT(ISBLANK(PROGRAMACION!E15)),PROGRAMACION!E15,\"\")","v":""},null,{"$f":"IF(NOT(ISBLANK(PROGRAMACION!G15)),PROGRAMACION!G15,\"\")","v":""},{"$f":"IF(NOT(ISBLANK(PROGRAMACION!H15)),PROGRAMACION!H15,\"\")","v":""},{"$f":"IF(NOT(ISBLANK(PROGRAMACION!I15)),PROGRAMACION!I15,\"\")","v":""},{"$f":"IF(NOT(ISBLANK(PROGRAMACION!J15)),IF(PROGRAMACION!I15=\"Transformador\",MID(PROGRAMACION!J15,1,2),PROGRAMACION!J15),\"\")","v":""},{"$f":"IF(NOT(ISBLANK(PROGRAMACION!K15)),PROGRAMACION!K15,\"\")","v":""},{"$f":"IF(NOT(ISBLANK(PROGRAMACION!L15)),PROGRAMACION!L15,\"\")","v":""},{"$f":"IF(NOT(ISBLANK(PROGRAMACION!M15)),PROGRAMACION!M15,\"\")","v":""},{"$f":"IF(NOT(ISBLANK(PROGRAMACION!N15)),PROGRAMACION!N15,\"\")","v":""},{"$f":"IF(NOT(ISBLANK(PROGRAMACION!O15)),PROGRAMACION!O15,\"\")","v":""}]
[{"$f":"IF(NOT(ISBLANK(PROGRAMACION!A16)),PROGRAMACION!A16,\"\")","v":""},{"$f":"IF(NOT(ISBLANK(PROGRAMACION!B16)),PROGRAMACION!B16,\"\")","v":""},{"$f":"IF(NOT(ISBLANK(PROGRAMACION!C16)),PROGRAMACION!C16,\"\")","v":""},null,{"$f":"IF(NOT(ISBLANK(PROGRAMACION!E16)),PROGRAMACION!E16,\"\")","v":""},null,{"$f":"IF(NOT(ISBLANK(PROGRAMACION!G16)),PROGRAMACION!G16,\"\")","v":""},{"$f":"IF(NOT(ISBLANK(PROGRAMACION!H16)),PROGRAMACION!H16,\"\")","v":""},{"$f":"IF(NOT(ISBLANK(PROGRAMACION!I16)),PROGRAMACION!I16,\"\")","v":""},{"$f":"IF(NOT(ISBLANK(PROGRAMACION!J16)),IF(PROGRAMACION!I16=\"Transformador\",MID(PROGRAMACION!J16,1,2),PROGRAMACION!J16),\"\")","v":""},{"$f":"IF(NOT(ISBLANK(PROGRAMACION!K16)),PROGRAMACION!K16,\"\")","v":""},{"$f":"IF(NOT(ISBLANK(PROGRAMACION!L16)),PROGRAMACION!L16,\"\")","v":""},{"$f":"IF(NOT(ISBLANK(PROGRAMACION!M16)),PROGRAMACION!M16,\"\")","v":""},{"$f":"IF(NOT(ISBLANK(PROGRAMACION!N16)),PROGRAMACION!N16,\"\")","v":""},{"$f":"IF(NOT(ISBLANK(PROGRAMACION!O16)),PROGRAMACION!O16,\"\")","v":""}]
[{"$f":"IF(NOT(ISBLANK(PROGRAMACION!A17)),PROGRAMACION!A17,\"\")","v":""},{"$f":"IF(NOT(ISBLANK(PROGRAMACION!B17)),PROGRAMACION!B17,\"\")","v":""},{"$f":"IF(NOT(ISBLANK(PROGRAMACION!C17)),PROGRAMACION!C17,\"\")","v":""},null,{"$f":"IF(NOT(ISBLANK(PROGRAMACION!E17)),PROGRAMACION!E17,\"\")","v":""},null,{"$f":"IF(NOT(ISBLANK(PROGRAMACION!G17)),PROGRAMACION!G17,\"\")","v":""},{"$f":"IF(NOT(ISBLANK(PROGRAMACION!H17)),PROGRAMACION!H17,\"\")","v":""},{"$f":"IF(NOT(ISBLANK(PROGRAMACION!I17)),PROGRAMACION!I17,\"\")","v":""},{"$f":"IF(NOT(ISBLANK(PROGRAMACION!J17)),IF(PROGRAMACION!I17=\"Transformador\",MID(PROGRAMACION!J17,1,2),PROGRAMACION!J17),\"\")","v":""},{"$f":"IF(NOT(ISBLANK(PROGRAMACION!K17)),PROGRAMACION!K17,\"\")","v":""},{"$f":"IF(NOT(ISBLANK(PROGRAMACION!L17)),PROGRAMACION!L17,\"\")","v":""},{"$f":"IF(NOT(ISBLANK(PROGRAMACION!M17)),PROGRAMACION!M17,\"\")","v":""},{"$f":"IF(NOT(ISBLANK(PROGRAMACION!N17)),PROGRAMACION!N17,\"\")","v":""},{"$f":"IF(NOT(ISBLANK(PROGRAMACION!O17)),PROGRAMACION!O17,\"\")","v":""}]
[{"$f":"IF(NOT(ISBLANK(PROGRAMACION!A18)),PROGRAMACION!A18,\"\")","v":""},{"$f":"IF(NOT(ISBLANK(PROGRAMACION!B18)),PROGRAMACION!B18,\"\")","v":""},{"$f":"IF(NOT(ISBLANK(PROGRAMACION!C18)),PROGRAMACION!C18,\"\")","v":""},null,{"$f":"IF(NOT(ISBLANK(PROGRAMACION!E18)),PROGRAMACION!E18,\"\")","v":""},null,{"$f":"IF(NOT(ISBLANK(PROGRAMACION!G18)),PROGRAMACION!G18,\"\")","v":""},{"$f":"IF(NOT(ISBLANK(PROGRAMACION!H18)),PROGRAMACION!H18,\"\")","v":""},{"$f":"IF(NOT(ISBLANK(PROGRAMACION!I18)),PROGRAMACION!I18,\"\")","v":""},{"$f":"IF(NOT(ISBLANK(PROGRAMACION!J18)),IF(PROGRAMACION!I18=\"Transformador\",MID(PROGRAMACION!J18,1,2),PROGRAMACION!J18),\"\")","v":""},{"$f":"IF(NOT(ISBLANK(PROGRAMACION!K18)),PROGRAMACION!K18,\"\")","v":""},{"$f":"IF(NOT(ISBLANK(PROGRAMACION!L18)),PROGRAMACION!L18,\"\")","v":""},{"$f":"IF(NOT(ISBLANK(PROGRAMACION!M18)),PROGRAMACION!M18,\"\")","v":""},{"$f":"IF(NOT(ISBLANK(PROGRAMACION!N18)),PROGRAMACION!N18,\"\")","v":""},{"$f":"IF(NOT(ISBLANK(PROGRAMACION!O18)),PROGRAMACION!O18,\"\")","v":""}]
[{"$f":"IF(NOT(ISBLANK(PROGRAMACION!A19)),PROGRAMACION!A19,\"\")","v":""},{"$f":"IF(NOT(ISBLANK(PROGRAMACION!B19)),PROGRAMACION!B19,\"\")","v":""},{"$f":"IF(NOT(ISBLANK(PROGRAMACION!C19)),PROGRAMACION!C19,\"\")","v":""},null,{"$f":"IF(NOT(ISBLANK(PROGRAMACION!E19)),PROGRAMACION!E19,\"\")","v":""},null,{"$f":"IF(NOT(ISBLANK(PROGRAMACION!G19)),PROGRAMACION!G19,\"\")","v":""},{"$f":"IF(NOT(ISBLANK(PROGRAMACION!H19)),PROGRAMACION!H19,\"\")","v":""},{"$f":"IF(NOT(ISBLANK(PROGRAMACION!I19)),PROGRAMACION!I19,\"\")","v":""},{"$f":"IF(NOT(ISBLANK(PROGRAMACION!J19)),IF(PROGRAMACION!I19=\"Transformador\",MID(PROGRAMACION!J19,1,2),PROGRAMACION!J19),\"\")","v":""},{"$f":"IF(NOT(ISBLANK(PROGRAMACION!K19)),PROGRAMACION!K19,\"\")","v":""},{"$f":"IF(NOT(ISBLANK(PROGRAMACION!L19)),PROGRAMACION!L19,\"\")","v":""},{"$f":"IF(NOT(ISBLANK(PROGRAMACION!M19)),PROGRAMACION!M19,\"\")","v":""},{"$f":"IF(NOT(ISBLANK(PROGRAMACION!N19)),PROGRAMACION!N19,\"\")","v":""},{"$f":"IF(NOT(ISBLANK(PROGRAMACION!O19)),PROGRAMACION!O19,\"\")","v":""}]
[{"$f":"IF(NOT(ISBLANK(PROGRAMACION!A20)),PROGRAMACION!A20,\"\")","v":""},{"$f":"IF(NOT(ISBLANK(PROGRAMACION!B20)),PROGRAMACION!B20,\"\")","v":""},{"$f":"IF(NOT(ISBLANK(PROGRAMACION!C20)),PROGRAMACION!C20,\"\")","v":""},null,{"$f":"IF(NOT(ISBLANK(PROGRAMACION!E20)),PROGRAMACION!E20,\"\")","v":""},null,{"$f":"IF(NOT(ISBLANK(PROGRAMACION!G20)),PROGRAMACION!G20,\"\")","v":""},{"$f":"IF(NOT(ISBLANK(PROGRAMACION!H20)),PROGRAMACION!H20,\"\")","v":""},{"$f":"IF(NOT(ISBLANK(PROGRAMACION!I20)),PROGRAMACION!I20,\"\")","v":""},{"$f":"IF(NOT(ISBLANK(PROGRAMACION!J20)),IF(PROGRAMACION!I20=\"Transformador\",MID(PROGRAMACION!J20,1,2),PROGRAMACION!J20),\"\")","v":""},{"$f":"IF(NOT(ISBLANK(PROGRAMACION!K20)),PROGRAMACION!K20,\"\")","v":""},{"$f":"IF(NOT(ISBLANK(PROGRAMACION!L20)),PROGRAMACION!L20,\"\")","v":""},{"$f":"IF(NOT(ISBLANK(PROGRAMACION!M20)),PROGRAMACION!M20,\"\")","v":""},{"$f":"IF(NOT(ISBLANK(PROGRAMACION!N20)),PROGRAMACION!N20,\"\")","v":""},{"$f":"IF(NOT(ISBLANK(PROGRAMACION!O20)),PROGRAMACION!O20,\"\")","v":""}]
[{"$f":"IF(NOT(ISBLANK(PROGRAMACION!A21)),PROGRAMACION!A21,\"\")","v":""},{"$f":"IF(NOT(ISBLANK(PROGRAMACION!B21)),PROGRAMACION!B21,\"\")","v":""},{"$f":"IF(NOT(ISBLANK(PROGRAMACION!C21)),PROGRAMACION!C21,\"\")","v":""},null,{"$f":"IF(NOT(ISBLANK(PROGRAMACION!E21)),PROGRAMACION!E21,\"\")","v":""},null,{"$f":"IF(NOT(ISBLANK(PROGRAMACION!G21)),PROGRAMACION!G21,\"\")","v":""},{"$f":"IF(NOT(ISBLANK(PROGRAMACION!H21)),PROGRAMACION!H21,\"\")","v":""},{"$f":"IF(NOT(ISBLANK(PROGRAMACION!I21)),PROGRAMACION!I21,\"\")","v":""},{"$f":"IF(NOT(ISBLANK(PROGRAMACION!J21)),IF(PROGRAMACION!I21=\"Transformador\",MID(PROGRAMACION!J21,1,2),PROGRAMACION!J21),\"\")","v":""},{"$f":"IF(NOT(ISBLANK(PROGRAMACION!K21)),PROGRAMACION!K21,\"\")","v":""},{"$f":"IF(NOT(ISBLANK(PROGRAMACION!L21)),PROGRAMACION!L21,\"\")","v":""},{"$f":"IF(NOT(ISBLANK(PROGRAMACION!M21)),PROGRAMACION!M21,\"\")","v":""},{"$f":"IF(NOT(ISBLANK(PROGRAMACION!N21)),PROGRAMACION!N21,\"\")","v":""},{"$f":"IF(NOT(ISBLANK(PROGRAMACION!O21)),PROGRAMACION!O21,\"\")","v":""}]
[{"$f":"IF(NOT(ISBLANK(PROGRAMACION!A22)),PROGRAMACION!A22,\"\")","v":""},{"$f":"IF(NOT(ISBLANK(PROGRAMACION!B22)),PROGRAMACION!B22,\"\")","v":""},{"$f":"IF(NOT(ISBLANK(PROGRAMACION!C22)),PROGRAMACION!C22,\"\")","v":""},null,{"$f":"IF(NOT(ISBLANK(PROGRAMACION!E22)),PROGRAMACION!E22,\"\")","v":""},null,{"$f":"IF(NOT(ISBLANK(PROGRAMACION!G22)),PROGRAMACION!G22,\"\")","v":""},{"$f":"IF(NOT(ISBLANK(PROGRAMACION!H22)),PROGRAMACION!H22,\"\")","v":""},{"$f":"IF(NOT(ISBLANK(PROGRAMACION!I22)),PROGRAMACION!I22,\"\")","v":""},{"$f":"IF(NOT(ISBLANK(PROGRAMACION!J22)),IF(PROGRAMACION!I22=\"Transformador\",MID(PROGRAMACION!J22,1,2),PROGRAMACION!J22),\"\")","v":""},{"$f":"IF(NOT(ISBLANK(PROGRAMACION!K22)),PROGRAMACION!K22,\"\")","v":""},{"$f":"IF(NOT(ISBLANK(PROGRAMACION!L22)),PROGRAMACION!L22,\"\")","v":""},{"$f":"IF(NOT(ISBLANK(PROGRAMACION!M22)),PROGRAMACION!M22,\"\")","v":""},{"$f":"IF(NOT(ISBLANK(PROGRAMACION!N22)),PROGRAMACION!N22,\"\")","v":""},{"$f":"IF(NOT(ISBLANK(PROGRAMACION!O22)),PROGRAMACION!O22,\"\")","v":""}]
[{"$f":"IF(NOT(ISBLANK(PROGRAMACION!A23)),PROGRAMACION!A23,\"\")","v":""},{"$f":"IF(NOT(ISBLANK(PROGRAMACION!B23)),PROGRAMACION!B23,\"\")","v":""},{"$f":"IF(NOT(ISBLANK(PROGRAMACION!C23)),PROGRAMACION!C23,\"\")","v":""},null,{"$f":"IF(NOT(ISBLANK(PROGRAMACION!E23)),PROGRAMACION!E23,\"\")","v":""},null,{"$f":"IF(NOT(ISBLANK(PROGRAMACION!G23)),PROGRAMACION!G23,\"\")","v":""},{"$f":"IF(NOT(ISBLANK(PROGRAMACION!H23)),PROGRAMACION!H23,\"\")","v":""},{"$f":"IF(NOT(ISBLANK(PROGRAMACION!I23)),PROGRAMACION!I23,\"\")","v":""},{"$f":"IF(NOT(ISBLANK(PROGRAMACION!J23)),IF(PROGRAMACION!I23=\"Transformador\",MID(PROGRAMACION!J23,1,2),PROGRAMACION!J23),\"\")","v":""},{"$f":"IF(NOT(ISBLANK(PROGRAMACION!K23)),PROGRAMACION!K23,\"\")","v":""},{"$f":"IF(NOT(ISBLANK(PROGRAMACION!L23)),PROGRAMACION!L23,\"\")","v":""},{"$f":"IF(NOT(ISBLANK(PROGRAMACION!M23)),PROGRAMACION!M23,\"\")","v":""},{"$f":"IF(NOT(ISBLANK(PROGRAMACION!N23)),PROGRAMACION!N23,\"\")","v":""},{"$f":"IF(NOT(ISBLANK(PROGRAMACION!O23)),PROGRAMACION!O23,\"\")","v":""}]
[{"$f":"IF(NOT(ISBLANK(PROGRAMACION!A24)),PROGRAMACION!A24,\"\")","v":""},{"$f":"IF(NOT(ISBLANK(PROGRAMACION!B24)),PROGRAMACION!B24,\"\")","v":""},{"$f":"IF(NOT(ISBLANK(PROGRAMACION!C24)),PROGRAMACION!C24,\"\")","v":""},null,{"$f":"IF(NOT(ISBLANK(PROGRAMACION!E24)),PROGRAMACION!E24,\"\")","v":""},null,{"$f":"IF(NOT(ISBLANK(PROGRAMACION!G24)),PROGRAMACION!G24,\"\")","v":""},{"$f":"IF(NOT(ISBLANK(PROGRAMACION!H24)),PROGRAMACION!H24,\"\")","v":""},{"$f":"IF(NOT(ISBLANK(PROGRAMACION!I24)),PROGRAMACION!I24,\"\")","v":""},{"$f":"IF(NOT(ISBLANK(PROGRAMACION!J24)),IF(PROGRAMACION!I24=\"Transformador\",MID(PROGRAMACION!J24,1,2),PROGRAMACION!J24),\"\")","v":""},{"$f":"IF(NOT(ISBLANK(PROGRAMACION!K24)),PROGRAMACION!K24,\"\")","v":""},{"$f":"IF(NOT(ISBLANK(PROGRAMACION!L24)),PROGRAMACION!L24,\"\")","v":""},{"$f":"IF(NOT(ISBLANK(PROGRAMACION!M24)),PROGRAMACION!M24,\"\")","v":""},{"$f":"IF(NOT(ISBLANK(PROGRAMACION!N24)),PROGRAMACION!N24,\"\")","v":""},{"$f":"IF(NOT(ISBLANK(PROGRAMACION!O24)),PROGRAMACION!O24,\"\")","v":""}]
[{"$f":"IF(NOT(ISBLANK(PROGRAMACION!A25)),PROGRAMACION!A25,\"\")","v":""},{"$f":"IF(NOT(ISBLANK(PROGRAMACION!B25)),PROGRAMACION!B25,\"\")","v":""},{"$f":"IF(NOT(ISBLANK(PROGRAMACION!C25)),PROGRAMACION!C25,\"\")","v":""},null,{"$f":"IF(NOT(ISBLANK(PROGRAMACION!E25)),PROGRAMACION!E25,\"\")","v":""},null,{"$f":"IF(NOT(ISBLANK(PROGRAMACION!G25)),PROGRAMACION!G25,\"\")","v":""},{"$f":"IF(NOT(ISBLANK(PROGRAMACION!H25)),PROGRAMACION!H25,\"\")","v":""},{"$f":"IF(NOT(ISBLANK(PROGRAMACION!I25)),PROGRAMACION!I25,\"\")","v":""},{"$f":"IF(NOT(ISBLANK(PROGRAMACION!J25)),IF(PROGRAMACION!I25=\"Transformador\",MID(PROGRAMACION!J25,1,2),PROGRAMACION!J25),\"\")","v":""},{"$f":"IF(NOT(ISBLANK(PROGRAMACION!K25)),PROGRAMACION!K25,\"\")","v":""},{"$f":"IF(NOT(ISBLANK(PROGRAMACION!L25)),PROGRAMACION!L25,\"\")","v":""},{"$f":"IF(NOT(ISBLANK(PROGRAMACION!M25)),PROGRAMACION!M25,\"\")","v":""},{"$f":"IF(NOT(ISBLANK(PROGRAMACION!N25)),PROGRAMACION!N25,\"\")","v":""},{"$f":"IF(NOT(ISBLANK(PROGRAMACION!O25)),PROGRAMACION!O25,\"\")","v":""}]
[{"$f":"IF(NOT(ISBLANK(PROGRAMACION!A26)),PROGRAMACION!A26,\"\")","v":""},{"$f":"IF(NOT(ISBLANK(PROGRAMACION!B26)),PROGRAMACION!B26,\"\")","v":""},{"$f":"IF(NOT(ISBLANK(PROGRAMACION!C26)),PROGRAMACION!C26,\"\")","v":""},null,{"$f":"IF(NOT(ISBLANK(PROGRAMACION!E26)),PROGRAMACION!E26,\"\")","v":""},null,{"$f":"IF(NOT(ISBLANK(PROGRAMACION!G26)),PROGRAMACION!G26,\"\")","v":""},{"$f":"IF(NOT(ISBLANK(PROGRAMACION!H26)),PROGRAMACION!H26,\"\")","v":""},{"$f":"IF(NOT(ISBLANK(PROGRAMACION!I26)),PROGRAMACION!I26,\"\")","v":""},{"$f":"IF(NOT(ISBLANK(PROGRAMACION!J26)),IF(PROGRAMACION!I26=\"Transformador\",MID(PROGRAMACION!J26,1,2),PROGRAMACION!J26),\"\")","v":""},{"$f":"IF(NOT(ISBLANK(PROGRAMACION!K26)),PROGRAMACION!K26,\"\")","v":""},{"$f":"IF(NOT(ISBLANK(PROGRAMACION!L26)),PROGRAMACION!L26,\"\")","v":""},{"$f":"IF(NOT(ISBLANK(PROGRAMACION!M26)),PROGRAMACION!M26,\"\")","v":""},{"$f":"IF(NOT(ISBLANK(PROGRAMACION!N26)),PROGRAMACION!N26,\"\")","v":""},{"$f":"IF(NOT(ISBLANK(PROGRAMACION!O26)),PROGRAMACION!O26,\"\")","v":""}]
[{"$f":"IF(NOT(ISBLANK(PROGRAMACION!A27)),PROGRAMACION!A27,\"\")","v":""},{"$f":"IF(NOT(ISBLANK(PROGRAMACION!B27)),PROGRAMACION!B27,\"\")","v":""},{"$f":"IF(NOT(ISBLANK(PROGRAMACION!C27)),PROGRAMACION!C27,\"\")","v":""},null,{"$f":"IF(NOT(ISBLANK(PROGRAMACION!E27)),PROGRAMACION!E27,\"\")","v":""},null,{"$f":"IF(NOT(ISBLANK(PROGRAMACION!G27)),PROGRAMACION!G27,\"\")","v":""},{"$f":"IF(NOT(ISBLANK(PROGRAMACION!H27)),PROGRAMACION!H27,\"\")","v":""},{"$f":"IF(NOT(ISBLANK(PROGRAMACION!I27)),PROGRAMACION!I27,\"\")","v":""},{"$f":"IF(NOT(ISBLANK(PROGRAMACION!J27)),IF(PROGRAMACION!I27=\"Transformador\",MID(PROGRAMACION!J27,1,2),PROGRAMACION!J27),\"\")","v":""},{"$f":"IF(NOT(ISBLANK(PROGRAMACION!K27)),PROGRAMACION!K27,\"\")","v":""},{"$f":"IF(NOT(ISBLANK(PROGRAMACION!L27)),PROGRAMACION!L27,\"\")","v":""},{"$f":"IF(NOT(ISBLANK(PROGRAMACION!M27)),PROGRAMACION!M27,\"\")","v":""},{"$f":"IF(NOT(ISBLANK(PROGRAMACION!N27)),PROGRAMACION!N27,\"\")","v":""},{"$f":"IF(NOT(ISBLANK(PROGRAMACION!O27)),PROGRAMACION!O27,\"\")","v":""}]
[{"$f":"IF(NOT(ISBLANK(PROGRAMACION!A28)),PROGRAMACION!A28,\"\")","v":""},{"$f":"IF(NOT(ISBLANK(PROGRAMACION!B28)),PROGRAMACION!B28,\"\")","v":""},{"$f":"IF(NOT(ISBLANK(PROGRAMACION!C28)),PROGRAMACION!C28,\"\")","v":""},null,{"$f":"IF(NOT(ISBLANK(PROGRAMACION!E28)),PROGRAMACION!E28,\"\")","v":""},null,{"$f":"IF(NOT(ISBLANK(PROGRAMACION!G28)),PROGRAMACION!G28,\"\")","v":""},{"$f":"IF(NOT(ISBLANK(PROGRAMACION!H28)),PROGRAMACION!H28,\"\")","v":""},{"$f":"IF(NOT(ISBLANK(PROGRAMACION!I28)),PROGRAMACION!I28,\"\")","v":""},{"$f":"IF(NOT(ISBLANK(PROGRAMACION!J28)),IF(PROGRAMACION!I28=\"Transformador\",MID(PROGRAMACION!J28,1,2),PROGRAMACION!J28),\"\")","v":""},{"$f":"IF(NOT(ISBLANK(PROGRAMACION!K28)),PROGRAMACION!K28,\"\")","v":""},{"$f":"IF(NOT(ISBLANK(PROGRAMACION!L28)),PROGRAMACION!L28,\"\")","v":""},{"$f":"IF(NOT(ISBLANK(PROGRAMACION!M28)),PROGRAMACION!M28,\"\")","v":""},{"$f":"IF(NOT(ISBLANK(PROGRAMACION!N28)),PROGRAMACION!N28,\"\")","v":""},{"$f":"IF(NOT(ISBLANK(PROGRAMACION!O28)),PROGRAMACION!O28,\"\")","v":""}]
[{"$f":"IF(NOT(ISBLANK(PROGRAMACION!A29)),PROGRAMACION!A29,\"\")","v":""},{"$f":"IF(NOT(ISBLANK(PROGRAMACION!B29)),PROGRAMACION!B29,\"\")","v":""},{"$f":"IF(NOT(ISBLANK(PROGRAMACION!C29)),PROGRAMACION!C29,\"\")","v":""},null,{"$f":"IF(NOT(ISBLANK(PROGRAMACION!E29)),PROGRAMACION!E29,\"\")","v":""},null,{"$f":"IF(NOT(ISBLANK(PROGRAMACION!G29)),PROGRAMACION!G29,\"\")","v":""},{"$f":"IF(NOT(ISBLANK(PROGRAMACION!H29)),PROGRAMACION!H29,\"\")","v":""},{"$f":"IF(NOT(ISBLANK(PROGRAMACION!I29)),PROGRAMACION!I29,\"\")","v":""},{"$f":"IF(NOT(ISBLANK(PROGRAMACION!J29)),IF(PROGRAMACION!I29=\"Transformador\",MID(PROGRAMACION!J29,1,2),PROGRAMACION!J29),\"\")","v":""},{"$f":"IF(NOT(ISBLANK(PROGRAMACION!K29)),PROGRAMACION!K29,\"\")","v":""},{"$f":"IF(NOT(ISBLANK(PROGRAMACION!L29)),PROGRAMACION!L29,\"\")","v":""},{"$f":"IF(NOT(ISBLANK(PROGRAMACION!M29)),PROGRAMACION!M29,\"\")","v":""},{"$f":"IF(NOT(ISBLANK(PROGRAMACION!N29)),PROGRAMACION!N29,\"\")","v":""},{"$f":"IF(NOT(ISBLANK(PROGRAMACION!O29)),PROGRAMACION!O29,\"\")","v":""}]
[{"$f":"IF(NOT(ISBLANK(PROGRAMACION!A30)),PROGRAMACION!A30,\"\")","v":""},{"$f":"IF(NOT(ISBLANK(PROGRAMACION!B30)),PROGRAMACION!B30,\"\")","v":""},{"$f":"IF(NOT(ISBLANK(PROGRAMACION!C30)),PROGRAMACION!C30,\"\")","v":""},null,{"$f":"IF(NOT(ISBLANK(PROGRAMACION!E30)),PROGRAMACION!E30,\"\")","v":""},null,{"$f":"IF(NOT(ISBLANK(PROGRAMACION!G30)),PROGRAMACION!G30,\"\")","v":""},{"$f":"IF(NOT(ISBLANK(PROGRAMACION!H30)),PROGRAMACION!H30,\"\")","v":""},{"$f":"IF(NOT(ISBLANK(PROGRAMACION!I30)),PROGRAMACION!I30,\"\")","v":""},{"$f":"IF(NOT(ISBLANK(PROGRAMACION!J30)),IF(PROGRAMACION!I30=\"Transformador\",MID(PROGRAMACION!J30,1,2),PROGRAMACION!J30),\"\")","v":""},{"$f":"IF(NOT(ISBLANK(PROGRAMACION!K30)),PROGRAMACION!K30,\"\")","v":""},{"$f":"IF(NOT(ISBLANK(PROGRAMACION!L30)),PROGRAMACION!L30,\"\")","v":""},{"$f":"IF(NOT(ISBLANK(PROGRAMACION!M30)),PROGRAMACION!M30,\"\")","v":""},{"$f":"IF(NOT(ISBLANK(PROGRAMACION!N30)),PROGRAMACION!N30,\"\")","v":""},{"$f":"IF(NOT(ISBLANK(PROGRAMACION!O30)),PROGRAMACION!O30,\"\")","v":""}]
[{"$f":"IF(NOT(ISBLANK(PROGRAMACION!A31)),PROGRAMACION!A31,\"\")","v":""},{"$f":"IF(NOT(ISBLANK(PROGRAMACION!B31)),PROGRAMACION!B31,\"\")","v":""},{"$f":"IF(NOT(ISBLANK(PROGRAMACION!C31)),PROGRAMACION!C31,\"\")","v":""},null,{"$f":"IF(NOT(ISBLANK(PROGRAMACION!E31)),PROGRAMACION!E31,\"\")","v":""},null,{"$f":"IF(NOT(ISBLANK(PROGRAMACION!G31)),PROGRAMACION!G31,\"\")","v":""},{"$f":"IF(NOT(ISBLANK(PROGRAMACION!H31)),PROGRAMACION!H31,\"\")","v":""},{"$f":"IF(NOT(ISBLANK(PROGRAMACION!I31)),PROGRAMACION!I31,\"\")","v":""},{"$f":"IF(NOT(ISBLANK(PROGRAMACION!J31)),IF(PROGRAMACION!I31=\"Transformador\",MID(PROGRAMACION!J31,1,2),PROGRAMACION!J31),\"\")","v":""},{"$f":"IF(NOT(ISBLANK(PROGRAMACION!K31)),PROGRAMACION!K31,\"\")","v":""},{"$f":"IF(NOT(ISBLANK(PROGRAMACION!L31)),PROGRAMACION!L31,\"\")","v":""},{"$f":"IF(NOT(ISBLANK(PROGRAMACION!M31)),PROGRAMACION!M31,\"\")","v":""},{"$f":"IF(NOT(ISBLANK(PROGRAMACION!N31)),PROGRAMACION!N31,\"\")","v":""},{"$f":"IF(NOT(ISBLANK(PROGRAMACION!O31)),PROGRAMACION!O31,\"\")","v":""}]
[{"$f":"IF(NOT(ISBLANK(PROGRAMACION!A32)),PROGRAMACION!A32,\"\")","v":""},{"$f":"IF(NOT(ISBLANK(PROGRAMACION!B32)),PROGRAMACION!B32,\"\")","v":""},{"$f":"IF(NOT(ISBLANK(PROGRAMACION!C32)),PROGRAMACION!C32,\"\")","v":""},null,{"$f":"IF(NOT(ISBLANK(PROGRAMACION!E32)),PROGRAMACION!E32,\"\")","v":""},null,{"$f":"IF(NOT(ISBLANK(PROGRAMACION!G32)),PROGRAMACION!G32,\"\")","v":""},{"$f":"IF(NOT(ISBLANK(PROGRAMACION!H32)),PROGRAMACION!H32,\"\")","v":""},{"$f":"IF(NOT(ISBLANK(PROGRAMACION!I32)),PROGRAMACION!I32,\"\")","v":""},{"$f":"IF(NOT(ISBLANK(PROGRAMACION!J32)),IF(PROGRAMACION!I32=\"Transformador\",MID(PROGRAMACION!J32,1,2),PROGRAMACION!J32),\"\")","v":""},{"$f":"IF(NOT(ISBLANK(PROGRAMACION!K32)),PROGRAMACION!K32,\"\")","v":""},{"$f":"IF(NOT(ISBLANK(PROGRAMACION!L32)),PROGRAMACION!L32,\"\")","v":""},{"$f":"IF(NOT(ISBLANK(PROGRAMACION!M32)),PROGRAMACION!M32,\"\")","v":""},{"$f":"IF(NOT(ISBLANK(PROGRAMACION!N32)),PROGRAMACION!N32,\"\")","v":""},{"$f":"IF(NOT(ISBLANK(PROGRAMACION!O32)),PROGRAMACION!O32,\"\")","v":""}]
[{"$f":"IF(NOT(ISBLANK(PROGRAMACION!A33)),PROGRAMACION!A33,\"\")","v":""},{"$f":"IF(NOT(ISBLANK(PROGRAMACION!B33)),PROGRAMACION!B33,\"\")","v":""},{"$f":"IF(NOT(ISBLANK(PROGRAMACION!C33)),PROGRAMACION!C33,\"\")","v":""},null,{"$f":"IF(NOT(ISBLANK(PROGRAMACION!E33)),PROGRAMACION!E33,\"\")","v":""},null,{"$f":"IF(NOT(ISBLANK(PROGRAMACION!G33)),PROGRAMACION!G33,\"\")","v":""},{"$f":"IF(NOT(ISBLANK(PROGRAMACION!H33)),PROGRAMACION!H33,\"\")","v":""},{"$f":"IF(NOT(ISBLANK(PROGRAMACION!I33)),PROGRAMACION!I33,\"\")","v":""},{"$f":"IF(NOT(ISBLANK(PROGRAMACION!J33)),IF(PROGRAMACION!I33=\"Transformador\",MID(PROGRAMACION!J33,1,2),PROGRAMACION!J33),\"\")","v":""},{"$f":"IF(NOT(ISBLANK(PROGRAMACION!K33)),PROGRAMACION!K33,\"\")","v":""},{"$f":"IF(NOT(ISBLANK(PROGRAMACION!L33)),PROGRAMACION!L33,\"\")","v":""},{"$f":"IF(NOT(ISBLANK(PROGRAMACION!M33)),PROGRAMACION!M33,\"\")","v":""},{"$f":"IF(NOT(ISBLANK(PROGRAMACION!N33)),PROGRAMACION!N33,\"\")","v":""},{"$f":"IF(NOT(ISBLANK(PROGRAMACION!O33)),PROGRAMACION!O33,\"\")","v":""}]
[{"$f":"IF(NOT(ISBLANK(PROGRAMACION!A34)),PROGRAMACION!A34,\"\")","v":""},{"$f":"IF(NOT(ISBLANK(PROGRAMACION!B34)),PROGRAMACION!B34,\"\")","v":""},{"$f":"IF(NOT(ISBLANK(PROGRAMACION!C34)),PROGRAMACION!C34,\"\")","v":""},null,{"$f":"IF(NOT(ISBLANK(PROGRAMACION!E34)),PROGRAMACION!E34,\"\")","v":""},null,{"$f":"IF(NOT(ISBLANK(PROGRAMACION!G34)),PROGRAMACION!G34,\"\")","v":""},{"$f":"IF(NOT(ISBLANK(PROGRAMACION!H34)),PROGRAMACION!H34,\"\")","v":""},{"$f":"IF(NOT(ISBLANK(PROGRAMACION!I34)),PROGRAMACION!I34,\"\")","v":""},{"$f":"IF(NOT(ISBLANK(PROGRAMACION!J34)),IF(PROGRAMACION!I34=\"Transformador\",MID(PROGRAMACION!J34,1,2),PROGRAMACION!J34),\"\")","v":""},{"$f":"IF(NOT(ISBLANK(PROGRAMACION!K34)),PROGRAMACION!K34,\"\")","v":""},{"$f":"IF(NOT(ISBLANK(PROGRAMACION!L34)),PROGRAMACION!L34,\"\")","v":""},{"$f":"IF(NOT(ISBLANK(PROGRAMACION!M34)),PROGRAMACION!M34,\"\")","v":""},{"$f":"IF(NOT(ISBLANK(PROGRAMACION!N34)),PROGRAMACION!N34,\"\")","v":""},{"$f":"IF(NOT(ISBLANK(PROGRAMACION!O34)),PROGRAMACION!O34,\"\")","v":""}]
[{"$f":"IF(NOT(ISBLANK(PROGRAMACION!A35)),PROGRAMACION!A35,\"\")","v":""},{"$f":"IF(NOT(ISBLANK(PROGRAMACION!B35)),PROGRAMACION!B35,\"\")","v":""},{"$f":"IF(NOT(ISBLANK(PROGRAMACION!C35)),PROGRAMACION!C35,\"\")","v":""},null,{"$f":"IF(NOT(ISBLANK(PROGRAMACION!E35)),PROGRAMACION!E35,\"\")","v":""},null,{"$f":"IF(NOT(ISBLANK(PROGRAMACION!G35)),PROGRAMACION!G35,\"\")","v":""},{"$f":"IF(NOT(ISBLANK(PROGRAMACION!H35)),PROGRAMACION!H35,\"\")","v":""},{"$f":"IF(NOT(ISBLANK(PROGRAMACION!I35)),PROGRAMACION!I35,\"\")","v":""},{"$f":"IF(NOT(ISBLANK(PROGRAMACION!J35)),IF(PROGRAMACION!I35=\"Transformador\",MID(PROGRAMACION!J35,1,2),PROGRAMACION!J35),\"\")","v":""},{"$f":"IF(NOT(ISBLANK(PROGRAMACION!K35)),PROGRAMACION!K35,\"\")","v":""},{"$f":"IF(NOT(ISBLANK(PROGRAMACION!L35)),PROGRAMACION!L35,\"\")","v":""},{"$f":"IF(NOT(ISBLANK(PROGRAMACION!M35)),PROGRAMACION!M35,\"\")","v":""},{"$f":"IF(NOT(ISBLANK(PROGRAMACION!N35)),PROGRAMACION!N35,\"\")","v":""},{"$f":"IF(NOT(ISBLANK(PROGRAMACION!O35)),PROGRAMACION!O35,\"\")","v":""}]
[{"$f":"IF(NOT(ISBLANK(PROGRAMACION!A36)),PROGRAMACION!A36,\"\")","v":""},{"$f":"IF(NOT(ISBLANK(PROGRAMACION!B36)),PROGRAMACION!B36,\"\")","v":""},{"$f":"IF(NOT(ISBLANK(PROGRAMACION!C36)),PROGRAMACION!C36,\"\")","v":""},null,{"$f":"IF(NOT(ISBLANK(PROGRAMACION!E36)),PROGRAMACION!E36,\"\")","v":""},null,{"$f":"IF(NOT(ISBLANK(PROGRAMACION!G36)),PROGRAMACION!G36,\"\")","v":""},{"$f":"IF(NOT(ISBLANK(PROGRAMACION!H36)),PROGRAMACION!H36,\"\")","v":""},{"$f":"IF(NOT(ISBLANK(PROGRAMACION!I36)),PROGRAMACION!I36,\"\")","v":""},{"$f":"IF(NOT(ISBLANK(PROGRAMACION!J36)),IF(PROGRAMACION!I36=\"Transformador\",MID(PROGRAMACION!J36,1,2),PROGRAMACION!J36),\"\")","v":""},{"$f":"IF(NOT(ISBLANK(PROGRAMACION!K36)),PROGRAMACION!K36,\"\")","v":""},{"$f":"IF(NOT(ISBLANK(PROGRAMACION!L36)),PROGRAMACION!L36,\"\")","v":""},{"$f":"IF(NOT(ISBLANK(PROGRAMACION!M36)),PROGRAMACION!M36,\"\")","v":""},{"$f":"IF(NOT(ISBLANK(PROGRAMACION!N36)),PROGRAMACION!N36,\"\")","v":""},{"$f":"IF(NOT(ISBLANK(PROGRAMACION!O36)),PROGRAMACION!O36,\"\")","v":""}]
[{"$f":"IF(NOT(ISBLANK(PROGRAMACION!A37)),PROGRAMACION!A37,\"\")","v":""},{"$f":"IF(NOT(ISBLANK(PROGRAMACION!B37)),PROGRAMACION!B37,\"\")","v":""},{"$f":"IF(NOT(ISBLANK(PROGRAMACION!C37)),PROGRAMACION!C37,\"\")","v":""},null,{"$f":"IF(NOT(ISBLANK(PROGRAMACION!E37)),PROGRAMACION!E37,\"\")","v":""},null,{"$f":"IF(NOT(ISBLANK(PROGRAMACION!G37)),PROGRAMACION!G37,\"\")","v":""},{"$f":"IF(NOT(ISBLANK(PROGRAMACION!H37)),PROGRAMACION!H37,\"\")","v":""},{"$f":"IF(NOT(ISBLANK(PROGRAMACION!I37)),PROGRAMACION!I37,\"\")","v":""},{"$f":"IF(NOT(ISBLANK(PROGRAMACION!J37)),IF(PROGRAMACION!I37=\"Transformador\",MID(PROGRAMACION!J37,1,2),PROGRAMACION!J37),\"\")","v":""},{"$f":"IF(NOT(ISBLANK(PROGRAMACION!K37)),PROGRAMACION!K37,\"\")","v":""},{"$f":"IF(NOT(ISBLANK(PROGRAMACION!L37)),PROGRAMACION!L37,\"\")","v":""},{"$f":"IF(NOT(ISBLANK(PROGRAMACION!M37)),PROGRAMACION!M37,\"\")","v":""},{"$f":"IF(NOT(ISBLANK(PROGRAMACION!N37)),PROGRAMACION!N37,\"\")","v":""},{"$f":"IF(NOT(ISBLANK(PROGRAMACION!O37)),PROGRAMACION!O37,\"\")","v":""}]
[{"$f":"IF(NOT(ISBLANK(PROGRAMACION!A38)),PROGRAMACION!A38,\"\")","v":""},{"$f":"IF(NOT(ISBLANK(PROGRAMACION!B38)),PROGRAMACION!B38,\"\")","v":""},{"$f":"IF(NOT(ISBLANK(PROGRAMACION!C38)),PROGRAMACION!C38,\"\")","v":""},null,{"$f":"IF(NOT(ISBLANK(PROGRAMACION!E38)),PROGRAMACION!E38,\"\")","v":""},null,{"$f":"IF(NOT(ISBLANK(PROGRAMACION!G38)),PROGRAMACION!G38,\"\")","v":""},{"$f":"IF(NOT(ISBLANK(PROGRAMACION!H38)),PROGRAMACION!H38,\"\")","v":""},{"$f":"IF(NOT(ISBLANK(PROGRAMACION!I38)),PROGRAMACION!I38,\"\")","v":""},{"$f":"IF(NOT(ISBLANK(PROGRAMACION!J38)),IF(PROGRAMACION!I38=\"Transformador\",MID(PROGRAMACION!J38,1,2),PROGRAMACION!J38),\"\")","v":""},{"$f":"IF(NOT(ISBLANK(PROGRAMACION!K38)),PROGRAMACION!K38,\"\")","v":""},{"$f":"IF(NOT(ISBLANK(PROGRAMACION!L38)),PROGRAMACION!L38,\"\")","v":""},{"$f":"IF(NOT(ISBLANK(PROGRAMACION!M38)),PROGRAMACION!M38,\"\")","v":""},{"$f":"IF(NOT(ISBLANK(PROGRAMACION!N38)),PROGRAMACION!N38,\"\")","v":""},{"$f":"IF(NOT(ISBLANK(PROGRAMACION!O38)),PROGRAMACION!O38,\"\")","v":""}]
[{"$f":"IF(NOT(ISBLANK(PROGRAMACION!A39)),PROGRAMACION!A39,\"\")","v":""},{"$f":"IF(NOT(ISBLANK(PROGRAMACION!B39)),PROGRAMACION!B39,\"\")","v":""},{"$f":"IF(NOT(ISBLANK(PROGRAMACION!C39)),PROGRAMACION!C39,\"\")","v":""},null,{"$f":"IF(NOT(ISBLANK(PROGRAMACION!E39)),PROGRAMACION!E39,\"\")","v":""},null,{"$f":"IF(NOT(ISBLANK(PROGRAMACION!G39)),PROGRAMACION!G39,\"\")","v":""},{"$f":"IF(NOT(ISBLANK(PROGRAMACION!H39)),PROGRAMACION!H39,\"\")","v":""},{"$f":"IF(NOT(ISBLANK(PROGRAMACION!I39)),PROGRAMACION!I39,\"\")","v":""},{"$f":"IF(NOT(ISBLANK(PROGRAMACION!J39)),IF(PROGRAMACION!I39=\"Transformador\",MID(PROGRAMACION!J39,1,2),PROGRAMACION!J39),\"\")","v":""},{"$f":"IF(NOT(ISBLANK(PROGRAMACION!K39)),PROGRAMACION!K39,\"\")","v":""},{"$f":"IF(NOT(ISBLANK(PROGRAMACION!L39)),PROGRAMACION!L39,\"\")","v":""},{"$f":"IF(NOT(ISBLANK(PROGRAMACION!M39)),PROGRAMACION!M39,\"\")","v":""},{"$f":"IF(NOT(ISBLANK(PROGRAMACION!N39)),PROGRAMACION!N39,\"\")","v":""},{"$f":"IF(NOT(ISBLANK(PROGRAMACION!O39)),PROGRAMACION!O39,\"\")","v":""}]
[{"$f":"IF(NOT(ISBLANK(PROGRAMACION!A40)),PROGRAMACION!A40,\"\")","v":""},{"$f":"IF(NOT(ISBLANK(PROGRAMACION!B40)),PROGRAMACION!B40,\"\")","v":""},{"$f":"IF(NOT(ISBLANK(PROGRAMACION!C40)),PROGRAMACION!C40,\"\")","v":""},null,{"$f":"IF(NOT(ISBLANK(PROGRAMACION!E40)),PROGRAMACION!E40,\"\")","v":""},null,{"$f":"IF(NOT(ISBLANK(PROGRAMACION!G40)),PROGRAMACION!G40,\"\")","v":""},{"$f":"IF(NOT(ISBLANK(PROGRAMACION!H40)),PROGRAMACION!H40,\"\")","v":""},{"$f":"IF(NOT(ISBLANK(PROGRAMACION!I40)),PROGRAMACION!I40,\"\")","v":""},{"$f":"IF(NOT(ISBLANK(PROGRAMACION!J40)),IF(PROGRAMACION!I40=\"Transformador\",MID(PROGRAMACION!J40,1,2),PROGRAMACION!J40),\"\")","v":""},{"$f":"IF(NOT(ISBLANK(PROGRAMACION!K40)),PROGRAMACION!K40,\"\")","v":""},{"$f":"IF(NOT(ISBLANK(PROGRAMACION!L40)),PROGRAMACION!L40,\"\")","v":""},{"$f":"IF(NOT(ISBLANK(PROGRAMACION!M40)),PROGRAMACION!M40,\"\")","v":""},{"$f":"IF(NOT(ISBLANK(PROGRAMACION!N40)),PROGRAMACION!N40,\"\")","v":""},{"$f":"IF(NOT(ISBLANK(PROGRAMACION!O40)),PROGRAMACION!O40,\"\")","v":""}]
[{"$f":"IF(NOT(ISBLANK(PROGRAMACION!A41)),PROGRAMACION!A41,\"\")","v":""},{"$f":"IF(NOT(ISBLANK(PROGRAMACION!B41)),PROGRAMACION!B41,\"\")","v":""},{"$f":"IF(NOT(ISBLANK(PROGRAMACION!C41)),PROGRAMACION!C41,\"\")","v":""},null,{"$f":"IF(NOT(ISBLANK(PROGRAMACION!E41)),PROGRAMACION!E41,\"\")","v":""},null,{"$f":"IF(NOT(ISBLANK(PROGRAMACION!G41)),PROGRAMACION!G41,\"\")","v":""},{"$f":"IF(NOT(ISBLANK(PROGRAMACION!H41)),PROGRAMACION!H41,\"\")","v":""},{"$f":"IF(NOT(ISBLANK(PROGRAMACION!I41)),PROGRAMACION!I41,\"\")","v":""},{"$f":"IF(NOT(ISBLANK(PROGRAMACION!J41)),IF(PROGRAMACION!I41=\"Transformador\",MID(PROGRAMACION!J41,1,2),PROGRAMACION!J41),\"\")","v":""},{"$f":"IF(NOT(ISBLANK(PROGRAMACION!K41)),PROGRAMACION!K41,\"\")","v":""},{"$f":"IF(NOT(ISBLANK(PROGRAMACION!L41)),PROGRAMACION!L41,\"\")","v":""},{"$f":"IF(NOT(ISBLANK(PROGRAMACION!M41)),PROGRAMACION!M41,\"\")","v":""},{"$f":"IF(NOT(ISBLANK(PROGRAMACION!N41)),PROGRAMACION!N41,\"\")","v":""},{"$f":"IF(NOT(ISBLANK(PROGRAMACION!O41)),PROGRAMACION!O41,\"\")","v":""}]
[{"$f":"IF(NOT(ISBLANK(PROGRAMACION!A42)),PROGRAMACION!A42,\"\")","v":""},{"$f":"IF(NOT(ISBLANK(PROGRAMACION!B42)),PROGRAMACION!B42,\"\")","v":""},{"$f":"IF(NOT(ISBLANK(PROGRAMACION!C42)),PROGRAMACION!C42,\"\")","v":""},null,{"$f":"IF(NOT(ISBLANK(PROGRAMACION!E42)),PROGRAMACION!E42,\"\")","v":""},null,{"$f":"IF(NOT(ISBLANK(PROGRAMACION!G42)),PROGRAMACION!G42,\"\")","v":""},{"$f":"IF(NOT(ISBLANK(PROGRAMACION!H42)),PROGRAMACION!H42,\"\")","v":""},{"$f":"IF(NOT(ISBLANK(PROGRAMACION!I42)),PROGRAMACION!I42,\"\")","v":""},{"$f":"IF(NOT(ISBLANK(PROGRAMACION!J42)),IF(PROGRAMACION!I42=\"Transformador\",MID(PROGRAMACION!J42,1,2),PROGRAMACION!J42),\"\")","v":""},{"$f":"IF(NOT(ISBLANK(PROGRAMACION!K42)),PROGRAMACION!K42,\"\")","v":""},{"$f":"IF(NOT(ISBLANK(PROGRAMACION!L42)),PROGRAMACION!L42,\"\")","v":""},{"$f":"IF(NOT(ISBLANK(PROGRAMACION!M42)),PROGRAMACION!M42,\"\")","v":""},{"$f":"IF(NOT(ISBLANK(PROGRAMACION!N42)),PROGRAMACION!N42,\"\")","v":""},{"$f":"IF(NOT(ISBLANK(PROGRAMACION!O42)),PROGRAMACION!O42,\"\")","v":""}]
[{"$f":"IF(NOT(ISBLANK(PROGRAMACION!A43)),PROGRAMACION!A43,\"\")","v":""},{"$f":"IF(NOT(ISBLANK(PROGRAMACION!B43)),PROGRAMACION!B43,\"\")","v":""},{"$f":"IF(NOT(ISBLANK(PROGRAMACION!C43)),PROGRAMACION!C43,\"\")","v":""},null,{"$f":"IF(NOT(ISBLANK(PROGRAMACION!E43)),PROGRAMACION!E43,\"\")","v":""},null,{"$f":"IF(NOT(ISBLANK(PROGRAMACION!G43)),PROGRAMACION!G43,\"\")","v":""},{"$f":"IF(NOT(ISBLANK(PROGRAMACION!H43)),PROGRAMACION!H43,\"\")","v":""},{"$f":"IF(NOT(ISBLANK(PROGRAMACION!I43)),PROGRAMACION!I43,\"\")","v":""},{"$f":"IF(NOT(ISBLANK(PROGRAMACION!J43)),IF(PROGRAMACION!I43=\"Transformador\",MID(PROGRAMACION!J43,1,2),PROGRAMACION!J43),\"\")","v":""},{"$f":"IF(NOT(ISBLANK(PROGRAMACION!K43)),PROGRAMACION!K43,\"\")","v":""},{"$f":"IF(NOT(ISBLANK(PROGRAMACION!L43)),PROGRAMACION!L43,\"\")","v":""},{"$f":"IF(NOT(ISBLANK(PROGRAMACION!M43)),PROGRAMACION!M43,\"\")","v":""},{"$f":"IF(NOT(ISBLANK(PROGRAMACION!N43)),PROGRAMACION!N43,\"\")","v":""},{"$f":"IF(NOT(ISBLANK(PROGRAMACION!O43)),PROGRAMACION!O43,\"\")","v":""}]
[{"$f":"IF(NOT(ISBLANK(PROGRAMACION!A44)),PROGRAMACION!A44,\"\")","v":""},{"$f":"IF(NOT(ISBLANK(PROGRAMACION!B44)),PROGRAMACION!B44,\"\")","v":""},{"$f":"IF(NOT(ISBLANK(PROGRAMACION!C44)),PROGRAMACION!C44,\"\")","v":""},null,{"$f":"IF(NOT(ISBLANK(PROGRAMACION!E44)),PROGRAMACION!E44,\"\")","v":""},null,{"$f":"IF(NOT(ISBLANK(PROGRAMACION!G44)),PROGRAMACION!G44,\"\")","v":""},{"$f":"IF(NOT(ISBLANK(PROGRAMACION!H44)),PROGRAMACION!H44,\"\")","v":""},{"$f":"IF(NOT(ISBLANK(PROGRAMACION!I44)),PROGRAMACION!I44,\"\")","v":""},{"$f":"IF(NOT(ISBLANK(PROGRAMACION!J44)),IF(PROGRAMACION!I44=\"Transformador\",MID(PROGRAMACION!J44,1,2),PROGRAMACION!J44),\"\")","v":""},{"$f":"IF(NOT(ISBLANK(PROGRAMACION!K44)),PROGRAMACION!K44,\"\")","v":""},{"$f":"IF(NOT(ISBLANK(PROGRAMACION!L44)),PROGRAMACION!L44,\"\")","v":""},{"$f":"IF(NOT(ISBLANK(PROGRAMACION!M44)),PROGRAMACION!M44,\"\")","v":""},{"$f":"IF(NOT(ISBLANK(PROGRAMACION!N44)),PROGRAMACION!N44,\"\")","v":""},{"$f":"IF(NOT(ISBLANK(PROGRAMACION!O44)),PROGRAMACION!O44,\"\")","v":""}]
[{"$f":"IF(NOT(ISBLANK(PROGRAMACION!A45)),PROGRAMACION!A45,\"\")","v":""},{"$f":"IF(NOT(ISBLANK(PROGRAMACION!B45)),PROGRAMACION!B45,\"\")","v":""},{"$f":"IF(NOT(ISBLANK(PROGRAMACION!C45)),PROGRAMACION!C45,\"\")","v":""},null,{"$f":"IF(NOT(ISBLANK(PROGRAMACION!E45)),PROGRAMACION!E45,\"\")","v":""},null,{"$f":"IF(NOT(ISBLANK(PROGRAMACION!G45)),PROGRAMACION!G45,\"\")","v":""},{"$f":"IF(NOT(ISBLANK(PROGRAMACION!H45)),PROGRAMACION!H45,\"\")","v":""},{"$f":"IF(NOT(ISBLANK(PROGRAMACION!I45)),PROGRAMACION!I45,\"\")","v":""},{"$f":"IF(NOT(ISBLANK(PROGRAMACION!J45)),IF(PROGRAMACION!I45=\"Transformador\",MID(PROGRAMACION!J45,1,2),PROGRAMACION!J45),\"\")","v":""},{"$f":"IF(NOT(ISBLANK(PROGRAMACION!K45)),PROGRAMACION!K45,\"\")","v":""},{"$f":"IF(NOT(ISBLANK(PROGRAMACION!L45)),PROGRAMACION!L45,\"\")","v":""},{"$f":"IF(NOT(ISBLANK(PROGRAMACION!M45)),PROGRAMACION!M45,\"\")","v":""},{"$f":"IF(NOT(ISBLANK(PROGRAMACION!N45)),PROGRAMACION!N45,\"\")","v":""},{"$f":"IF(NOT(ISBLANK(PROGRAMACION!O45)),PROGRAMACION!O45,\"\")","v":""}]
[{"$f":"IF(NOT(ISBLANK(PROGRAMACION!A46)),PROGRAMACION!A46,\"\")","v":""},{"$f":"IF(NOT(ISBLANK(PROGRAMACION!B46)),PROGRAMACION!B46,\"\")","v":""},{"$f":"IF(NOT(ISBLANK(PROGRAMACION!C46)),PROGRAMACION!C46,\"\")","v":""},null,{"$f":"IF(NOT(ISBLANK(PROGRAMACION!E46)),PROGRAMACION!E46,\"\")","v":""},null,{"$f":"IF(NOT(ISBLANK(PROGRAMACION!G46)),PROGRAMACION!G46,\"\")","v":""},{"$f":"IF(NOT(ISBLANK(PROGRAMACION!H46)),PROGRAMACION!H46,\"\")","v":""},{"$f":"IF(NOT(ISBLANK(PROGRAMACION!I46)),PROGRAMACION!I46,\"\")","v":""},{"$f":"IF(NOT(ISBLANK(PROGRAMACION!J46)),IF(PROGRAMACION!I46=\"Transformador\",MID(PROGRAMACION!J46,1,2),PROGRAMACION!J46),\"\")","v":""},{"$f":"IF(NOT(ISBLANK(PROGRAMACION!K46)),PROGRAMACION!K46,\"\")","v":""},{"$f":"IF(NOT(ISBLANK(PROGRAMACION!L46)),PROGRAMACION!L46,\"\")","v":""},{"$f":"IF(NOT(ISBLANK(PROGRAMACION!M46)),PROGRAMACION!M46,\"\")","v":""},{"$f":"IF(NOT(ISBLANK(PROGRAMACION!N46)),PROGRAMACION!N46,\"\")","v":""},{"$f":"IF(NOT(ISBLANK(PROGRAMACION!O46)),PROGRAMACION!O46,\"\")","v":""}]
[{"$f":"IF(NOT(ISBLANK(PROGRAMACION!A47)),PROGRAMACION!A47,\"\")","v":""},{"$f":"IF(NOT(ISBLANK(PROGRAMACION!B47)),PROGRAMACION!B47,\"\")","v":""},{"$f":"IF(NOT(ISBLANK(PROGRAMACION!C47)),PROGRAMACION!C47,\"\")","v":""},null,{"$f":"IF(NOT(ISBLANK(PROGRAMACION!E47)),PROGRAMACION!E47,\"\")","v":""},null,{"$f":"IF(NOT(ISBLANK(PROGRAMACION!G47)),PROGRAMACION!G47,\"\")","v":""},{"$f":"IF(NOT(ISBLANK(PROGRAMACION!H47)),PROGRAMACION!H47,\"\")","v":""},{"$f":"IF(NOT(ISBLANK(PROGRAMACION!I47)),PROGRAMACION!I47,\"\")","v":""},{"$f":"IF(NOT(ISBLANK(PROGRAMACION!J47)),IF(PROGRAMACION!I47=\"Transformador\",MID(PROGRAMACION!J47,1,2),PROGRAMACION!J47),\"\")","v":""},{"$f":"IF(NOT(ISBLANK(PROGRAMACION!K47)),PROGRAMACION!K47,\"\")","v":""},{"$f":"IF(NOT(ISBLANK(PROGRAMACION!L47)),PROGRAMACION!L47,\"\")","v":""},{"$f":"IF(NOT(ISBLANK(PROGRAMACION!M47)),PROGRAMACION!M47,\"\")","v":""},{"$f":"IF(NOT(ISBLANK(PROGRAMACION!N47)),PROGRAMACION!N47,\"\")","v":""},{"$f":"IF(NOT(ISBLANK(PROGRAMACION!O47)),PROGRAMACION!O47,\"\")","v":""}]
[{"$f":"IF(NOT(ISBLANK(PROGRAMACION!A48)),PROGRAMACION!A48,\"\")","v":""},{"$f":"IF(NOT(ISBLANK(PROGRAMACION!B48)),PROGRAMACION!B48,\"\")","v":""},{"$f":"IF(NOT(ISBLANK(PROGRAMACION!C48)),PROGRAMACION!C48,\"\")","v":""},null,{"$f":"IF(NOT(ISBLANK(PROGRAMACION!E48)),PROGRAMACION!E48,\"\")","v":""},null,{"$f":"IF(NOT(ISBLANK(PROGRAMACION!G48)),PROGRAMACION!G48,\"\")","v":""},{"$f":"IF(NOT(ISBLANK(PROGRAMACION!H48)),PROGRAMACION!H48,\"\")","v":""},{"$f":"IF(NOT(ISBLANK(PROGRAMACION!I48)),PROGRAMACION!I48,\"\")","v":""},{"$f":"IF(NOT(ISBLANK(PROGRAMACION!J48)),IF(PROGRAMACION!I48=\"Transformador\",MID(PROGRAMACION!J48,1,2),PROGRAMACION!J48),\"\")","v":""},{"$f":"IF(NOT(ISBLANK(PROGRAMACION!K48)),PROGRAMACION!K48,\"\")","v":""},{"$f":"IF(NOT(ISBLANK(PROGRAMACION!L48)),PROGRAMACION!L48,\"\")","v":""},{"$f":"IF(NOT(ISBLANK(PROGRAMACION!M48)),PROGRAMACION!M48,\"\")","v":""},{"$f":"IF(NOT(ISBLANK(PROGRAMACION!N48)),PROGRAMACION!N48,\"\")","v":""},{"$f":"IF(NOT(ISBLANK(PROGRAMACION!O48)),PROGRAMACION!O48,\"\")","v":""}]
[{"$f":"IF(NOT(ISBLANK(PROGRAMACION!A49)),PROGRAMACION!A49,\"\")","v":""},{"$f":"IF(NOT(ISBLANK(PROGRAMACION!B49)),PROGRAMACION!B49,\"\")","v":""},{"$f":"IF(NOT(ISBLANK(PROGRAMACION!C49)),PROGRAMACION!C49,\"\")","v":""},null,{"$f":"IF(NOT(ISBLANK(PROGRAMACION!E49)),PROGRAMACION!E49,\"\")","v":""},null,{"$f":"IF(NOT(ISBLANK(PROGRAMACION!G49)),PROGRAMACION!G49,\"\")","v":""},{"$f":"IF(NOT(ISBLANK(PROGRAMACION!H49)),PROGRAMACION!H49,\"\")","v":""},{"$f":"IF(NOT(ISBLANK(PROGRAMACION!I49)),PROGRAMACION!I49,\"\")","v":""},{"$f":"IF(NOT(ISBLANK(PROGRAMACION!J49)),IF(PROGRAMACION!I49=\"Transformador\",MID(PROGRAMACION!J49,1,2),PROGRAMACION!J49),\"\")","v":""},{"$f":"IF(NOT(ISBLANK(PROGRAMACION!K49)),PROGRAMACION!K49,\"\")","v":""},{"$f":"IF(NOT(ISBLANK(PROGRAMACION!L49)),PROGRAMACION!L49,\"\")","v":""},{"$f":"IF(NOT(ISBLANK(PROGRAMACION!M49)),PROGRAMACION!M49,\"\")","v":""},{"$f":"IF(NOT(ISBLANK(PROGRAMACION!N49)),PROGRAMACION!N49,\"\")","v":""},{"$f":"IF(NOT(ISBLANK(PROGRAMACION!O49)),PROGRAMACION!O49,\"\")","v":""}]
[{"$f":"IF(NOT(ISBLANK(PROGRAMACION!A50)),PROGRAMACION!A50,\"\")","v":""},{"$f":"IF(NOT(ISBLANK(PROGRAMACION!B50)),PROGRAMACION!B50,\"\")","v":""},{"$f":"IF(NOT(ISBLANK(PROGRAMACION!C50)),PROGRAMACION!C50,\"\")","v":""},null,{"$f":"IF(NOT(ISBLANK(PROGRAMACION!E50)),PROGRAMACION!E50,\"\")","v":""},null,{"$f":"IF(NOT(ISBLANK(PROGRAMACION!G50)),PROGRAMACION!G50,\"\")","v":""},{"$f":"IF(NOT(ISBLANK(PROGRAMACION!H50)),PROGRAMACION!H50,\"\")","v":""},{"$f":"IF(NOT(ISBLANK(PROGRAMACION!I50)),PROGRAMACION!I50,\"\")","v":""},{"$f":"IF(NOT(ISBLANK(PROGRAMACION!J50)),IF(PROGRAMACION!I50=\"Transformador\",MID(PROGRAMACION!J50,1,2),PROGRAMACION!J50),\"\")","v":""},{"$f":"IF(NOT(ISBLANK(PROGRAMACION!K50)),PROGRAMACION!K50,\"\")","v":""},{"$f":"IF(NOT(ISBLANK(PROGRAMACION!L50)),PROGRAMACION!L50,\"\")","v":""},{"$f":"IF(NOT(ISBLANK(PROGRAMACION!M50)),PROGRAMACION!M50,\"\")","v":""},{"$f":"IF(NOT(ISBLANK(PROGRAMACION!N50)),PROGRAMACION!N50,\"\")","v":""},{"$f":"IF(NOT(ISBLANK(PROGRAMACION!O50)),PROGRAMACION!O50,\"\")","v":""}]
[{"$f":"IF(NOT(ISBLANK(PROGRAMACION!A51)),PROGRAMACION!A51,\"\")","v":""},{"$f":"IF(NOT(ISBLANK(PROGRAMACION!B51)),PROGRAMACION!B51,\"\")","v":""},{"$f":"IF(NOT(ISBLANK(PROGRAMACION!C51)),PROGRAMACION!C51,\"\")","v":""},null,{"$f":"IF(NOT(ISBLANK(PROGRAMACION!E51)),PROGRAMACION!E51,\"\")","v":""},null,{"$f":"IF(NOT(ISBLANK(PROGRAMACION!G51)),PROGRAMACION!G51,\"\")","v":""},{"$f":"IF(NOT(ISBLANK(PROGRAMACION!H51)),PROGRAMACION!H51,\"\")","v":""},{"$f":"IF(NOT(ISBLANK(PROGRAMACION!I51)),PROGRAMACION!I51,\"\")","v":""},{"$f":"IF(NOT(ISBLANK(PROGRAMACION!J51)),IF(PROGRAMACION!I51=\"Transformador\",MID(PROGRAMACION!J51,1,2),PROGRAMACION!J51),\"\")","v":""},{"$f":"IF(NOT(ISBLANK(PROGRAMACION!K51)),PROGRAMACION!K51,\"\")","v":""},{"$f":"IF(NOT(ISBLANK(PROGRAMACION!L51)),PROGRAMACION!L51,\"\")","v":""},{"$f":"IF(NOT(ISBLANK(PROGRAMACION!M51)),PROGRAMACION!M51,\"\")","v":""},{"$f":"IF(NOT(ISBLANK(PROGRAMACION!N51)),PROGRAMACION!N51,\"\")","v":""},{"$f":"IF(NOT(ISBLANK(PROGRAMACION!O51)),PROGRAMACION!O51,\"\")","v":""}]
[{"$f":"IF(NOT(ISBLANK(PROGRAMACION!A52)),PROGRAMACION!A52,\"\")","v":""},{"$f":"IF(NOT(ISBLANK(PROGRAMACION!B52)),PROGRAMACION!B52,\"\")","v":""},{"$f":"IF(NOT(ISBLANK(PROGRAMACION!C52)),PROGRAMACION!C52,\"\")","v":""},null,{"$f":"IF(NOT(ISBLANK(PROGRAMACION!E52)),PROGRAMACION!E52,\"\")","v":""},null,{"$f":"IF(NOT(ISBLANK(PROGRAMACION!G52)),PROGRAMACION!G52,\"\")","v":""},{"$f":"IF(NOT(ISBLANK(PROGRAMACION!H52)),PROGRAMACION!H52,\"\")","v":""},{"$f":"IF(NOT(ISBLANK(PROGRAMACION!I52)),PROGRAMACION!I52,\"\")","v":""},{"$f":"IF(NOT(ISBLANK(PROGRAMACION!J52)),IF(PROGRAMACION!I52=\"Transformador\",MID(PROGRAMACION!J52,1,2),PROGRAMACION!J52),\"\")","v":""},{"$f":"IF(NOT(ISBLANK(PROGRAMACION!K52)),PROGRAMACION!K52,\"\")","v":""},{"$f":"IF(NOT(ISBLANK(PROGRAMACION!L52)),PROGRAMACION!L52,\"\")","v":""},{"$f":"IF(NOT(ISBLANK(PROGRAMACION!M52)),PROGRAMACION!M52,\"\")","v":""},{"$f":"IF(NOT(ISBLANK(PROGRAMACION!N52)),PROGRAMACION!N52,\"\")","v":""},{"$f":"IF(NOT(ISBLANK(PROGRAMACION!O52)),PROGRAMACION!O52,\"\")","v":""}]
[{"$f":"IF(NOT(ISBLANK(PROGRAMACION!A53)),PROGRAMACION!A53,\"\")","v":""},{"$f":"IF(NOT(ISBLANK(PROGRAMACION!B53)),PROGRAMACION!B53,\"\")","v":""},{"$f":"IF(NOT(ISBLANK(PROGRAMACION!C53)),PROGRAMACION!C53,\"\")","v":""},null,{"$f":"IF(NOT(ISBLANK(PROGRAMACION!E53)),PROGRAMACION!E53,\"\")","v":""},null,{"$f":"IF(NOT(ISBLANK(PROGRAMACION!G53)),PROGRAMACION!G53,\"\")","v":""},{"$f":"IF(NOT(ISBLANK(PROGRAMACION!H53)),PROGRAMACION!H53,\"\")","v":""},{"$f":"IF(NOT(ISBLANK(PROGRAMACION!I53)),PROGRAMACION!I53,\"\")","v":""},{"$f":"IF(NOT(ISBLANK(PROGRAMACION!J53)),IF(PROGRAMACION!I53=\"Transformador\",MID(PROGRAMACION!J53,1,2),PROGRAMACION!J53),\"\")","v":""},{"$f":"IF(NOT(ISBLANK(PROGRAMACION!K53)),PROGRAMACION!K53,\"\")","v":""},{"$f":"IF(NOT(ISBLANK(PROGRAMACION!L53)),PROGRAMACION!L53,\"\")","v":""},{"$f":"IF(NOT(ISBLANK(PROGRAMACION!M53)),PROGRAMACION!M53,\"\")","v":""},{"$f":"IF(NOT(ISBLANK(PROGRAMACION!N53)),PROGRAMACION!N53,\"\")","v":""},{"$f":"IF(NOT(ISBLANK(PROGRAMACION!O53)),PROGRAMACION!O53,\"\")","v":""}]
[{"$f":"IF(NOT(ISBLANK(PROGRAMACION!A54)),PROGRAMACION!A54,\"\")","v":""},{"$f":"IF(NOT(ISBLANK(PROGRAMACION!B54)),PROGRAMACION!B54,\"\")","v":""},{"$f":"IF(NOT(ISBLANK(PROGRAMACION!C54)),PROGRAMACION!C54,\"\")","v":""},null,{"$f":"IF(NOT(ISBLANK(PROGRAMACION!E54)),PROGRAMACION!E54,\"\")","v":""},null,{"$f":"IF(NOT(ISBLANK(PROGRAMACION!G54)),PROGRAMACION!G54,\"\")","v":""},{"$f":"IF(NOT(ISBLANK(PROGRAMACION!H54)),PROGRAMACION!H54,\"\")","v":""},{"$f":"IF(NOT(ISBLANK(PROGRAMACION!I54)),PROGRAMACION!I54,\"\")","v":""},{"$f":"IF(NOT(ISBLANK(PROGRAMACION!J54)),IF(PROGRAMACION!I54=\"Transformador\",MID(PROGRAMACION!J54,1,2),PROGRAMACION!J54),\"\")","v":""},{"$f":"IF(NOT(ISBLANK(PROGRAMACION!K54)),PROGRAMACION!K54,\"\")","v":""},{"$f":"IF(NOT(ISBLANK(PROGRAMACION!L54)),PROGRAMACION!L54,\"\")","v":""},{"$f":"IF(NOT(ISBLANK(PROGRAMACION!M54)),PROGRAMACION!M54,\"\")","v":""},{"$f":"IF(NOT(ISBLANK(PROGRAMACION!N54)),PROGRAMACION!N54,\"\")","v":""},{"$f":"IF(NOT(ISBLANK(PROGRAMACION!O54)),PROGRAMACION!O54,\"\")","v":""}]
[{"$f":"IF(NOT(ISBLANK(PROGRAMACION!A55)),PROGRAMACION!A55,\"\")","v":""},{"$f":"IF(NOT(ISBLANK(PROGRAMACION!B55)),PROGRAMACION!B55,\"\")","v":""},{"$f":"IF(NOT(ISBLANK(PROGRAMACION!C55)),PROGRAMACION!C55,\"\")","v":""},null,{"$f":"IF(NOT(ISBLANK(PROGRAMACION!E55)),PROGRAMACION!E55,\"\")","v":""},null,{"$f":"IF(NOT(ISBLANK(PROGRAMACION!G55)),PROGRAMACION!G55,\"\")","v":""},{"$f":"IF(NOT(ISBLANK(PROGRAMACION!H55)),PROGRAMACION!H55,\"\")","v":""},{"$f":"IF(NOT(ISBLANK(PROGRAMACION!I55)),PROGRAMACION!I55,\"\")","v":""},{"$f":"IF(NOT(ISBLANK(PROGRAMACION!J55)),IF(PROGRAMACION!I55=\"Transformador\",MID(PROGRAMACION!J55,1,2),PROGRAMACION!J55),\"\")","v":""},{"$f":"IF(NOT(ISBLANK(PROGRAMACION!K55)),PROGRAMACION!K55,\"\")","v":""},{"$f":"IF(NOT(ISBLANK(PROGRAMACION!L55)),PROGRAMACION!L55,\"\")","v":""},{"$f":"IF(NOT(ISBLANK(PROGRAMACION!M55)),PROGRAMACION!M55,\"\")","v":""},{"$f":"IF(NOT(ISBLANK(PROGRAMACION!N55)),PROGRAMACION!N55,\"\")","v":""},{"$f":"IF(NOT(ISBLANK(PROGRAMACION!O55)),PROGRAMACION!O55,\"\")","v":""}]
[{"$f":"IF(NOT(ISBLANK(PROGRAMACION!A56)),PROGRAMACION!A56,\"\")","v":""},{"$f":"IF(NOT(ISBLANK(PROGRAMACION!B56)),PROGRAMACION!B56,\"\")","v":""},{"$f":"IF(NOT(ISBLANK(PROGRAMACION!C56)),PROGRAMACION!C56,\"\")","v":""},null,{"$f":"IF(NOT(ISBLANK(PROGRAMACION!E56)),PROGRAMACION!E56,\"\")","v":""},null,{"$f":"IF(NOT(ISBLANK(PROGRAMACION!G56)),PROGRAMACION!G56,\"\")","v":""},{"$f":"IF(NOT(ISBLANK(PROGRAMACION!H56)),PROGRAMACION!H56,\"\")","v":""},{"$f":"IF(NOT(ISBLANK(PROGRAMACION!I56)),PROGRAMACION!I56,\"\")","v":""},{"$f":"IF(NOT(ISBLANK(PROGRAMACION!J56)),IF(PROGRAMACION!I56=\"Transformador\",MID(PROGRAMACION!J56,1,2),PROGRAMACION!J56),\"\")","v":""},{"$f":"IF(NOT(ISBLANK(PROGRAMACION!K56)),PROGRAMACION!K56,\"\")","v":""},{"$f":"IF(NOT(ISBLANK(PROGRAMACION!L56)),PROGRAMACION!L56,\"\")","v":""},{"$f":"IF(NOT(ISBLANK(PROGRAMACION!M56)),PROGRAMACION!M56,\"\")","v":""},{"$f":"IF(NOT(ISBLANK(PROGRAMACION!N56)),PROGRAMACION!N56,\"\")","v":""},{"$f":"IF(NOT(ISBLANK(PROGRAMACION!O56)),PROGRAMACION!O56,\"\")","v":""}]
[{"$f":"IF(NOT(ISBLANK(PROGRAMACION!A57)),PROGRAMACION!A57,\"\")","v":""},{"$f":"IF(NOT(ISBLANK(PROGRAMACION!B57)),PROGRAMACION!B57,\"\")","v":""},{"$f":"IF(NOT(ISBLANK(PROGRAMACION!C57)),PROGRAMACION!C57,\"\")","v":""},null,{"$f":"IF(NOT(ISBLANK(PROGRAMACION!E57)),PROGRAMACION!E57,\"\")","v":""},null,{"$f":"IF(NOT(ISBLANK(PROGRAMACION!G57)),PROGRAMACION!G57,\"\")","v":""},{"$f":"IF(NOT(ISBLANK(PROGRAMACION!H57)),PROGRAMACION!H57,\"\")","v":""},{"$f":"IF(NOT(ISBLANK(PROGRAMACION!I57)),PROGRAMACION!I57,\"\")","v":""},{"$f":"IF(NOT(ISBLANK(PROGRAMACION!J57)),IF(PROGRAMACION!I57=\"Transformador\",MID(PROGRAMACION!J57,1,2),PROGRAMACION!J57),\"\")","v":""},{"$f":"IF(NOT(ISBLANK(PROGRAMACION!K57)),PROGRAMACION!K57,\"\")","v":""},{"$f":"IF(NOT(ISBLANK(PROGRAMACION!L57)),PROGRAMACION!L57,\"\")","v":""},{"$f":"IF(NOT(ISBLANK(PROGRAMACION!M57)),PROGRAMACION!M57,\"\")","v":""},{"$f":"IF(NOT(ISBLANK(PROGRAMACION!N57)),PROGRAMACION!N57,\"\")","v":""},{"$f":"IF(NOT(ISBLANK(PROGRAMACION!O57)),PROGRAMACION!O57,\"\")","v":""}]
[{"$f":"IF(NOT(ISBLANK(PROGRAMACION!A58)),PROGRAMACION!A58,\"\")","v":""},{"$f":"IF(NOT(ISBLANK(PROGRAMACION!B58)),PROGRAMACION!B58,\"\")","v":""},{"$f":"IF(NOT(ISBLANK(PROGRAMACION!C58)),PROGRAMACION!C58,\"\")","v":""},null,{"$f":"IF(NOT(ISBLANK(PROGRAMACION!E58)),PROGRAMACION!E58,\"\")","v":""},null,{"$f":"IF(NOT(ISBLANK(PROGRAMACION!G58)),PROGRAMACION!G58,\"\")","v":""},{"$f":"IF(NOT(ISBLANK(PROGRAMACION!H58)),PROGRAMACION!H58,\"\")","v":""},{"$f":"IF(NOT(ISBLANK(PROGRAMACION!I58)),PROGRAMACION!I58,\"\")","v":""},{"$f":"IF(NOT(ISBLANK(PROGRAMACION!J58)),IF(PROGRAMACION!I58=\"Transformador\",MID(PROGRAMACION!J58,1,2),PROGRAMACION!J58),\"\")","v":""},{"$f":"IF(NOT(ISBLANK(PROGRAMACION!K58)),PROGRAMACION!K58,\"\")","v":""},{"$f":"IF(NOT(ISBLANK(PROGRAMACION!L58)),PROGRAMACION!L58,\"\")","v":""},{"$f":"IF(NOT(ISBLANK(PROGRAMACION!M58)),PROGRAMACION!M58,\"\")","v":""},{"$f":"IF(NOT(ISBLANK(PROGRAMACION!N58)),PROGRAMACION!N58,\"\")","v":""},{"$f":"IF(NOT(ISBLANK(PROGRAMACION!O58)),PROGRAMACION!O58,\"\")","v":""}]
[{"$f":"IF(NOT(ISBLANK(PROGRAMACION!A59)),PROGRAMACION!A59,\"\")","v":""},{"$f":"IF(NOT(ISBLANK(PROGRAMACION!B59)),PROGRAMACION!B59,\"\")","v":""},{"$f":"IF(NOT(ISBLANK(PROGRAMACION!C59)),PROGRAMACION!C59,\"\")","v":""},null,{"$f":"IF(NOT(ISBLANK(PROGRAMACION!E59)),PROGRAMACION!E59,\"\")","v":""},null,{"$f":"IF(NOT(ISBLANK(PROGRAMACION!G59)),PROGRAMACION!G59,\"\")","v":""},{"$f":"IF(NOT(ISBLANK(PROGRAMACION!H59)),PROGRAMACION!H59,\"\")","v":""},{"$f":"IF(NOT(ISBLANK(PROGRAMACION!I59)),PROGRAMACION!I59,\"\")","v":""},{"$f":"IF(NOT(ISBLANK(PROGRAMACION!J59)),IF(PROGRAMACION!I59=\"Transformador\",MID(PROGRAMACION!J59,1,2),PROGRAMACION!J59),\"\")","v":""},{"$f":"IF(NOT(ISBLANK(PROGRAMACION!K59)),PROGRAMACION!K59,\"\")","v":""},{"$f":"IF(NOT(ISBLANK(PROGRAMACION!L59)),PROGRAMACION!L59,\"\")","v":""},{"$f":"IF(NOT(ISBLANK(PROGRAMACION!M59)),PROGRAMACION!M59,\"\")","v":""},{"$f":"IF(NOT(ISBLANK(PROGRAMACION!N59)),PROGRAMACION!N59,\"\")","v":""},{"$f":"IF(NOT(ISBLANK(PROGRAMACION!O59)),PROGRAMACION!O59,\"\")","v":""}]
[{"$f":"IF(NOT(ISBLANK(PROGRAMACION!A60)),PROGRAMACION!A60,\"\")","v":""},{"$f":"IF(NOT(ISBLANK(PROGRAMACION!B60)),PROGRAMACION!B60,\"\")","v":""},{"$f":"IF(NOT(ISBLANK(PROGRAMACION!C60)),PROGRAMACION!C60,\"\")","v":""},null,{"$f":"IF(NOT(ISBLANK(PROGRAMACION!E60)),PROGRAMACION!E60,\"\")","v":""},null,{"$f":"IF(NOT(ISBLANK(PROGRAMACION!G60)),PROGRAMACION!G60,\"\")","v":""},{"$f":"IF(NOT(ISBLANK(PROGRAMACION!H60)),PROGRAMACION!H60,\"\")","v":""},{"$f":"IF(NOT(ISBLANK(PROGRAMACION!I60)),PROGRAMACION!I60,\"\")","v":""},{"$f":"IF(NOT(ISBLANK(PROGRAMACION!J60)),IF(PROGRAMACION!I60=\"Transformador\",MID(PROGRAMACION!J60,1,2),PROGRAMACION!J60),\"\")","v":""},{"$f":"IF(NOT(ISBLANK(PROGRAMACION!K60)),PROGRAMACION!K60,\"\")","v":""},{"$f":"IF(NOT(ISBLANK(PROGRAMACION!L60)),PROGRAMACION!L60,\"\")","v":""},{"$f":"IF(NOT(ISBLANK(PROGRAMACION!M60)),PROGRAMACION!M60,\"\")","v":""},{"$f":"IF(NOT(ISBLANK(PROGRAMACION!N60)),PROGRAMACION!N60,\"\")","v":""},{"$f":"IF(NOT(ISBLANK(PROGRAMACION!O60)),PROGRAMACION!O60,\"\")","v":""}]
[{"$f":"IF(NOT(ISBLANK(PROGRAMACION!A61)),PROGRAMACION!A61,\"\")","v":""},{"$f":"IF(NOT(ISBLANK(PROGRAMACION!B61)),PROGRAMACION!B61,\"\")","v":""},{"$f":"IF(NOT(ISBLANK(PROGRAMACION!C61)),PROGRAMACION!C61,\"\")","v":""},null,{"$f":"IF(NOT(ISBLANK(PROGRAMACION!E61)),PROGRAMACION!E61,\"\")","v":""},null,{"$f":"IF(NOT(ISBLANK(PROGRAMACION!G61)),PROGRAMACION!G61,\"\")","v":""},{"$f":"IF(NOT(ISBLANK(PROGRAMACION!H61)),PROGRAMACION!H61,\"\")","v":""},{"$f":"IF(NOT(ISBLANK(PROGRAMACION!I61)),PROGRAMACION!I61,\"\")","v":""},{"$f":"IF(NOT(ISBLANK(PROGRAMACION!J61)),IF(PROGRAMACION!I61=\"Transformador\",MID(PROGRAMACION!J61,1,2),PROGRAMACION!J61),\"\")","v":""},{"$f":"IF(NOT(ISBLANK(PROGRAMACION!K61)),PROGRAMACION!K61,\"\")","v":""},{"$f":"IF(NOT(ISBLANK(PROGRAMACION!L61)),PROGRAMACION!L61,\"\")","v":""},{"$f":"IF(NOT(ISBLANK(PROGRAMACION!M61)),PROGRAMACION!M61,\"\")","v":""},{"$f":"IF(NOT(ISBLANK(PROGRAMACION!N61)),PROGRAMACION!N61,\"\")","v":""},{"$f":"IF(NOT(ISBLANK(PROGRAMACION!O61)),PROGRAMACION!O61,\"\")","v":""}]
[{"$f":"IF(NOT(ISBLANK(PROGRAMACION!A62)),PROGRAMACION!A62,\"\")","v":""},{"$f":"IF(NOT(ISBLANK(PROGRAMACION!B62)),PROGRAMACION!B62,\"\")","v":""},{"$f":"IF(NOT(ISBLANK(PROGRAMACION!C62)),PROGRAMACION!C62,\"\")","v":""},null,{"$f":"IF(NOT(ISBLANK(PROGRAMACION!E62)),PROGRAMACION!E62,\"\")","v":""},null,{"$f":"IF(NOT(ISBLANK(PROGRAMACION!G62)),PROGRAMACION!G62,\"\")","v":""},{"$f":"IF(NOT(ISBLANK(PROGRAMACION!H62)),PROGRAMACION!H62,\"\")","v":""},{"$f":"IF(NOT(ISBLANK(PROGRAMACION!I62)),PROGRAMACION!I62,\"\")","v":""},{"$f":"IF(NOT(ISBLANK(PROGRAMACION!J62)),IF(PROGRAMACION!I62=\"Transformador\",MID(PROGRAMACION!J62,1,2),PROGRAMACION!J62),\"\")","v":""},{"$f":"IF(NOT(ISBLANK(PROGRAMACION!K62)),PROGRAMACION!K62,\"\")","v":""},{"$f":"IF(NOT(ISBLANK(PROGRAMACION!L62)),PROGRAMACION!L62,\"\")","v":""},{"$f":"IF(NOT(ISBLANK(PROGRAMACION!M62)),PROGRAMACION!M62,\"\")","v":""},{"$f":"IF(NOT(ISBLANK(PROGRAMACION!N62)),PROGRAMACION!N62,\"\")","v":""},{"$f":"IF(NOT(ISBLANK(PROGRAMACION!O62)),PROGRAMACION!O62,\"\")","v":""}]
[{"$f":"IF(NOT(ISBLANK(PROGRAMACION!A63)),PROGRAMACION!A63,\"\")","v":""},{"$f":"IF(NOT(ISBLANK(PROGRAMACION!B63)),PROGRAMACION!B63,\"\")","v":""},{"$f":"IF(NOT(ISBLANK(PROGRAMACION!C63)),PROGRAMACION!C63,\"\")","v":""},null,{"$f":"IF(NOT(ISBLANK(PROGRAMACION!E63)),PROGRAMACION!E63,\"\")","v":""},null,{"$f":"IF(NOT(ISBLANK(PROGRAMACION!G63)),PROGRAMACION!G63,\"\")","v":""},{"$f":"IF(NOT(ISBLANK(PROGRAMACION!H63)),PROGRAMACION!H63,\"\")","v":""},{"$f":"IF(NOT(ISBLANK(PROGRAMACION!I63)),PROGRAMACION!I63,\"\")","v":""},{"$f":"IF(NOT(ISBLANK(PROGRAMACION!J63)),IF(PROGRAMACION!I63=\"Transformador\",MID(PROGRAMACION!J63,1,2),PROGRAMACION!J63),\"\")","v":""},{"$f":"IF(NOT(ISBLANK(PROGRAMACION!K63)),PROGRAMACION!K63,\"\")","v":""},{"$f":"IF(NOT(ISBLANK(PROGRAMACION!L63)),PROGRAMACION!L63,\"\")","v":""},{"$f":"IF(NOT(ISBLANK(PROGRAMACION!M63)),PROGRAMACION!M63,\"\")","v":""},{"$f":"IF(NOT(ISBLANK(PROGRAMACION!N63)),PROGRAMACION!N63,\"\")","v":""},{"$f":"IF(NOT(ISBLANK(PROGRAMACION!O63)),PROGRAMACION!O63,\"\")","v":""}]
[{"$f":"IF(NOT(ISBLANK(PROGRAMACION!A64)),PROGRAMACION!A64,\"\")","v":""},{"$f":"IF(NOT(ISBLANK(PROGRAMACION!B64)),PROGRAMACION!B64,\"\")","v":""},{"$f":"IF(NOT(ISBLANK(PROGRAMACION!C64)),PROGRAMACION!C64,\"\")","v":""},null,{"$f":"IF(NOT(ISBLANK(PROGRAMACION!E64)),PROGRAMACION!E64,\"\")","v":""},null,{"$f":"IF(NOT(ISBLANK(PROGRAMACION!G64)),PROGRAMACION!G64,\"\")","v":""},{"$f":"IF(NOT(ISBLANK(PROGRAMACION!H64)),PROGRAMACION!H64,\"\")","v":""},{"$f":"IF(NOT(ISBLANK(PROGRAMACION!I64)),PROGRAMACION!I64,\"\")","v":""},{"$f":"IF(NOT(ISBLANK(PROGRAMACION!J64)),IF(PROGRAMACION!I64=\"Transformador\",MID(PROGRAMACION!J64,1,2),PROGRAMACION!J64),\"\")","v":""},{"$f":"IF(NOT(ISBLANK(PROGRAMACION!K64)),PROGRAMACION!K64,\"\")","v":""},{"$f":"IF(NOT(ISBLANK(PROGRAMACION!L64)),PROGRAMACION!L64,\"\")","v":""},{"$f":"IF(NOT(ISBLANK(PROGRAMACION!M64)),PROGRAMACION!M64,\"\")","v":""},{"$f":"IF(NOT(ISBLANK(PROGRAMACION!N64)),PROGRAMACION!N64,\"\")","v":""},{"$f":"IF(NOT(ISBLANK(PROGRAMACION!O64)),PROGRAMACION!O64,\"\")","v":""}]
[{"$f":"IF(NOT(ISBLANK(PROGRAMACION!A65)),PROGRAMACION!A65,\"\")","v":""},{"$f":"IF(NOT(ISBLANK(PROGRAMACION!B65)),PROGRAMACION!B65,\"\")","v":""},{"$f":"IF(NOT(ISBLANK(PROGRAMACION!C65)),PROGRAMACION!C65,\"\")","v":""},null,{"$f":"IF(NOT(ISBLANK(PROGRAMACION!E65)),PROGRAMACION!E65,\"\")","v":""},null,{"$f":"IF(NOT(ISBLANK(PROGRAMACION!G65)),PROGRAMACION!G65,\"\")","v":""},{"$f":"IF(NOT(ISBLANK(PROGRAMACION!H65)),PROGRAMACION!H65,\"\")","v":""},{"$f":"IF(NOT(ISBLANK(PROGRAMACION!I65)),PROGRAMACION!I65,\"\")","v":""},{"$f":"IF(NOT(ISBLANK(PROGRAMACION!J65)),IF(PROGRAMACION!I65=\"Transformador\",MID(PROGRAMACION!J65,1,2),PROGRAMACION!J65),\"\")","v":""},{"$f":"IF(NOT(ISBLANK(PROGRAMACION!K65)),PROGRAMACION!K65,\"\")","v":""},{"$f":"IF(NOT(ISBLANK(PROGRAMACION!L65)),PROGRAMACION!L65,\"\")","v":""},{"$f":"IF(NOT(ISBLANK(PROGRAMACION!M65)),PROGRAMACION!M65,\"\")","v":""},{"$f":"IF(NOT(ISBLANK(PROGRAMACION!N65)),PROGRAMACION!N65,\"\")","v":""},{"$f":"IF(NOT(ISBLANK(PROGRAMACION!O65)),PROGRAMACION!O65,\"\")","v":""}]
[{"$f":"IF(NOT(ISBLANK(PROGRAMACION!A66)),PROGRAMACION!A66,\"\")","v":""},{"$f":"IF(NOT(ISBLANK(PROGRAMACION!B66)),PROGRAMACION!B66,\"\")","v":""},{"$f":"IF(NOT(ISBLANK(PROGRAMACION!C66)),PROGRAMACION!C66,\"\")","v":""},null,{"$f":"IF(NOT(ISBLANK(PROGRAMACION!E66)),PROGRAMACION!E66,\"\")","v":""},null,{"$f":"IF(NOT(ISBLANK(PROGRAMACION!G66)),PROGRAMACION!G66,\"\")","v":""},{"$f":"IF(NOT(ISBLANK(PROGRAMACION!H66)),PROGRAMACION!H66,\"\")","v":""},{"$f":"IF(NOT(ISBLANK(PROGRAMACION!I66)),PROGRAMACION!I66,\"\")","v":""},{"$f":"IF(NOT(ISBLANK(PROGRAMACION!J66)),IF(PROGRAMACION!I66=\"Transformador\",MID(PROGRAMACION!J66,1,2),PROGRAMACION!J66),\"\")","v":""},{"$f":"IF(NOT(ISBLANK(PROGRAMACION!K66)),PROGRAMACION!K66,\"\")","v":""},{"$f":"IF(NOT(ISBLANK(PROGRAMACION!L66)),PROGRAMACION!L66,\"\")","v":""},{"$f":"IF(NOT(ISBLANK(PROGRAMACION!M66)),PROGRAMACION!M66,\"\")","v":""},{"$f":"IF(NOT(ISBLANK(PROGRAMACION!N66)),PROGRAMACION!N66,\"\")","v":""},{"$f":"IF(NOT(ISBLANK(PROGRAMACION!O66)),PROGRAMACION!O66,\"\")","v":""}]
[{"$f":"IF(NOT(ISBLANK(PROGRAMACION!A67)),PROGRAMACION!A67,\"\")","v":""},{"$f":"IF(NOT(ISBLANK(PROGRAMACION!B67)),PROGRAMACION!B67,\"\")","v":""},{"$f":"IF(NOT(ISBLANK(PROGRAMACION!C67)),PROGRAMACION!C67,\"\")","v":""},null,{"$f":"IF(NOT(ISBLANK(PROGRAMACION!E67)),PROGRAMACION!E67,\"\")","v":""},null,{"$f":"IF(NOT(ISBLANK(PROGRAMACION!G67)),PROGRAMACION!G67,\"\")","v":""},{"$f":"IF(NOT(ISBLANK(PROGRAMACION!H67)),PROGRAMACION!H67,\"\")","v":""},{"$f":"IF(NOT(ISBLANK(PROGRAMACION!I67)),PROGRAMACION!I67,\"\")","v":""},{"$f":"IF(NOT(ISBLANK(PROGRAMACION!J67)),IF(PROGRAMACION!I67=\"Transformador\",MID(PROGRAMACION!J67,1,2),PROGRAMACION!J67),\"\")","v":""},{"$f":"IF(NOT(ISBLANK(PROGRAMACION!K67)),PROGRAMACION!K67,\"\")","v":""},{"$f":"IF(NOT(ISBLANK(PROGRAMACION!L67)),PROGRAMACION!L67,\"\")","v":""},{"$f":"IF(NOT(ISBLANK(PROGRAMACION!M67)),PROGRAMACION!M67,\"\")","v":""},{"$f":"IF(NOT(ISBLANK(PROGRAMACION!N67)),PROGRAMACION!N67,\"\")","v":""},{"$f":"IF(NOT(ISBLANK(PROGRAMACION!O67)),PROGRAMACION!O67,\"\")","v":""}]
[{"$f":"IF(NOT(ISBLANK(PROGRAMACION!A68)),PROGRAMACION!A68,\"\")","v":""},{"$f":"IF(NOT(ISBLANK(PROGRAMACION!B68)),PROGRAMACION!B68,\"\")","v":""},{"$f":"IF(NOT(ISBLANK(PROGRAMACION!C68)),PROGRAMACION!C68,\"\")","v":""},null,{"$f":"IF(NOT(ISBLANK(PROGRAMACION!E68)),PROGRAMACION!E68,\"\")","v":""},null,{"$f":"IF(NOT(ISBLANK(PROGRAMACION!G68)),PROGRAMACION!G68,\"\")","v":""},{"$f":"IF(NOT(ISBLANK(PROGRAMACION!H68)),PROGRAMACION!H68,\"\")","v":""},{"$f":"IF(NOT(ISBLANK(PROGRAMACION!I68)),PROGRAMACION!I68,\"\")","v":""},{"$f":"IF(NOT(ISBLANK(PROGRAMACION!J68)),IF(PROGRAMACION!I68=\"Transformador\",MID(PROGRAMACION!J68,1,2),PROGRAMACION!J68),\"\")","v":""},{"$f":"IF(NOT(ISBLANK(PROGRAMACION!K68)),PROGRAMACION!K68,\"\")","v":""},{"$f":"IF(NOT(ISBLANK(PROGRAMACION!L68)),PROGRAMACION!L68,\"\")","v":""},{"$f":"IF(NOT(ISBLANK(PROGRAMACION!M68)),PROGRAMACION!M68,\"\")","v":""},{"$f":"IF(NOT(ISBLANK(PROGRAMACION!N68)),PROGRAMACION!N68,\"\")","v":""},{"$f":"IF(NOT(ISBLANK(PROGRAMACION!O68)),PROGRAMACION!O68,\"\")","v":""}]
[{"$f":"IF(NOT(ISBLANK(PROGRAMACION!A69)),PROGRAMACION!A69,\"\")","v":""},{"$f":"IF(NOT(ISBLANK(PROGRAMACION!B69)),PROGRAMACION!B69,\"\")","v":""},{"$f":"IF(NOT(ISBLANK(PROGRAMACION!C69)),PROGRAMACION!C69,\"\")","v":""},null,{"$f":"IF(NOT(ISBLANK(PROGRAMACION!E69)),PROGRAMACION!E69,\"\")","v":""},null,{"$f":"IF(NOT(ISBLANK(PROGRAMACION!G69)),PROGRAMACION!G69,\"\")","v":""},{"$f":"IF(NOT(ISBLANK(PROGRAMACION!H69)),PROGRAMACION!H69,\"\")","v":""},{"$f":"IF(NOT(ISBLANK(PROGRAMACION!I69)),PROGRAMACION!I69,\"\")","v":""},{"$f":"IF(NOT(ISBLANK(PROGRAMACION!J69)),IF(PROGRAMACION!I69=\"Transformador\",MID(PROGRAMACION!J69,1,2),PROGRAMACION!J69),\"\")","v":""},{"$f":"IF(NOT(ISBLANK(PROGRAMACION!K69)),PROGRAMACION!K69,\"\")","v":""},{"$f":"IF(NOT(ISBLANK(PROGRAMACION!L69)),PROGRAMACION!L69,\"\")","v":""},{"$f":"IF(NOT(ISBLANK(PROGRAMACION!M69)),PROGRAMACION!M69,\"\")","v":""},{"$f":"IF(NOT(ISBLANK(PROGRAMACION!N69)),PROGRAMACION!N69,\"\")","v":""},{"$f":"IF(NOT(ISBLANK(PROGRAMACION!O69)),PROGRAMACION!O69,\"\")","v":""}]
[{"$f":"IF(NOT(ISBLANK(PROGRAMACION!A70)),PROGRAMACION!A70,\"\")","v":""},{"$f":"IF(NOT(ISBLANK(PROGRAMACION!B70)),PROGRAMACION!B70,\"\")","v":""},{"$f":"IF(NOT(ISBLANK(PROGRAMACION!C70)),PROGRAMACION!C70,\"\")","v":""},null,{"$f":"IF(NOT(ISBLANK(PROGRAMACION!E70)),PROGRAMACION!E70,\"\")","v":""},null,{"$f":"IF(NOT(ISBLANK(PROGRAMACION!G70)),PROGRAMACION!G70,\"\")","v":""},{"$f":"IF(NOT(ISBLANK(PROGRAMACION!H70)),PROGRAMACION!H70,\"\")","v":""},{"$f":"IF(NOT(ISBLANK(PROGRAMACION!I70)),PROGRAMACION!I70,\"\")","v":""},{"$f":"IF(NOT(ISBLANK(PROGRAMACION!J70)),IF(PROGRAMACION!I70=\"Transformador\",MID(PROGRAMACION!J70,1,2),PROGRAMACION!J70),\"\")","v":""},{"$f":"IF(NOT(ISBLANK(PROGRAMACION!K70)),PROGRAMACION!K70,\"\")","v":""},{"$f":"IF(NOT(ISBLANK(PROGRAMACION!L70)),PROGRAMACION!L70,\"\")","v":""},{"$f":"IF(NOT(ISBLANK(PROGRAMACION!M70)),PROGRAMACION!M70,\"\")","v":""},{"$f":"IF(NOT(ISBLANK(PROGRAMACION!N70)),PROGRAMACION!N70,\"\")","v":""},{"$f":"IF(NOT(ISBLANK(PROGRAMACION!O70)),PROGRAMACION!O70,\"\")","v":""}]
[{"$f":"IF(NOT(ISBLANK(PROGRAMACION!A71)),PROGRAMACION!A71,\"\")","v":""},{"$f":"IF(NOT(ISBLANK(PROGRAMACION!B71)),PROGRAMACION!B71,\"\")","v":""},{"$f":"IF(NOT(ISBLANK(PROGRAMACION!C71)),PROGRAMACION!C71,\"\")","v":""},null,{"$f":"IF(NOT(ISBLANK(PROGRAMACION!E71)),PROGRAMACION!E71,\"\")","v":""},null,{"$f":"IF(NOT(ISBLANK(PROGRAMACION!G71)),PROGRAMACION!G71,\"\")","v":""},{"$f":"IF(NOT(ISBLANK(PROGRAMACION!H71)),PROGRAMACION!H71,\"\")","v":""},{"$f":"IF(NOT(ISBLANK(PROGRAMACION!I71)),PROGRAMACION!I71,\"\")","v":""},{"$f":"IF(NOT(ISBLANK(PROGRAMACION!J71)),IF(PROGRAMACION!I71=\"Transformador\",MID(PROGRAMACION!J71,1,2),PROGRAMACION!J71),\"\")","v":""},{"$f":"IF(NOT(ISBLANK(PROGRAMACION!K71)),PROGRAMACION!K71,\"\")","v":""},{"$f":"IF(NOT(ISBLANK(PROGRAMACION!L71)),PROGRAMACION!L71,\"\")","v":""},{"$f":"IF(NOT(ISBLANK(PROGRAMACION!M71)),PROGRAMACION!M71,\"\")","v":""},{"$f":"IF(NOT(ISBLANK(PROGRAMACION!N71)),PROGRAMACION!N71,\"\")","v":""},{"$f":"IF(NOT(ISBLANK(PROGRAMACION!O71)),PROGRAMACION!O71,\"\")","v":""}]
[{"$f":"IF(NOT(ISBLANK(PROGRAMACION!A72)),PROGRAMACION!A72,\"\")","v":""},{"$f":"IF(NOT(ISBLANK(PROGRAMACION!B72)),PROGRAMACION!B72,\"\")","v":""},{"$f":"IF(NOT(ISBLANK(PROGRAMACION!C72)),PROGRAMACION!C72,\"\")","v":""},null,{"$f":"IF(NOT(ISBLANK(PROGRAMACION!E72)),PROGRAMACION!E72,\"\")","v":""},null,{"$f":"IF(NOT(ISBLANK(PROGRAMACION!G72)),PROGRAMACION!G72,\"\")","v":""},{"$f":"IF(NOT(ISBLANK(PROGRAMACION!H72)),PROGRAMACION!H72,\"\")","v":""},{"$f":"IF(NOT(ISBLANK(PROGRAMACION!I72)),PROGRAMACION!I72,\"\")","v":""},{"$f":"IF(NOT(ISBLANK(PROGRAMACION!J72)),IF(PROGRAMACION!I72=\"Transformador\",MID(PROGRAMACION!J72,1,2),PROGRAMACION!J72),\"\")","v":""},{"$f":"IF(NOT(ISBLANK(PROGRAMACION!K72)),PROGRAMACION!K72,\"\")","v":""},{"$f":"IF(NOT(ISBLANK(PROGRAMACION!L72)),PROGRAMACION!L72,\"\")","v":""},{"$f":"IF(NOT(ISBLANK(PROGRAMACION!M72)),PROGRAMACION!M72,\"\")","v":""},{"$f":"IF(NOT(ISBLANK(PROGRAMACION!N72)),PROGRAMACION!N72,\"\")","v":""},{"$f":"IF(NOT(ISBLANK(PROGRAMACION!O72)),PROGRAMACION!O72,\"\")","v":""}]
[{"$f":"IF(NOT(ISBLANK(PROGRAMACION!A73)),PROGRAMACION!A73,\"\")","v":""},{"$f":"IF(NOT(ISBLANK(PROGRAMACION!B73)),PROGRAMACION!B73,\"\")","v":""},{"$f":"IF(NOT(ISBLANK(PROGRAMACION!C73)),PROGRAMACION!C73,\"\")","v":""},null,{"$f":"IF(NOT(ISBLANK(PROGRAMACION!E73)),PROGRAMACION!E73,\"\")","v":""},null,{"$f":"IF(NOT(ISBLANK(PROGRAMACION!G73)),PROGRAMACION!G73,\"\")","v":""},{"$f":"IF(NOT(ISBLANK(PROGRAMACION!H73)),PROGRAMACION!H73,\"\")","v":""},{"$f":"IF(NOT(ISBLANK(PROGRAMACION!I73)),PROGRAMACION!I73,\"\")","v":""},{"$f":"IF(NOT(ISBLANK(PROGRAMACION!J73)),IF(PROGRAMACION!I73=\"Transformador\",MID(PROGRAMACION!J73,1,2),PROGRAMACION!J73),\"\")","v":""},{"$f":"IF(NOT(ISBLANK(PROGRAMACION!K73)),PROGRAMACION!K73,\"\")","v":""},{"$f":"IF(NOT(ISBLANK(PROGRAMACION!L73)),PROGRAMACION!L73,\"\")","v":""},{"$f":"IF(NOT(ISBLANK(PROGRAMACION!M73)),PROGRAMACION!M73,\"\")","v":""},{"$f":"IF(NOT(ISBLANK(PROGRAMACION!N73)),PROGRAMACION!N73,\"\")","v":""},{"$f":"IF(NOT(ISBLANK(PROGRAMACION!O73)),PROGRAMACION!O73,\"\")","v":""}]
[{"$f":"IF(NOT(ISBLANK(PROGRAMACION!A74)),PROGRAMACION!A74,\"\")","v":""},{"$f":"IF(NOT(ISBLANK(PROGRAMACION!B74)),PROGRAMACION!B74,\"\")","v":""},{"$f":"IF(NOT(ISBLANK(PROGRAMACION!C74)),PROGRAMACION!C74,\"\")","v":""},null,{"$f":"IF(NOT(ISBLANK(PROGRAMACION!E74)),PROGRAMACION!E74,\"\")","v":""},null,{"$f":"IF(NOT(ISBLANK(PROGRAMACION!G74)),PROGRAMACION!G74,\"\")","v":""},{"$f":"IF(NOT(ISBLANK(PROGRAMACION!H74)),PROGRAMACION!H74,\"\")","v":""},{"$f":"IF(NOT(ISBLANK(PROGRAMACION!I74)),PROGRAMACION!I74,\"\")","v":""},{"$f":"IF(NOT(ISBLANK(PROGRAMACION!J74)),IF(PROGRAMACION!I74=\"Transformador\",MID(PROGRAMACION!J74,1,2),PROGRAMACION!J74),\"\")","v":""},{"$f":"IF(NOT(ISBLANK(PROGRAMACION!K74)),PROGRAMACION!K74,\"\")","v":""},{"$f":"IF(NOT(ISBLANK(PROGRAMACION!L74)),PROGRAMACION!L74,\"\")","v":""},{"$f":"IF(NOT(ISBLANK(PROGRAMACION!M74)),PROGRAMACION!M74,\"\")","v":""},{"$f":"IF(NOT(ISBLANK(PROGRAMACION!N74)),PROGRAMACION!N74,\"\")","v":""},{"$f":"IF(NOT(ISBLANK(PROGRAMACION!O74)),PROGRAMACION!O74,\"\")","v":""}]
[{"$f":"IF(NOT(ISBLANK(PROGRAMACION!A75)),PROGRAMACION!A75,\"\")","v":""},{"$f":"IF(NOT(ISBLANK(PROGRAMACION!B75)),PROGRAMACION!B75,\"\")","v":""},{"$f":"IF(NOT(ISBLANK(PROGRAMACION!C75)),PROGRAMACION!C75,\"\")","v":""},null,{"$f":"IF(NOT(ISBLANK(PROGRAMACION!E75)),PROGRAMACION!E75,\"\")","v":""},null,{"$f":"IF(NOT(ISBLANK(PROGRAMACION!G75)),PROGRAMACION!G75,\"\")","v":""},{"$f":"IF(NOT(ISBLANK(PROGRAMACION!H75)),PROGRAMACION!H75,\"\")","v":""},{"$f":"IF(NOT(ISBLANK(PROGRAMACION!I75)),PROGRAMACION!I75,\"\")","v":""},{"$f":"IF(NOT(ISBLANK(PROGRAMACION!J75)),IF(PROGRAMACION!I75=\"Transformador\",MID(PROGRAMACION!J75,1,2),PROGRAMACION!J75),\"\")","v":""},{"$f":"IF(NOT(ISBLANK(PROGRAMACION!K75)),PROGRAMACION!K75,\"\")","v":""},{"$f":"IF(NOT(ISBLANK(PROGRAMACION!L75)),PROGRAMACION!L75,\"\")","v":""},{"$f":"IF(NOT(ISBLANK(PROGRAMACION!M75)),PROGRAMACION!M75,\"\")","v":""},{"$f":"IF(NOT(ISBLANK(PROGRAMACION!N75)),PROGRAMACION!N75,\"\")","v":""},{"$f":"IF(NOT(ISBLANK(PROGRAMACION!O75)),PROGRAMACION!O75,\"\")","v":""}]
[{"$f":"IF(NOT(ISBLANK(PROGRAMACION!A76)),PROGRAMACION!A76,\"\")","v":""},{"$f":"IF(NOT(ISBLANK(PROGRAMACION!B76)),PROGRAMACION!B76,\"\")","v":""},{"$f":"IF(NOT(ISBLANK(PROGRAMACION!C76)),PROGRAMACION!C76,\"\")","v":""},null,{"$f":"IF(NOT(ISBLANK(PROGRAMACION!E76)),PROGRAMACION!E76,\"\")","v":""},null,{"$f":"IF(NOT(ISBLANK(PROGRAMACION!G76)),PROGRAMACION!G76,\"\")","v":""},{"$f":"IF(NOT(ISBLANK(PROGRAMACION!H76)),PROGRAMACION!H76,\"\")","v":""},{"$f":"IF(NOT(ISBLANK(PROGRAMACION!I76)),PROGRAMACION!I76,\"\")","v":""},{"$f":"IF(NOT(ISBLANK(PROGRAMACION!J76)),IF(PROGRAMACION!I76=\"Transformador\",MID(PROGRAMACION!J76,1,2),PROGRAMACION!J76),\"\")","v":""},{"$f":"IF(NOT(ISBLANK(PROGRAMACION!K76)),PROGRAMACION!K76,\"\")","v":""},{"$f":"IF(NOT(ISBLANK(PROGRAMACION!L76)),PROGRAMACION!L76,\"\")","v":""},{"$f":"IF(NOT(ISBLANK(PROGRAMACION!M76)),PROGRAMACION!M76,\"\")","v":""},{"$f":"IF(NOT(ISBLANK(PROGRAMACION!N76)),PROGRAMACION!N76,\"\")","v":""},{"$f":"IF(NOT(ISBLANK(PROGRAMACION!O76)),PROGRAMACION!O76,\"\")","v":""}]
[{"$f":"IF(NOT(ISBLANK(PROGRAMACION!A77)),PROGRAMACION!A77,\"\")","v":""},{"$f":"IF(NOT(ISBLANK(PROGRAMACION!B77)),PROGRAMACION!B77,\"\")","v":""},{"$f":"IF(NOT(ISBLANK(PROGRAMACION!C77)),PROGRAMACION!C77,\"\")","v":""},null,{"$f":"IF(NOT(ISBLANK(PROGRAMACION!E77)),PROGRAMACION!E77,\"\")","v":""},null,{"$f":"IF(NOT(ISBLANK(PROGRAMACION!G77)),PROGRAMACION!G77,\"\")","v":""},{"$f":"IF(NOT(ISBLANK(PROGRAMACION!H77)),PROGRAMACION!H77,\"\")","v":""},{"$f":"IF(NOT(ISBLANK(PROGRAMACION!I77)),PROGRAMACION!I77,\"\")","v":""},{"$f":"IF(NOT(ISBLANK(PROGRAMACION!J77)),IF(PROGRAMACION!I77=\"Transformador\",MID(PROGRAMACION!J77,1,2),PROGRAMACION!J77),\"\")","v":""},{"$f":"IF(NOT(ISBLANK(PROGRAMACION!K77)),PROGRAMACION!K77,\"\")","v":""},{"$f":"IF(NOT(ISBLANK(PROGRAMACION!L77)),PROGRAMACION!L77,\"\")","v":""},{"$f":"IF(NOT(ISBLANK(PROGRAMACION!M77)),PROGRAMACION!M77,\"\")","v":""},{"$f":"IF(NOT(ISBLANK(PROGRAMACION!N77)),PROGRAMACION!N77,\"\")","v":""},{"$f":"IF(NOT(ISBLANK(PROGRAMACION!O77)),PROGRAMACION!O77,\"\")","v":""}]
[{"$f":"IF(NOT(ISBLANK(PROGRAMACION!A78)),PROGRAMACION!A78,\"\")","v":""},{"$f":"IF(NOT(ISBLANK(PROGRAMACION!B78)),PROGRAMACION!B78,\"\")","v":""},{"$f":"IF(NOT(ISBLANK(PROGRAMACION!C78)),PROGRAMACION!C78,\"\")","v":""},null,{"$f":"IF(NOT(ISBLANK(PROGRAMACION!E78)),PROGRAMACION!E78,\"\")","v":""},null,{"$f":"IF(NOT(ISBLANK(PROGRAMACION!G78)),PROGRAMACION!G78,\"\")","v":""},{"$f":"IF(NOT(ISBLANK(PROGRAMACION!H78)),PROGRAMACION!H78,\"\")","v":""},{"$f":"IF(NOT(ISBLANK(PROGRAMACION!I78)),PROGRAMACION!I78,\"\")","v":""},{"$f":"IF(NOT(ISBLANK(PROGRAMACION!J78)),IF(PROGRAMACION!I78=\"Transformador\",MID(PROGRAMACION!J78,1,2),PROGRAMACION!J78),\"\")","v":""},{"$f":"IF(NOT(ISBLANK(PROGRAMACION!K78)),PROGRAMACION!K78,\"\")","v":""},{"$f":"IF(NOT(ISBLANK(PROGRAMACION!L78)),PROGRAMACION!L78,\"\")","v":""},{"$f":"IF(NOT(ISBLANK(PROGRAMACION!M78)),PROGRAMACION!M78,\"\")","v":""},{"$f":"IF(NOT(ISBLANK(PROGRAMACION!N78)),PROGRAMACION!N78,\"\")","v":""},{"$f":"IF(NOT(ISBLANK(PROGRAMACION!O78)),PROGRAMACION!O78,\"\")","v":""}]
[{"$f":"IF(NOT(ISBLANK(PROGRAMACION!A79)),PROGRAMACION!A79,\"\")","v":""},{"$f":"IF(NOT(ISBLANK(PROGRAMACION!B79)),PROGRAMACION!B79,\"\")","v":""},{"$f":"IF(NOT(ISBLANK(PROGRAMACION!C79)),PROGRAMACION!C79,\"\")","v":""},null,{"$f":"IF(NOT(ISBLANK(PROGRAMACION!E79)),PROGRAMACION!E79,\"\")","v":""},null,{"$f":"IF(NOT(ISBLANK(PROGRAMACION!G79)),PROGRAMACION!G79,\"\")","v":""},{"$f":"IF(NOT(ISBLANK(PROGRAMACION!H79)),PROGRAMACION!H79,\"\")","v":""},{"$f":"IF(NOT(ISBLANK(PROGRAMACION!I79)),PROGRAMACION!I79,\"\")","v":""},{"$f":"IF(NOT(ISBLANK(PROGRAMACION!J79)),IF(PROGRAMACION!I79=\"Transformador\",MID(PROGRAMACION!J79,1,2),PROGRAMACION!J79),\"\")","v":""},{"$f":"IF(NOT(ISBLANK(PROGRAMACION!K79)),PROGRAMACION!K79,\"\")","v":""},{"$f":"IF(NOT(ISBLANK(PROGRAMACION!L79)),PROGRAMACION!L79,\"\")","v":""},{"$f":"IF(NOT(ISBLANK(PROGRAMACION!M79)),PROGRAMACION!M79,\"\")","v":""},{"$f":"IF(NOT(ISBLANK(PROGRAMACION!N79)),PROGRAMACION!N79,\"\")","v":""},{"$f":"IF(NOT(ISBLANK(PROGRAMACION!O79)),PROGRAMACION!O79,\"\")","v":""}]
[{"$f":"IF(NOT(ISBLANK(PROGRAMACION!A80)),PROGRAMACION!A80,\"\")","v":""},{"$f":"IF(NOT(ISBLANK(PROGRAMACION!B80)),PROGRAMACION!B80,\"\")","v":""},{"$f":"IF(NOT(ISBLANK(PROGRAMACION!C80)),PROGRAMACION!C80,\"\")","v":""},null,{"$f":"IF(NOT(ISBLANK(PROGRAMACION!E80)),PROGRAMACION!E80,\"\")","v":""},null,{"$f":"IF(NOT(ISBLANK(PROGRAMACION!G80)),PROGRAMACION!G80,\"\")","v":""},{"$f":"IF(NOT(ISBLANK(PROGRAMACION!H80)),PROGRAMACION!H80,\"\")","v":""},{"$f":"IF(NOT(ISBLANK(PROGRAMACION!I80)),PROGRAMACION!I80,\"\")","v":""},{"$f":"IF(NOT(ISBLANK(PROGRAMACION!J80)),IF(PROGRAMACION!I80=\"Transformador\",MID(PROGRAMACION!J80,1,2),PROGRAMACION!J80),\"\")","v":""},{"$f":"IF(NOT(ISBLANK(PROGRAMACION!K80)),PROGRAMACION!K80,\"\")","v":""},{"$f":"IF(NOT(ISBLANK(PROGRAMACION!L80)),PROGRAMACION!L80,\"\")","v":""},{"$f":"IF(NOT(ISBLANK(PROGRAMACION!M80)),PROGRAMACION!M80,\"\")","v":""},{"$f":"IF(NOT(ISBLANK(PROGRAMACION!N80)),PROGRAMACION!N80,\"\")","v":""},{"$f":"IF(NOT(ISBLANK(PROGRAMACION!O80)),PROGRAMACION!O80,\"\")","v":""}]
[{"$f":"IF(NOT(ISBLANK(PROGRAMACION!A81)),PROGRAMACION!A81,\"\")","v":""},{"$f":"IF(NOT(ISBLANK(PROGRAMACION!B81)),PROGRAMACION!B81,\"\")","v":""},{"$f":"IF(NOT(ISBLANK(PROGRAMACION!C81)),PROGRAMACION!C81,\"\")","v":""},null,{"$f":"IF(NOT(ISBLANK(PROGRAMACION!E81)),PROGRAMACION!E81,\"\")","v":""},null,{"$f":"IF(NOT(ISBLANK(PROGRAMACION!G81)),PROGRAMACION!G81,\"\")","v":""},{"$f":"IF(NOT(ISBLANK(PROGRAMACION!H81)),PROGRAMACION!H81,\"\")","v":""},{"$f":"IF(NOT(ISBLANK(PROGRAMACION!I81)),PROGRAMACION!I81,\"\")","v":""},{"$f":"IF(NOT(ISBLANK(PROGRAMACION!J81)),IF(PROGRAMACION!I81=\"Transformador\",MID(PROGRAMACION!J81,1,2),PROGRAMACION!J81),\"\")","v":""},{"$f":"IF(NOT(ISBLANK(PROGRAMACION!K81)),PROGRAMACION!K81,\"\")","v":""},{"$f":"IF(NOT(ISBLANK(PROGRAMACION!L81)),PROGRAMACION!L81,\"\")","v":""},{"$f":"IF(NOT(ISBLANK(PROGRAMACION!M81)),PROGRAMACION!M81,\"\")","v":""},{"$f":"IF(NOT(ISBLANK(PROGRAMACION!N81)),PROGRAMACION!N81,\"\")","v":""},{"$f":"IF(NOT(ISBLANK(PROGRAMACION!O81)),PROGRAMACION!O81,\"\")","v":""}]
[{"$f":"IF(NOT(ISBLANK(PROGRAMACION!A82)),PROGRAMACION!A82,\"\")","v":""},{"$f":"IF(NOT(ISBLANK(PROGRAMACION!B82)),PROGRAMACION!B82,\"\")","v":""},{"$f":"IF(NOT(ISBLANK(PROGRAMACION!C82)),PROGRAMACION!C82,\"\")","v":""},null,{"$f":"IF(NOT(ISBLANK(PROGRAMACION!E82)),PROGRAMACION!E82,\"\")","v":""},null,{"$f":"IF(NOT(ISBLANK(PROGRAMACION!G82)),PROGRAMACION!G82,\"\")","v":""},{"$f":"IF(NOT(ISBLANK(PROGRAMACION!H82)),PROGRAMACION!H82,\"\")","v":""},{"$f":"IF(NOT(ISBLANK(PROGRAMACION!I82)),PROGRAMACION!I82,\"\")","v":""},{"$f":"IF(NOT(ISBLANK(PROGRAMACION!J82)),IF(PROGRAMACION!I82=\"Transformador\",MID(PROGRAMACION!J82,1,2),PROGRAMACION!J82),\"\")","v":""},{"$f":"IF(NOT(ISBLANK(PROGRAMACION!K82)),PROGRAMACION!K82,\"\")","v":""},{"$f":"IF(NOT(ISBLANK(PROGRAMACION!L82)),PROGRAMACION!L82,\"\")","v":""},{"$f":"IF(NOT(ISBLANK(PROGRAMACION!M82)),PROGRAMACION!M82,\"\")","v":""},{"$f":"IF(NOT(ISBLANK(PROGRAMACION!N82)),PROGRAMACION!N82,\"\")","v":""},{"$f":"IF(NOT(ISBLANK(PROGRAMACION!O82)),PROGRAMACION!O82,\"\")","v":""}]
[{"$f":"IF(NOT(ISBLANK(PROGRAMACION!A83)),PROGRAMACION!A83,\"\")","v":""},{"$f":"IF(NOT(ISBLANK(PROGRAMACION!B83)),PROGRAMACION!B83,\"\")","v":""},{"$f":"IF(NOT(ISBLANK(PROGRAMACION!C83)),PROGRAMACION!C83,\"\")","v":""},null,{"$f":"IF(NOT(ISBLANK(PROGRAMACION!E83)),PROGRAMACION!E83,\"\")","v":""},null,{"$f":"IF(NOT(ISBLANK(PROGRAMACION!G83)),PROGRAMACION!G83,\"\")","v":""},{"$f":"IF(NOT(ISBLANK(PROGRAMACION!H83)),PROGRAMACION!H83,\"\")","v":""},{"$f":"IF(NOT(ISBLANK(PROGRAMACION!I83)),PROGRAMACION!I83,\"\")","v":""},{"$f":"IF(NOT(ISBLANK(PROGRAMACION!J83)),IF(PROGRAMACION!I83=\"Transformador\",MID(PROGRAMACION!J83,1,2),PROGRAMACION!J83),\"\")","v":""},{"$f":"IF(NOT(ISBLANK(PROGRAMACION!K83)),PROGRAMACION!K83,\"\")","v":""},{"$f":"IF(NOT(ISBLANK(PROGRAMACION!L83)),PROGRAMACION!L83,\"\")","v":""},{"$f":"IF(NOT(ISBLANK(PROGRAMACION!M83)),PROGRAMACION!M83,\"\")","v":""},{"$f":"IF(NOT(ISBLANK(PROGRAMACION!N83)),PROGRAMACION!N83,\"\")","v":""},{"$f":"IF(NOT(ISBLANK(PROGRAMACION!O83)),PROGRAMACION!O83,\"\")","v":""}]
[{"$f":"IF(NOT(ISBLANK(PROGRAMACION!A84)),PROGRAMACION!A84,\"\")","v":""},{"$f":"IF(NOT(ISBLANK(PROGRAMACION!B84)),PROGRAMACION!B84,\"\")","v":""},{"$f":"IF(NOT(ISBLANK(PROGRAMACION!C84)),PROGRAMACION!C84,\"\")","v":""},null,{"$f":"IF(NOT(ISBLANK(PROGRAMACION!E84)),PROGRAMACION!E84,\"\")","v":""},null,{"$f":"IF(NOT(ISBLANK(PROGRAMACION!G84)),PROGRAMACION!G84,\"\")","v":""},{"$f":"IF(NOT(ISBLANK(PROGRAMACION!H84)),PROGRAMACION!H84,\"\")","v":""},{"$f":"IF(NOT(ISBLANK(PROGRAMACION!I84)),PROGRAMACION!I84,\"\")","v":""},{"$f":"IF(NOT(ISBLANK(PROGRAMACION!J84)),IF(PROGRAMACION!I84=\"Transformador\",MID(PROGRAMACION!J84,1,2),PROGRAMACION!J84),\"\")","v":""},{"$f":"IF(NOT(ISBLANK(PROGRAMACION!K84)),PROGRAMACION!K84,\"\")","v":""},{"$f":"IF(NOT(ISBLANK(PROGRAMACION!L84)),PROGRAMACION!L84,\"\")","v":""},{"$f":"IF(NOT(ISBLANK(PROGRAMACION!M84)),PROGRAMACION!M84,\"\")","v":""},{"$f":"IF(NOT(ISBLANK(PROGRAMACION!N84)),PROGRAMACION!N84,\"\")","v":""},{"$f":"IF(NOT(ISBLANK(PROGRAMACION!O84)),PROGRAMACION!O84,\"\")","v":""}]
[{"$f":"IF(NOT(ISBLANK(PROGRAMACION!A85)),PROGRAMACION!A85,\"\")","v":""},{"$f":"IF(NOT(ISBLANK(PROGRAMACION!B85)),PROGRAMACION!B85,\"\")","v":""},{"$f":"IF(NOT(ISBLANK(PROGRAMACION!C85)),PROGRAMACION!C85,\"\")","v":""},null,{"$f":"IF(NOT(ISBLANK(PROGRAMACION!E85)),PROGRAMACION!E85,\"\")","v":""},null,{"$f":"IF(NOT(ISBLANK(PROGRAMACION!G85)),PROGRAMACION!G85,\"\")","v":""},{"$f":"IF(NOT(ISBLANK(PROGRAMACION!H85)),PROGRAMACION!H85,\"\")","v":""},{"$f":"IF(NOT(ISBLANK(PROGRAMACION!I85)),PROGRAMACION!I85,\"\")","v":""},{"$f":"IF(NOT(ISBLANK(PROGRAMACION!J85)),IF(PROGRAMACION!I85=\"Transformador\",MID(PROGRAMACION!J85,1,2),PROGRAMACION!J85),\"\")","v":""},{"$f":"IF(NOT(ISBLANK(PROGRAMACION!K85)),PROGRAMACION!K85,\"\")","v":""},{"$f":"IF(NOT(ISBLANK(PROGRAMACION!L85)),PROGRAMACION!L85,\"\")","v":""},{"$f":"IF(NOT(ISBLANK(PROGRAMACION!M85)),PROGRAMACION!M85,\"\")","v":""},{"$f":"IF(NOT(ISBLANK(PROGRAMACION!N85)),PROGRAMACION!N85,\"\")","v":""},{"$f":"IF(NOT(ISBLANK(PROGRAMACION!O85)),PROGRAMACION!O85,\"\")","v":""}]
[{"$f":"IF(NOT(ISBLANK(PROGRAMACION!A86)),PROGRAMACION!A86,\"\")","v":""},{"$f":"IF(NOT(ISBLANK(PROGRAMACION!B86)),PROGRAMACION!B86,\"\")","v":""},{"$f":"IF(NOT(ISBLANK(PROGRAMACION!C86)),PROGRAMACION!C86,\"\")","v":""},null,{"$f":"IF(NOT(ISBLANK(PROGRAMACION!E86)),PROGRAMACION!E86,\"\")","v":""},null,{"$f":"IF(NOT(ISBLANK(PROGRAMACION!G86)),PROGRAMACION!G86,\"\")","v":""},{"$f":"IF(NOT(ISBLANK(PROGRAMACION!H86)),PROGRAMACION!H86,\"\")","v":""},{"$f":"IF(NOT(ISBLANK(PROGRAMACION!I86)),PROGRAMACION!I86,\"\")","v":""},{"$f":"IF(NOT(ISBLANK(PROGRAMACION!J86)),IF(PROGRAMACION!I86=\"Transformador\",MID(PROGRAMACION!J86,1,2),PROGRAMACION!J86),\"\")","v":""},{"$f":"IF(NOT(ISBLANK(PROGRAMACION!K86)),PROGRAMACION!K86,\"\")","v":""},{"$f":"IF(NOT(ISBLANK(PROGRAMACION!L86)),PROGRAMACION!L86,\"\")","v":""},{"$f":"IF(NOT(ISBLANK(PROGRAMACION!M86)),PROGRAMACION!M86,\"\")","v":""},{"$f":"IF(NOT(ISBLANK(PROGRAMACION!N86)),PROGRAMACION!N86,\"\")","v":""},{"$f":"IF(NOT(ISBLANK(PROGRAMACION!O86)),PROGRAMACION!O86,\"\")","v":""}]
[{"$f":"IF(NOT(ISBLANK(PROGRAMACION!A87)),PROGRAMACION!A87,\"\")","v":""},{"$f":"IF(NOT(ISBLANK(PROGRAMACION!B87)),PROGRAMACION!B87,\"\")","v":""},{"$f":"IF(NOT(ISBLANK(PROGRAMACION!C87)),PROGRAMACION!C87,\"\")","v":""},null,{"$f":"IF(NOT(ISBLANK(PROGRAMACION!E87)),PROGRAMACION!E87,\"\")","v":""},null,{"$f":"IF(NOT(ISBLANK(PROGRAMACION!G87)),PROGRAMACION!G87,\"\")","v":""},{"$f":"IF(NOT(ISBLANK(PROGRAMACION!H87)),PROGRAMACION!H87,\"\")","v":""},{"$f":"IF(NOT(ISBLANK(PROGRAMACION!I87)),PROGRAMACION!I87,\"\")","v":""},{"$f":"IF(NOT(ISBLANK(PROGRAMACION!J87)),IF(PROGRAMACION!I87=\"Transformador\",MID(PROGRAMACION!J87,1,2),PROGRAMACION!J87),\"\")","v":""},{"$f":"IF(NOT(ISBLANK(PROGRAMACION!K87)),PROGRAMACION!K87,\"\")","v":""},{"$f":"IF(NOT(ISBLANK(PROGRAMACION!L87)),PROGRAMACION!L87,\"\")","v":""},{"$f":"IF(NOT(ISBLANK(PROGRAMACION!M87)),PROGRAMACION!M87,\"\")","v":""},{"$f":"IF(NOT(ISBLANK(PROGRAMACION!N87)),PROGRAMACION!N87,\"\")","v":""},{"$f":"IF(NOT(ISBLANK(PROGRAMACION!O87)),PROGRAMACION!O87,\"\")","v":""}]
[{"$f":"IF(NOT(ISBLANK(PROGRAMACION!A88)),PROGRAMACION!A88,\"\")","v":""},{"$f":"IF(NOT(ISBLANK(PROGRAMACION!B88)),PROGRAMACION!B88,\"\")","v":""},{"$f":"IF(NOT(ISBLANK(PROGRAMACION!C88)),PROGRAMACION!C88,\"\")","v":""},null,{"$f":"IF(NOT(ISBLANK(PROGRAMACION!E88)),PROGRAMACION!E88,\"\")","v":""},null,{"$f":"IF(NOT(ISBLANK(PROGRAMACION!G88)),PROGRAMACION!G88,\"\")","v":""},{"$f":"IF(NOT(ISBLANK(PROGRAMACION!H88)),PROGRAMACION!H88,\"\")","v":""},{"$f":"IF(NOT(ISBLANK(PROGRAMACION!I88)),PROGRAMACION!I88,\"\")","v":""},{"$f":"IF(NOT(ISBLANK(PROGRAMACION!J88)),IF(PROGRAMACION!I88=\"Transformador\",MID(PROGRAMACION!J88,1,2),PROGRAMACION!J88),\"\")","v":""},{"$f":"IF(NOT(ISBLANK(PROGRAMACION!K88)),PROGRAMACION!K88,\"\")","v":""},{"$f":"IF(NOT(ISBLANK(PROGRAMACION!L88)),PROGRAMACION!L88,\"\")","v":""},{"$f":"IF(NOT(ISBLANK(PROGRAMACION!M88)),PROGRAMACION!M88,\"\")","v":""},{"$f":"IF(NOT(ISBLANK(PROGRAMACION!N88)),PROGRAMACION!N88,\"\")","v":""},{"$f":"IF(NOT(ISBLANK(PROGRAMACION!O88)),PROGRAMACION!O88,\"\")","v":""}]
[{"$f":"IF(NOT(ISBLANK(PROGRAMACION!A89)),PROGRAMACION!A89,\"\")","v":""},{"$f":"IF(NOT(ISBLANK(PROGRAMACION!B89)),PROGRAMACION!B89,\"\")","v":""},{"$f":"IF(NOT(ISBLANK(PROGRAMACION!C89)),PROGRAMACION!C89,\"\")","v":""},null,{"$f":"IF(NOT(ISBLANK(PROGRAMACION!E89)),PROGRAMACION!E89,\"\")","v":""},null,{"$f":"IF(NOT(ISBLANK(PROGRAMACION!G89)),PROGRAMACION!G89,\"\")","v":""},{"$f":"IF(NOT(ISBLANK(PROGRAMACION!H89)),PROGRAMACION!H89,\"\")","v":""},{"$f":"IF(NOT(ISBLANK(PROGRAMACION!I89)),PROGRAMACION!I89,\"\")","v":""},{"$f":"IF(NOT(ISBLANK(PROGRAMACION!J89)),IF(PROGRAMACION!I89=\"Transformador\",MID(PROGRAMACION!J89,1,2),PROGRAMACION!J89),\"\")","v":""},{"$f":"IF(NOT(ISBLANK(PROGRAMACION!K89)),PROGRAMACION!K89,\"\")","v":""},{"$f":"IF(NOT(ISBLANK(PROGRAMACION!L89)),PROGRAMACION!L89,\"\")","v":""},{"$f":"IF(NOT(ISBLANK(PROGRAMACION!M89)),PROGRAMACION!M89,\"\")","v":""},{"$f":"IF(NOT(ISBLANK(PROGRAMACION!N89)),PROGRAMACION!N89,\"\")","v":""},{"$f":"IF(NOT(ISBLANK(PROGRAMACION!O89)),PROGRAMACION!O89,\"\")","v":""}]
[{"$f":"IF(NOT(ISBLANK(PROGRAMACION!A90)),PROGRAMACION!A90,\"\")","v":""},{"$f":"IF(NOT(ISBLANK(PROGRAMACION!B90)),PROGRAMACION!B90,\"\")","v":""},{"$f":"IF(NOT(ISBLANK(PROGRAMACION!C90)),PROGRAMACION!C90,\"\")","v":""},null,{"$f":"IF(NOT(ISBLANK(PROGRAMACION!E90)),PROGRAMACION!E90,\"\")","v":""},null,{"$f":"IF(NOT(ISBLANK(PROGRAMACION!G90)),PROGRAMACION!G90,\"\")","v":""},{"$f":"IF(NOT(ISBLANK(PROGRAMACION!H90)),PROGRAMACION!H90,\"\")","v":""},{"$f":"IF(NOT(ISBLANK(PROGRAMACION!I90)),PROGRAMACION!I90,\"\")","v":""},{"$f":"IF(NOT(ISBLANK(PROGRAMACION!J90)),IF(PROGRAMACION!I90=\"Transformador\",MID(PROGRAMACION!J90,1,2),PROGRAMACION!J90),\"\")","v":""},{"$f":"IF(NOT(ISBLANK(PROGRAMACION!K90)),PROGRAMACION!K90,\"\")","v":""},{"$f":"IF(NOT(ISBLANK(PROGRAMACION!L90)),PROGRAMACION!L90,\"\")","v":""},{"$f":"IF(NOT(ISBLANK(PROGRAMACION!M90)),PROGRAMACION!M90,\"\")","v":""},{"$f":"IF(NOT(ISBLANK(PROGRAMACION!N90)),PROGRAMACION!N90,\"\")","v":""},{"$f":"IF(NOT(ISBLANK(PROGRAMACION!O90)),PROGRAMACION!O90,\"\")","v":""}]
[{"$f":"IF(NOT(ISBLANK(PROGRAMACION!A91)),PROGRAMACION!A91,\"\")","v":""},{"$f":"IF(NOT(ISBLANK(PROGRAMACION!B91)),PROGRAMACION!B91,\"\")","v":""},{"$f":"IF(NOT(ISBLANK(PROGRAMACION!C91)),PROGRAMACION!C91,\"\")","v":""},null,{"$f":"IF(NOT(ISBLANK(PROGRAMACION!E91)),PROGRAMACION!E91,\"\")","v":""},null,{"$f":"IF(NOT(ISBLANK(PROGRAMACION!G91)),PROGRAMACION!G91,\"\")","v":""},{"$f":"IF(NOT(ISBLANK(PROGRAMACION!H91)),PROGRAMACION!H91,\"\")","v":""},{"$f":"IF(NOT(ISBLANK(PROGRAMACION!I91)),PROGRAMACION!I91,\"\")","v":""},{"$f":"IF(NOT(ISBLANK(PROGRAMACION!J91)),IF(PROGRAMACION!I91=\"Transformador\",MID(PROGRAMACION!J91,1,2),PROGRAMACION!J91),\"\")","v":""},{"$f":"IF(NOT(ISBLANK(PROGRAMACION!K91)),PROGRAMACION!K91,\"\")","v":""},{"$f":"IF(NOT(ISBLANK(PROGRAMACION!L91)),PROGRAMACION!L91,\"\")","v":""},{"$f":"IF(NOT(ISBLANK(PROGRAMACION!M91)),PROGRAMACION!M91,\"\")","v":""},{"$f":"IF(NOT(ISBLANK(PROGRAMACION!N91)),PROGRAMACION!N91,\"\")","v":""},{"$f":"IF(NOT(ISBLANK(PROGRAMACION!O91)),PROGRAMACION!O91,\"\")","v":""}]
[{"$f":"IF(NOT(ISBLANK(PROGRAMACION!A92)),PROGRAMACION!A92,\"\")","v":""},{"$f":"IF(NOT(ISBLANK(PROGRAMACION!B92)),PROGRAMACION!B92,\"\")","v":""},{"$f":"IF(NOT(ISBLANK(PROGRAMACION!C92)),PROGRAMACION!C92,\"\")","v":""},null,{"$f":"IF(NOT(ISBLANK(PROGRAMACION!E92)),PROGRAMACION!E92,\"\")","v":""},null,{"$f":"IF(NOT(ISBLANK(PROGRAMACION!G92)),PROGRAMACION!G92,\"\")","v":""},{"$f":"IF(NOT(ISBLANK(PROGRAMACION!H92)),PROGRAMACION!H92,\"\")","v":""},{"$f":"IF(NOT(ISBLANK(PROGRAMACION!I92)),PROGRAMACION!I92,\"\")","v":""},{"$f":"IF(NOT(ISBLANK(PROGRAMACION!J92)),IF(PROGRAMACION!I92=\"Transformador\",MID(PROGRAMACION!J92,1,2),PROGRAMACION!J92),\"\")","v":""},{"$f":"IF(NOT(ISBLANK(PROGRAMACION!K92)),PROGRAMACION!K92,\"\")","v":""},{"$f":"IF(NOT(ISBLANK(PROGRAMACION!L92)),PROGRAMACION!L92,\"\")","v":""},{"$f":"IF(NOT(ISBLANK(PROGRAMACION!M92)),PROGRAMACION!M92,\"\")","v":""},{"$f":"IF(NOT(ISBLANK(PROGRAMACION!N92)),PROGRAMACION!N92,\"\")","v":""},{"$f":"IF(NOT(ISBLANK(PROGRAMACION!O92)),PROGRAMACION!O92,\"\")","v":""}]
[{"$f":"IF(NOT(ISBLANK(PROGRAMACION!A93)),PROGRAMACION!A93,\"\")","v":""},{"$f":"IF(NOT(ISBLANK(PROGRAMACION!B93)),PROGRAMACION!B93,\"\")","v":""},{"$f":"IF(NOT(ISBLANK(PROGRAMACION!C93)),PROGRAMACION!C93,\"\")","v":""},null,{"$f":"IF(NOT(ISBLANK(PROGRAMACION!E93)),PROGRAMACION!E93,\"\")","v":""},null,{"$f":"IF(NOT(ISBLANK(PROGRAMACION!G93)),PROGRAMACION!G93,\"\")","v":""},{"$f":"IF(NOT(ISBLANK(PROGRAMACION!H93)),PROGRAMACION!H93,\"\")","v":""},{"$f":"IF(NOT(ISBLANK(PROGRAMACION!I93)),PROGRAMACION!I93,\"\")","v":""},{"$f":"IF(NOT(ISBLANK(PROGRAMACION!J93)),IF(PROGRAMACION!I93=\"Transformador\",MID(PROGRAMACION!J93,1,2),PROGRAMACION!J93),\"\")","v":""},{"$f":"IF(NOT(ISBLANK(PROGRAMACION!K93)),PROGRAMACION!K93,\"\")","v":""},{"$f":"IF(NOT(ISBLANK(PROGRAMACION!L93)),PROGRAMACION!L93,\"\")","v":""},{"$f":"IF(NOT(ISBLANK(PROGRAMACION!M93)),PROGRAMACION!M93,\"\")","v":""},{"$f":"IF(NOT(ISBLANK(PROGRAMACION!N93)),PROGRAMACION!N93,\"\")","v":""},{"$f":"IF(NOT(ISBLANK(PROGRAMACION!O93)),PROGRAMACION!O93,\"\")","v":""}]
[{"$f":"IF(NOT(ISBLANK(PROGRAMACION!A94)),PROGRAMACION!A94,\"\")","v":""},{"$f":"IF(NOT(ISBLANK(PROGRAMACION!B94)),PROGRAMACION!B94,\"\")","v":""},{"$f":"IF(NOT(ISBLANK(PROGRAMACION!C94)),PROGRAMACION!C94,\"\")","v":""},null,{"$f":"IF(NOT(ISBLANK(PROGRAMACION!E94)),PROGRAMACION!E94,\"\")","v":""},null,{"$f":"IF(NOT(ISBLANK(PROGRAMACION!G94)),PROGRAMACION!G94,\"\")","v":""},{"$f":"IF(NOT(ISBLANK(PROGRAMACION!H94)),PROGRAMACION!H94,\"\")","v":""},{"$f":"IF(NOT(ISBLANK(PROGRAMACION!I94)),PROGRAMACION!I94,\"\")","v":""},{"$f":"IF(NOT(ISBLANK(PROGRAMACION!J94)),IF(PROGRAMACION!I94=\"Transformador\",MID(PROGRAMACION!J94,1,2),PROGRAMACION!J94),\"\")","v":""},{"$f":"IF(NOT(ISBLANK(PROGRAMACION!K94)),PROGRAMACION!K94,\"\")","v":""},{"$f":"IF(NOT(ISBLANK(PROGRAMACION!L94)),PROGRAMACION!L94,\"\")","v":""},{"$f":"IF(NOT(ISBLANK(PROGRAMACION!M94)),PROGRAMACION!M94,\"\")","v":""},{"$f":"IF(NOT(ISBLANK(PROGRAMACION!N94)),PROGRAMACION!N94,\"\")","v":""},{"$f":"IF(NOT(ISBLANK(PROGRAMACION!O94)),PROGRAMACION!O94,\"\")","v":""}]
[{"$f":"IF(NOT(ISBLANK(PROGRAMACION!A95)),PROGRAMACION!A95,\"\")","v":""},{"$f":"IF(NOT(ISBLANK(PROGRAMACION!B95)),PROGRAMACION!B95,\"\")","v":""},{"$f":"IF(NOT(ISBLANK(PROGRAMACION!C95)),PROGRAMACION!C95,\"\")","v":""},null,{"$f":"IF(NOT(ISBLANK(PROGRAMACION!E95)),PROGRAMACION!E95,\"\")","v":""},null,{"$f":"IF(NOT(ISBLANK(PROGRAMACION!G95)),PROGRAMACION!G95,\"\")","v":""},{"$f":"IF(NOT(ISBLANK(PROGRAMACION!H95)),PROGRAMACION!H95,\"\")","v":""},{"$f":"IF(NOT(ISBLANK(PROGRAMACION!I95)),PROGRAMACION!I95,\"\")","v":""},{"$f":"IF(NOT(ISBLANK(PROGRAMACION!J95)),IF(PROGRAMACION!I95=\"Transformador\",MID(PROGRAMACION!J95,1,2),PROGRAMACION!J95),\"\")","v":""},{"$f":"IF(NOT(ISBLANK(PROGRAMACION!K95)),PROGRAMACION!K95,\"\")","v":""},{"$f":"IF(NOT(ISBLANK(PROGRAMACION!L95)),PROGRAMACION!L95,\"\")","v":""},{"$f":"IF(NOT(ISBLANK(PROGRAMACION!M95)),PROGRAMACION!M95,\"\")","v":""},{"$f":"IF(NOT(ISBLANK(PROGRAMACION!N95)),PROGRAMACION!N95,\"\")","v":""},{"$f":"IF(NOT(ISBLANK(PROGRAMACION!O95)),PROGRAMACION!O95,\"\")","v":""}]
[{"$f":"IF(NOT(ISBLANK(PROGRAMACION!A96)),PROGRAMACION!A96,\"\")","v":""},{"$f":"IF(NOT(ISBLANK(PROGRAMACION!B96)),PROGRAMACION!B96,\"\")","v":""},{"$f":"IF(NOT(ISBLANK(PROGRAMACION!C96)),PROGRAMACION!C96,\"\")","v":""},null,{"$f":"IF(NOT(ISBLANK(PROGRAMACION!E96)),PROGRAMACION!E96,\"\")","v":""},null,{"$f":"IF(NOT(ISBLANK(PROGRAMACION!G96)),PROGRAMACION!G96,\"\")","v":""},{"$f":"IF(NOT(ISBLANK(PROGRAMACION!H96)),PROGRAMACION!H96,\"\")","v":""},{"$f":"IF(NOT(ISBLANK(PROGRAMACION!I96)),PROGRAMACION!I96,\"\")","v":""},{"$f":"IF(NOT(ISBLANK(PROGRAMACION!J96)),IF(PROGRAMACION!I96=\"Transformador\",MID(PROGRAMACION!J96,1,2),PROGRAMACION!J96),\"\")","v":""},{"$f":"IF(NOT(ISBLANK(PROGRAMACION!K96)),PROGRAMACION!K96,\"\")","v":""},{"$f":"IF(NOT(ISBLANK(PROGRAMACION!L96)),PROGRAMACION!L96,\"\")","v":""},{"$f":"IF(NOT(ISBLANK(PROGRAMACION!M96)),PROGRAMACION!M96,\"\")","v":""},{"$f":"IF(NOT(ISBLANK(PROGRAMACION!N96)),PROGRAMACION!N96,\"\")","v":""},{"$f":"IF(NOT(ISBLANK(PROGRAMACION!O96)),PROGRAMACION!O96,\"\")","v":""}]
[{"$f":"IF(NOT(ISBLANK(PROGRAMACION!A97)),PROGRAMACION!A97,\"\")","v":""},{"$f":"IF(NOT(ISBLANK(PROGRAMACION!B97)),PROGRAMACION!B97,\"\")","v":""},{"$f":"IF(NOT(ISBLANK(PROGRAMACION!C97)),PROGRAMACION!C97,\"\")","v":""},null,{"$f":"IF(NOT(ISBLANK(PROGRAMACION!E97)),PROGRAMACION!E97,\"\")","v":""},null,{"$f":"IF(NOT(ISBLANK(PROGRAMACION!G97)),PROGRAMACION!G97,\"\")","v":""},{"$f":"IF(NOT(ISBLANK(PROGRAMACION!H97)),PROGRAMACION!H97,\"\")","v":""},{"$f":"IF(NOT(ISBLANK(PROGRAMACION!I97)),PROGRAMACION!I97,\"\")","v":""},{"$f":"IF(NOT(ISBLANK(PROGRAMACION!J97)),IF(PROGRAMACION!I97=\"Transformador\",MID(PROGRAMACION!J97,1,2),PROGRAMACION!J97),\"\")","v":""},{"$f":"IF(NOT(ISBLANK(PROGRAMACION!K97)),PROGRAMACION!K97,\"\")","v":""},{"$f":"IF(NOT(ISBLANK(PROGRAMACION!L97)),PROGRAMACION!L97,\"\")","v":""},{"$f":"IF(NOT(ISBLANK(PROGRAMACION!M97)),PROGRAMACION!M97,\"\")","v":""},{"$f":"IF(NOT(ISBLANK(PROGRAMACION!N97)),PROGRAMACION!N97,\"\")","v":""},{"$f":"IF(NOT(ISBLANK(PROGRAMACION!O97)),PROGRAMACION!O97,\"\")","v":""}]
[{"$f":"IF(NOT(ISBLANK(PROGRAMACION!A98)),PROGRAMACION!A98,\"\")","v":""},{"$f":"IF(NOT(ISBLANK(PROGRAMACION!B98)),PROGRAMACION!B98,\"\")","v":""},{"$f":"IF(NOT(ISBLANK(PROGRAMACION!C98)),PROGRAMACION!C98,\"\")","v":""},null,{"$f":"IF(NOT(ISBLANK(PROGRAMACION!E98)),PROGRAMACION!E98,\"\")","v":""},null,{"$f":"IF(NOT(ISBLANK(PROGRAMACION!G98)),PROGRAMACION!G98,\"\")","v":""},{"$f":"IF(NOT(ISBLANK(PROGRAMACION!H98)),PROGRAMACION!H98,\"\")","v":""},{"$f":"IF(NOT(ISBLANK(PROGRAMACION!I98)),PROGRAMACION!I98,\"\")","v":""},{"$f":"IF(NOT(ISBLANK(PROGRAMACION!J98)),IF(PROGRAMACION!I98=\"Transformador\",MID(PROGRAMACION!J98,1,2),PROGRAMACION!J98),\"\")","v":""},{"$f":"IF(NOT(ISBLANK(PROGRAMACION!K98)),PROGRAMACION!K98,\"\")","v":""},{"$f":"IF(NOT(ISBLANK(PROGRAMACION!L98)),PROGRAMACION!L98,\"\")","v":""},{"$f":"IF(NOT(ISBLANK(PROGRAMACION!M98)),PROGRAMACION!M98,\"\")","v":""},{"$f":"IF(NOT(ISBLANK(PROGRAMACION!N98)),PROGRAMACION!N98,\"\")","v":""},{"$f":"IF(NOT(ISBLANK(PROGRAMACION!O98)),PROGRAMACION!O98,\"\")","v":""}]
[{"$f":"IF(NOT(ISBLANK(PROGRAMACION!A99)),PROGRAMACION!A99,\"\")","v":""},{"$f":"IF(NOT(ISBLANK(PROGRAMACION!B99)),PROGRAMACION!B99,\"\")","v":""},{"$f":"IF(NOT(ISBLANK(PROGRAMACION!C99)),PROGRAMACION!C99,\"\")","v":""},null,{"$f":"IF(NOT(ISBLANK(PROGRAMACION!E99)),PROGRAMACION!E99,\"\")","v":""},null,{"$f":"IF(NOT(ISBLANK(PROGRAMACION!G99)),PROGRAMACION!G99,\"\")","v":""},{"$f":"IF(NOT(ISBLANK(PROGRAMACION!H99)),PROGRAMACION!H99,\"\")","v":""},{"$f":"IF(NOT(ISBLANK(PROGRAMACION!I99)),PROGRAMACION!I99,\"\")","v":""},{"$f":"IF(NOT(ISBLANK(PROGRAMACION!J99)),IF(PROGRAMACION!I99=\"Transformador\",MID(PROGRAMACION!J99,1,2),PROGRAMACION!J99),\"\")","v":""},{"$f":"IF(NOT(ISBLANK(PROGRAMACION!K99)),PROGRAMACION!K99,\"\")","v":""},{"$f":"IF(NOT(ISBLANK(PROGRAMACION!L99)),PROGRAMACION!L99,\"\")","v":""},{"$f":"IF(NOT(ISBLANK(PROGRAMACION!M99)),PROGRAMACION!M99,\"\")","v":""},{"$f":"IF(NOT(ISBLANK(PROGRAMACION!N99)),PROGRAMACION!N99,\"\")","v":""},{"$f":"IF(NOT(ISBLANK(PROGRAMACION!O99)),PROGRAMACION!O99,\"\")","v":""}]
[{"$f":"IF(NOT(ISBLANK(PROGRAMACION!A100)),PROGRAMACION!A100,\"\")","v":""},{"$f":"IF(NOT(ISBLANK(PROGRAMACION!B100)),PROGRAMACION!B100,\"\")","v":""},{"$f":"IF(NOT(ISBLANK(PROGRAMACION!C100)),PROGRAMACION!C100,\"\")","v":""},null,{"$f":"IF(NOT(ISBLANK(PROGRAMACION!E100)),PROGRAMACION!E100,\"\")","v":""},null,{"$f":"IF(NOT(ISBLANK(PROGRAMACION!G100)),PROGRAMACION!G100,\"\")","v":""},{"$f":"IF(NOT(ISBLANK(PROGRAMACION!H100)),PROGRAMACION!H100,\"\")","v":""},{"$f":"IF(NOT(ISBLANK(PROGRAMACION!I100)),PROGRAMACION!I100,\"\")","v":""},{"$f":"IF(NOT(ISBLANK(PROGRAMACION!J100)),IF(PROGRAMACION!I100=\"Transformador\",MID(PROGRAMACION!J100,1,2),PROGRAMACION!J100),\"\")","v":""},{"$f":"IF(NOT(ISBLANK(PROGRAMACION!K100)),PROGRAMACION!K100,\"\")","v":""},{"$f":"IF(NOT(ISBLANK(PROGRAMACION!L100)),PROGRAMACION!L100,\"\")","v":""},{"$f":"IF(NOT(ISBLANK(PROGRAMACION!M100)),PROGRAMACION!M100,\"\")","v":""},{"$f":"IF(NOT(ISBLANK(PROGRAMACION!N100)),PROGRAMACION!N100,\"\")","v":""},{"$f":"IF(NOT(ISBLANK(PROGRAMACION!O100)),PROGRAMACION!O100,\"\")","v":""}]
[{"$f":"IF(NOT(ISBLANK(PROGRAMACION!A101)),PROGRAMACION!A101,\"\")","v":""},{"$f":"IF(NOT(ISBLANK(PROGRAMACION!B101)),PROGRAMACION!B101,\"\")","v":""},{"$f":"IF(NOT(ISBLANK(PROGRAMACION!C101)),PROGRAMACION!C101,\"\")","v":""},null,{"$f":"IF(NOT(ISBLANK(PROGRAMACION!E101)),PROGRAMACION!E101,\"\")","v":""},null,{"$f":"IF(NOT(ISBLANK(PROGRAMACION!G101)),PROGRAMACION!G101,\"\")","v":""},{"$f":"IF(NOT(ISBLANK(PROGRAMACION!H101)),PROGRAMACION!H101,\"\")","v":""},{"$f":"IF(NOT(ISBLANK(PROGRAMACION!I101)),PROGRAMACION!I101,\"\")","v":""},{"$f":"IF(NOT(ISBLANK(PROGRAMACION!J101)),IF(PROGRAMACION!I101=\"Transformador\",MID(PROGRAMACION!J101,1,2),PROGRAMACION!J101),\"\")","v":""},{"$f":"IF(NOT(ISBLANK(PROGRAMACION!K101)),PROGRAMACION!K101,\"\")","v":""},{"$f":"IF(NOT(ISBLANK(PROGRAMACION!L101)),PROGRAMACION!L101,\"\")","v":""},{"$f":"IF(NOT(ISBLANK(PROGRAMACION!M101)),PROGRAMACION!M101,\"\")","v":""},{"$f":"IF(NOT(ISBLANK(PROGRAMACION!N101)),PROGRAMACION!N101,\"\")","v":""},{"$f":"IF(NOT(ISBLANK(PROGRAMACION!O101)),PROGRAMACION!O101,\"\")","v":""}]
[{"$f":"IF(NOT(ISBLANK(PROGRAMACION!A102)),PROGRAMACION!A102,\"\")","v":""},{"$f":"IF(NOT(ISBLANK(PROGRAMACION!B102)),PROGRAMACION!B102,\"\")","v":""},{"$f":"IF(NOT(ISBLANK(PROGRAMACION!C102)),PROGRAMACION!C102,\"\")","v":""},null,{"$f":"IF(NOT(ISBLANK(PROGRAMACION!E102)),PROGRAMACION!E102,\"\")","v":""},null,{"$f":"IF(NOT(ISBLANK(PROGRAMACION!G102)),PROGRAMACION!G102,\"\")","v":""},{"$f":"IF(NOT(ISBLANK(PROGRAMACION!H102)),PROGRAMACION!H102,\"\")","v":""},{"$f":"IF(NOT(ISBLANK(PROGRAMACION!I102)),PROGRAMACION!I102,\"\")","v":""},{"$f":"IF(NOT(ISBLANK(PROGRAMACION!J102)),IF(PROGRAMACION!I102=\"Transformador\",MID(PROGRAMACION!J102,1,2),PROGRAMACION!J102),\"\")","v":""},{"$f":"IF(NOT(ISBLANK(PROGRAMACION!K102)),PROGRAMACION!K102,\"\")","v":""},{"$f":"IF(NOT(ISBLANK(PROGRAMACION!L102)),PROGRAMACION!L102,\"\")","v":""},{"$f":"IF(NOT(ISBLANK(PROGRAMACION!M102)),PROGRAMACION!M102,\"\")","v":""},{"$f":"IF(NOT(ISBLANK(PROGRAMACION!N102)),PROGRAMACION!N102,\"\")","v":""},{"$f":"IF(NOT(ISBLANK(PROGRAMACION!O102)),PROGRAMACION!O102,\"\")","v":""}]
[{"$f":"IF(NOT(ISBLANK(PROGRAMACION!A103)),PROGRAMACION!A103,\"\")","v":""},{"$f":"IF(NOT(ISBLANK(PROGRAMACION!B103)),PROGRAMACION!B103,\"\")","v":""},{"$f":"IF(NOT(ISBLANK(PROGRAMACION!C103)),PROGRAMACION!C103,\"\")","v":""},null,{"$f":"IF(NOT(ISBLANK(PROGRAMACION!E103)),PROGRAMACION!E103,\"\")","v":""},null,{"$f":"IF(NOT(ISBLANK(PROGRAMACION!G103)),PROGRAMACION!G103,\"\")","v":""},{"$f":"IF(NOT(ISBLANK(PROGRAMACION!H103)),PROGRAMACION!H103,\"\")","v":""},{"$f":"IF(NOT(ISBLANK(PROGRAMACION!I103)),PROGRAMACION!I103,\"\")","v":""},{"$f":"IF(NOT(ISBLANK(PROGRAMACION!J103)),IF(PROGRAMACION!I103=\"Transformador\",MID(PROGRAMACION!J103,1,2),PROGRAMACION!J103),\"\")","v":""},{"$f":"IF(NOT(ISBLANK(PROGRAMACION!K103)),PROGRAMACION!K103,\"\")","v":""},{"$f":"IF(NOT(ISBLANK(PROGRAMACION!L103)),PROGRAMACION!L103,\"\")","v":""},{"$f":"IF(NOT(ISBLANK(PROGRAMACION!M103)),PROGRAMACION!M103,\"\")","v":""},{"$f":"IF(NOT(ISBLANK(PROGRAMACION!N103)),PROGRAMACION!N103,\"\")","v":""},{"$f":"IF(NOT(ISBLANK(PROGRAMACION!O103)),PROGRAMACION!O103,\"\")","v":""}]
[{"$f":"IF(NOT(ISBLANK(PROGRAMACION!A104)),PROGRAMACION!A104,\"\")","v":""},{"$f":"IF(NOT(ISBLANK(PROGRAMACION!B104)),PROGRAMACION!B104,\"\")","v":""},{"$f":"IF(NOT(ISBLANK(PROGRAMACION!C104)),PROGRAMACION!C104,\"\")","v":""},null,{"$f":"IF(NOT(ISBLANK(PROGRAMACION!E104)),PROGRAMACION!E104,\"\")","v":""},null,{"$f":"IF(NOT(ISBLANK(PROGRAMACION!G104)),PROGRAMACION!G104,\"\")","v":""},{"$f":"IF(NOT(ISBLANK(PROGRAMACION!H104)),PROGRAMACION!H104,\"\")","v":""},{"$f":"IF(NOT(ISBLANK(PROGRAMACION!I104)),PROGRAMACION!I104,\"\")","v":""},{"$f":"IF(NOT(ISBLANK(PROGRAMACION!J104)),IF(PROGRAMACION!I104=\"Transformador\",MID(PROGRAMACION!J104,1,2),PROGRAMACION!J104),\"\")","v":""},{"$f":"IF(NOT(ISBLANK(PROGRAMACION!K104)),PROGRAMACION!K104,\"\")","v":""},{"$f":"IF(NOT(ISBLANK(PROGRAMACION!L104)),PROGRAMACION!L104,\"\")","v":""},{"$f":"IF(NOT(ISBLANK(PROGRAMACION!M104)),PROGRAMACION!M104,\"\")","v":""},{"$f":"IF(NOT(ISBLANK(PROGRAMACION!N104)),PROGRAMACION!N104,\"\")","v":""},{"$f":"IF(NOT(ISBLANK(PROGRAMACION!O104)),PROGRAMACION!O104,\"\")","v":""}]
[{"$f":"IF(NOT(ISBLANK(PROGRAMACION!A105)),PROGRAMACION!A105,\"\")","v":""},{"$f":"IF(NOT(ISBLANK(PROGRAMACION!B105)),PROGRAMACION!B105,\"\")","v":""},{"$f":"IF(NOT(ISBLANK(PROGRAMACION!C105)),PROGRAMACION!C105,\"\")","v":""},null,{"$f":"IF(NOT(ISBLANK(PROGRAMACION!E105)),PROGRAMACION!E105,\"\")","v":""},null,{"$f":"IF(NOT(ISBLANK(PROGRAMACION!G105)),PROGRAMACION!G105,\"\")","v":""},{"$f":"IF(NOT(ISBLANK(PROGRAMACION!H105)),PROGRAMACION!H105,\"\")","v":""},{"$f":"IF(NOT(ISBLANK(PROGRAMACION!I105)),PROGRAMACION!I105,\"\")","v":""},{"$f":"IF(NOT(ISBLANK(PROGRAMACION!J105)),IF(PROGRAMACION!I105=\"Transformador\",MID(PROGRAMACION!J105,1,2),PROGRAMACION!J105),\"\")","v":""},{"$f":"IF(NOT(ISBLANK(PROGRAMACION!K105)),PROGRAMACION!K105,\"\")","v":""},{"$f":"IF(NOT(ISBLANK(PROGRAMACION!L105)),PROGRAMACION!L105,\"\")","v":""},{"$f":"IF(NOT(ISBLANK(PROGRAMACION!M105)),PROGRAMACION!M105,\"\")","v":""},{"$f":"IF(NOT(ISBLANK(PROGRAMACION!N105)),PROGRAMACION!N105,\"\")","v":""},{"$f":"IF(NOT(ISBLANK(PROGRAMACION!O105)),PROGRAMACION!O105,\"\")","v":""}]
[{"$f":"IF(NOT(ISBLANK(PROGRAMACION!A106)),PROGRAMACION!A106,\"\")","v":""},{"$f":"IF(NOT(ISBLANK(PROGRAMACION!B106)),PROGRAMACION!B106,\"\")","v":""},{"$f":"IF(NOT(ISBLANK(PROGRAMACION!C106)),PROGRAMACION!C106,\"\")","v":""},null,{"$f":"IF(NOT(ISBLANK(PROGRAMACION!E106)),PROGRAMACION!E106,\"\")","v":""},null,{"$f":"IF(NOT(ISBLANK(PROGRAMACION!G106)),PROGRAMACION!G106,\"\")","v":""},{"$f":"IF(NOT(ISBLANK(PROGRAMACION!H106)),PROGRAMACION!H106,\"\")","v":""},{"$f":"IF(NOT(ISBLANK(PROGRAMACION!I106)),PROGRAMACION!I106,\"\")","v":""},{"$f":"IF(NOT(ISBLANK(PROGRAMACION!J106)),IF(PROGRAMACION!I106=\"Transformador\",MID(PROGRAMACION!J106,1,2),PROGRAMACION!J106),\"\")","v":""},{"$f":"IF(NOT(ISBLANK(PROGRAMACION!K106)),PROGRAMACION!K106,\"\")","v":""},{"$f":"IF(NOT(ISBLANK(PROGRAMACION!L106)),PROGRAMACION!L106,\"\")","v":""},{"$f":"IF(NOT(ISBLANK(PROGRAMACION!M106)),PROGRAMACION!M106,\"\")","v":""},{"$f":"IF(NOT(ISBLANK(PROGRAMACION!N106)),PROGRAMACION!N106,\"\")","v":""},{"$f":"IF(NOT(ISBLANK(PROGRAMACION!O106)),PROGRAMACION!O106,\"\")","v":""}]
[{"$f":"IF(NOT(ISBLANK(PROGRAMACION!A107)),PROGRAMACION!A107,\"\")","v":""},{"$f":"IF(NOT(ISBLANK(PROGRAMACION!B107)),PROGRAMACION!B107,\"\")","v":""},{"$f":"IF(NOT(ISBLANK(PROGRAMACION!C107)),PROGRAMACION!C107,\"\")","v":""},null,{"$f":"IF(NOT(ISBLANK(PROGRAMACION!E107)),PROGRAMACION!E107,\"\")","v":""},null,{"$f":"IF(NOT(ISBLANK(PROGRAMACION!G107)),PROGRAMACION!G107,\"\")","v":""},{"$f":"IF(NOT(ISBLANK(PROGRAMACION!H107)),PROGRAMACION!H107,\"\")","v":""},{"$f":"IF(NOT(ISBLANK(PROGRAMACION!I107)),PROGRAMACION!I107,\"\")","v":""},{"$f":"IF(NOT(ISBLANK(PROGRAMACION!J107)),IF(PROGRAMACION!I107=\"Transformador\",MID(PROGRAMACION!J107,1,2),PROGRAMACION!J107),\"\")","v":""},{"$f":"IF(NOT(ISBLANK(PROGRAMACION!K107)),PROGRAMACION!K107,\"\")","v":""},{"$f":"IF(NOT(ISBLANK(PROGRAMACION!L107)),PROGRAMACION!L107,\"\")","v":""},{"$f":"IF(NOT(ISBLANK(PROGRAMACION!M107)),PROGRAMACION!M107,\"\")","v":""},{"$f":"IF(NOT(ISBLANK(PROGRAMACION!N107)),PROGRAMACION!N107,\"\")","v":""},{"$f":"IF(NOT(ISBLANK(PROGRAMACION!O107)),PROGRAMACION!O107,\"\")","v":""}]
[{"$f":"IF(NOT(ISBLANK(PROGRAMACION!A108)),PROGRAMACION!A108,\"\")","v":""},{"$f":"IF(NOT(ISBLANK(PROGRAMACION!B108)),PROGRAMACION!B108,\"\")","v":""},{"$f":"IF(NOT(ISBLANK(PROGRAMACION!C108)),PROGRAMACION!C108,\"\")","v":""},null,{"$f":"IF(NOT(ISBLANK(PROGRAMACION!E108)),PROGRAMACION!E108,\"\")","v":""},null,{"$f":"IF(NOT(ISBLANK(PROGRAMACION!G108)),PROGRAMACION!G108,\"\")","v":""},{"$f":"IF(NOT(ISBLANK(PROGRAMACION!H108)),PROGRAMACION!H108,\"\")","v":""},{"$f":"IF(NOT(ISBLANK(PROGRAMACION!I108)),PROGRAMACION!I108,\"\")","v":""},{"$f":"IF(NOT(ISBLANK(PROGRAMACION!J108)),IF(PROGRAMACION!I108=\"Transformador\",MID(PROGRAMACION!J108,1,2),PROGRAMACION!J108),\"\")","v":""},{"$f":"IF(NOT(ISBLANK(PROGRAMACION!K108)),PROGRAMACION!K108,\"\")","v":""},{"$f":"IF(NOT(ISBLANK(PROGRAMACION!L108)),PROGRAMACION!L108,\"\")","v":""},{"$f":"IF(NOT(ISBLANK(PROGRAMACION!M108)),PROGRAMACION!M108,\"\")","v":""},{"$f":"IF(NOT(ISBLANK(PROGRAMACION!N108)),PROGRAMACION!N108,\"\")","v":""},{"$f":"IF(NOT(ISBLANK(PROGRAMACION!O108)),PROGRAMACION!O108,\"\")","v":""}]
[{"$f":"IF(NOT(ISBLANK(PROGRAMACION!A109)),PROGRAMACION!A109,\"\")","v":""},{"$f":"IF(NOT(ISBLANK(PROGRAMACION!B109)),PROGRAMACION!B109,\"\")","v":""},{"$f":"IF(NOT(ISBLANK(PROGRAMACION!C109)),PROGRAMACION!C109,\"\")","v":""},null,{"$f":"IF(NOT(ISBLANK(PROGRAMACION!E109)),PROGRAMACION!E109,\"\")","v":""},null,{"$f":"IF(NOT(ISBLANK(PROGRAMACION!G109)),PROGRAMACION!G109,\"\")","v":""},{"$f":"IF(NOT(ISBLANK(PROGRAMACION!H109)),PROGRAMACION!H109,\"\")","v":""},{"$f":"IF(NOT(ISBLANK(PROGRAMACION!I109)),PROGRAMACION!I109,\"\")","v":""},{"$f":"IF(NOT(ISBLANK(PROGRAMACION!J109)),IF(PROGRAMACION!I109=\"Transformador\",MID(PROGRAMACION!J109,1,2),PROGRAMACION!J109),\"\")","v":""},{"$f":"IF(NOT(ISBLANK(PROGRAMACION!K109)),PROGRAMACION!K109,\"\")","v":""},{"$f":"IF(NOT(ISBLANK(PROGRAMACION!L109)),PROGRAMACION!L109,\"\")","v":""},{"$f":"IF(NOT(ISBLANK(PROGRAMACION!M109)),PROGRAMACION!M109,\"\")","v":""},{"$f":"IF(NOT(ISBLANK(PROGRAMACION!N109)),PROGRAMACION!N109,\"\")","v":""},{"$f":"IF(NOT(ISBLANK(PROGRAMACION!O109)),PROGRAMACION!O109,\"\")","v":""}]
[{"$f":"IF(NOT(ISBLANK(PROGRAMACION!A110)),PROGRAMACION!A110,\"\")","v":""},{"$f":"IF(NOT(ISBLANK(PROGRAMACION!B110)),PROGRAMACION!B110,\"\")","v":""},{"$f":"IF(NOT(ISBLANK(PROGRAMACION!C110)),PROGRAMACION!C110,\"\")","v":""},null,{"$f":"IF(NOT(ISBLANK(PROGRAMACION!E110)),PROGRAMACION!E110,\"\")","v":""},null,{"$f":"IF(NOT(ISBLANK(PROGRAMACION!G110)),PROGRAMACION!G110,\"\")","v":""},{"$f":"IF(NOT(ISBLANK(PROGRAMACION!H110)),PROGRAMACION!H110,\"\")","v":""},{"$f":"IF(NOT(ISBLANK(PROGRAMACION!I110)),PROGRAMACION!I110,\"\")","v":""},{"$f":"IF(NOT(ISBLANK(PROGRAMACION!J110)),IF(PROGRAMACION!I110=\"Transformador\",MID(PROGRAMACION!J110,1,2),PROGRAMACION!J110),\"\")","v":""},{"$f":"IF(NOT(ISBLANK(PROGRAMACION!K110)),PROGRAMACION!K110,\"\")","v":""},{"$f":"IF(NOT(ISBLANK(PROGRAMACION!L110)),PROGRAMACION!L110,\"\")","v":""},{"$f":"IF(NOT(ISBLANK(PROGRAMACION!M110)),PROGRAMACION!M110,\"\")","v":""},{"$f":"IF(NOT(ISBLANK(PROGRAMACION!N110)),PROGRAMACION!N110,\"\")","v":""},{"$f":"IF(NOT(ISBLANK(PROGRAMACION!O110)),PROGRAMACION!O110,\"\")","v":""}]
[{"$f":"IF(NOT(ISBLANK(PROGRAMACION!A111)),PROGRAMACION!A111,\"\")","v":""},{"$f":"IF(NOT(ISBLANK(PROGRAMACION!B111)),PROGRAMACION!B111,\"\")","v":""},{"$f":"IF(NOT(ISBLANK(PROGRAMACION!C111)),PROGRAMACION!C111,\"\")","v":""},null,{"$f":"IF(NOT(ISBLANK(PROGRAMACION!E111)),PROGRAMACION!E111,\"\")","v":""},null,{"$f":"IF(NOT(ISBLANK(PROGRAMACION!G111)),PROGRAMACION!G111,\"\")","v":""},{"$f":"IF(NOT(ISBLANK(PROGRAMACION!H111)),PROGRAMACION!H111,\"\")","v":""},{"$f":"IF(NOT(ISBLANK(PROGRAMACION!I111)),PROGRAMACION!I111,\"\")","v":""},{"$f":"IF(NOT(ISBLANK(PROGRAMACION!J111)),IF(PROGRAMACION!I111=\"Transformador\",MID(PROGRAMACION!J111,1,2),PROGRAMACION!J111),\"\")","v":""},{"$f":"IF(NOT(ISBLANK(PROGRAMACION!K111)),PROGRAMACION!K111,\"\")","v":""},{"$f":"IF(NOT(ISBLANK(PROGRAMACION!L111)),PROGRAMACION!L111,\"\")","v":""},{"$f":"IF(NOT(ISBLANK(PROGRAMACION!M111)),PROGRAMACION!M111,\"\")","v":""},{"$f":"IF(NOT(ISBLANK(PROGRAMACION!N111)),PROGRAMACION!N111,\"\")","v":""},{"$f":"IF(NOT(ISBLANK(PROGRAMACION!O111)),PROGRAMACION!O111,\"\")","v":""}]
[{"$f":"IF(NOT(ISBLANK(PROGRAMACION!A112)),PROGRAMACION!A112,\"\")","v":""},{"$f":"IF(NOT(ISBLANK(PROGRAMACION!B112)),PROGRAMACION!B112,\"\")","v":""},{"$f":"IF(NOT(ISBLANK(PROGRAMACION!C112)),PROGRAMACION!C112,\"\")","v":""},null,{"$f":"IF(NOT(ISBLANK(PROGRAMACION!E112)),PROGRAMACION!E112,\"\")","v":""},null,{"$f":"IF(NOT(ISBLANK(PROGRAMACION!G112)),PROGRAMACION!G112,\"\")","v":""},{"$f":"IF(NOT(ISBLANK(PROGRAMACION!H112)),PROGRAMACION!H112,\"\")","v":""},{"$f":"IF(NOT(ISBLANK(PROGRAMACION!I112)),PROGRAMACION!I112,\"\")","v":""},{"$f":"IF(NOT(ISBLANK(PROGRAMACION!J112)),IF(PROGRAMACION!I112=\"Transformador\",MID(PROGRAMACION!J112,1,2),PROGRAMACION!J112),\"\")","v":""},{"$f":"IF(NOT(ISBLANK(PROGRAMACION!K112)),PROGRAMACION!K112,\"\")","v":""},{"$f":"IF(NOT(ISBLANK(PROGRAMACION!L112)),PROGRAMACION!L112,\"\")","v":""},{"$f":"IF(NOT(ISBLANK(PROGRAMACION!M112)),PROGRAMACION!M112,\"\")","v":""},{"$f":"IF(NOT(ISBLANK(PROGRAMACION!N112)),PROGRAMACION!N112,\"\")","v":""},{"$f":"IF(NOT(ISBLANK(PROGRAMACION!O112)),PROGRAMACION!O112,\"\")","v":""}]
[{"$f":"IF(NOT(ISBLANK(PROGRAMACION!A113)),PROGRAMACION!A113,\"\")","v":""},{"$f":"IF(NOT(ISBLANK(PROGRAMACION!B113)),PROGRAMACION!B113,\"\")","v":""},{"$f":"IF(NOT(ISBLANK(PROGRAMACION!C113)),PROGRAMACION!C113,\"\")","v":""},null,{"$f":"IF(NOT(ISBLANK(PROGRAMACION!E113)),PROGRAMACION!E113,\"\")","v":""},null,{"$f":"IF(NOT(ISBLANK(PROGRAMACION!G113)),PROGRAMACION!G113,\"\")","v":""},{"$f":"IF(NOT(ISBLANK(PROGRAMACION!H113)),PROGRAMACION!H113,\"\")","v":""},{"$f":"IF(NOT(ISBLANK(PROGRAMACION!I113)),PROGRAMACION!I113,\"\")","v":""},{"$f":"IF(NOT(ISBLANK(PROGRAMACION!J113)),IF(PROGRAMACION!I113=\"Transformador\",MID(PROGRAMACION!J113,1,2),PROGRAMACION!J113),\"\")","v":""},{"$f":"IF(NOT(ISBLANK(PROGRAMACION!K113)),PROGRAMACION!K113,\"\")","v":""},{"$f":"IF(NOT(ISBLANK(PROGRAMACION!L113)),PROGRAMACION!L113,\"\")","v":""},{"$f":"IF(NOT(ISBLANK(PROGRAMACION!M113)),PROGRAMACION!M113,\"\")","v":""},{"$f":"IF(NOT(ISBLANK(PROGRAMACION!N113)),PROGRAMACION!N113,\"\")","v":""},{"$f":"IF(NOT(ISBLANK(PROGRAMACION!O113)),PROGRAMACION!O113,\"\")","v":""}]
[{"$f":"IF(NOT(ISBLANK(PROGRAMACION!A114)),PROGRAMACION!A114,\"\")","v":""},{"$f":"IF(NOT(ISBLANK(PROGRAMACION!B114)),PROGRAMACION!B114,\"\")","v":""},{"$f":"IF(NOT(ISBLANK(PROGRAMACION!C114)),PROGRAMACION!C114,\"\")","v":""},null,{"$f":"IF(NOT(ISBLANK(PROGRAMACION!E114)),PROGRAMACION!E114,\"\")","v":""},null,{"$f":"IF(NOT(ISBLANK(PROGRAMACION!G114)),PROGRAMACION!G114,\"\")","v":""},{"$f":"IF(NOT(ISBLANK(PROGRAMACION!H114)),PROGRAMACION!H114,\"\")","v":""},{"$f":"IF(NOT(ISBLANK(PROGRAMACION!I114)),PROGRAMACION!I114,\"\")","v":""},{"$f":"IF(NOT(ISBLANK(PROGRAMACION!J114)),IF(PROGRAMACION!I114=\"Transformador\",MID(PROGRAMACION!J114,1,2),PROGRAMACION!J114),\"\")","v":""},{"$f":"IF(NOT(ISBLANK(PROGRAMACION!K114)),PROGRAMACION!K114,\"\")","v":""},{"$f":"IF(NOT(ISBLANK(PROGRAMACION!L114)),PROGRAMACION!L114,\"\")","v":""},{"$f":"IF(NOT(ISBLANK(PROGRAMACION!M114)),PROGRAMACION!M114,\"\")","v":""},{"$f":"IF(NOT(ISBLANK(PROGRAMACION!N114)),PROGRAMACION!N114,\"\")","v":""},{"$f":"IF(NOT(ISBLANK(PROGRAMACION!O114)),PROGRAMACION!O114,\"\")","v":""}]
[{"$f":"IF(NOT(ISBLANK(PROGRAMACION!A115)),PROGRAMACION!A115,\"\")","v":""},{"$f":"IF(NOT(ISBLANK(PROGRAMACION!B115)),PROGRAMACION!B115,\"\")","v":""},{"$f":"IF(NOT(ISBLANK(PROGRAMACION!C115)),PROGRAMACION!C115,\"\")","v":""},null,{"$f":"IF(NOT(ISBLANK(PROGRAMACION!E115)),PROGRAMACION!E115,\"\")","v":""},null,{"$f":"IF(NOT(ISBLANK(PROGRAMACION!G115)),PROGRAMACION!G115,\"\")","v":""},{"$f":"IF(NOT(ISBLANK(PROGRAMACION!H115)),PROGRAMACION!H115,\"\")","v":""},{"$f":"IF(NOT(ISBLANK(PROGRAMACION!I115)),PROGRAMACION!I115,\"\")","v":""},{"$f":"IF(NOT(ISBLANK(PROGRAMACION!J115)),IF(PROGRAMACION!I115=\"Transformador\",MID(PROGRAMACION!J115,1,2),PROGRAMACION!J115),\"\")","v":""},{"$f":"IF(NOT(ISBLANK(PROGRAMACION!K115)),PROGRAMACION!K115,\"\")","v":""},{"$f":"IF(NOT(ISBLANK(PROGRAMACION!L115)),PROGRAMACION!L115,\"\")","v":""},{"$f":"IF(NOT(ISBLANK(PROGRAMACION!M115)),PROGRAMACION!M115,\"\")","v":""},{"$f":"IF(NOT(ISBLANK(PROGRAMACION!N115)),PROGRAMACION!N115,\"\")","v":""},{"$f":"IF(NOT(ISBLANK(PROGRAMACION!O115)),PROGRAMACION!O115,\"\")","v":""}]
[{"$f":"IF(NOT(ISBLANK(PROGRAMACION!A116)),PROGRAMACION!A116,\"\")","v":""},{"$f":"IF(NOT(ISBLANK(PROGRAMACION!B116)),PROGRAMACION!B116,\"\")","v":""},{"$f":"IF(NOT(ISBLANK(PROGRAMACION!C116)),PROGRAMACION!C116,\"\")","v":""},null,{"$f":"IF(NOT(ISBLANK(PROGRAMACION!E116)),PROGRAMACION!E116,\"\")","v":""},null,{"$f":"IF(NOT(ISBLANK(PROGRAMACION!G116)),PROGRAMACION!G116,\"\")","v":""},{"$f":"IF(NOT(ISBLANK(PROGRAMACION!H116)),PROGRAMACION!H116,\"\")","v":""},{"$f":"IF(NOT(ISBLANK(PROGRAMACION!I116)),PROGRAMACION!I116,\"\")","v":""},{"$f":"IF(NOT(ISBLANK(PROGRAMACION!J116)),IF(PROGRAMACION!I116=\"Transformador\",MID(PROGRAMACION!J116,1,2),PROGRAMACION!J116),\"\")","v":""},{"$f":"IF(NOT(ISBLANK(PROGRAMACION!K116)),PROGRAMACION!K116,\"\")","v":""},{"$f":"IF(NOT(ISBLANK(PROGRAMACION!L116)),PROGRAMACION!L116,\"\")","v":""},{"$f":"IF(NOT(ISBLANK(PROGRAMACION!M116)),PROGRAMACION!M116,\"\")","v":""},{"$f":"IF(NOT(ISBLANK(PROGRAMACION!N116)),PROGRAMACION!N116,\"\")","v":""},{"$f":"IF(NOT(ISBLANK(PROGRAMACION!O116)),PROGRAMACION!O116,\"\")","v":""}]
[{"$f":"IF(NOT(ISBLANK(PROGRAMACION!A117)),PROGRAMACION!A117,\"\")","v":""},{"$f":"IF(NOT(ISBLANK(PROGRAMACION!B117)),PROGRAMACION!B117,\"\")","v":""},{"$f":"IF(NOT(ISBLANK(PROGRAMACION!C117)),PROGRAMACION!C117,\"\")","v":""},null,{"$f":"IF(NOT(ISBLANK(PROGRAMACION!E117)),PROGRAMACION!E117,\"\")","v":""},null,{"$f":"IF(NOT(ISBLANK(PROGRAMACION!G117)),PROGRAMACION!G117,\"\")","v":""},{"$f":"IF(NOT(ISBLANK(PROGRAMACION!H117)),PROGRAMACION!H117,\"\")","v":""},{"$f":"IF(NOT(ISBLANK(PROGRAMACION!I117)),PROGRAMACION!I117,\"\")","v":""},{"$f":"IF(NOT(ISBLANK(PROGRAMACION!J117)),IF(PROGRAMACION!I117=\"Transformador\",MID(PROGRAMACION!J117,1,2),PROGRAMACION!J117),\"\")","v":""},{"$f":"IF(NOT(ISBLANK(PROGRAMACION!K117)),PROGRAMACION!K117,\"\")","v":""},{"$f":"IF(NOT(ISBLANK(PROGRAMACION!L117)),PROGRAMACION!L117,\"\")","v":""},{"$f":"IF(NOT(ISBLANK(PROGRAMACION!M117)),PROGRAMACION!M117,\"\")","v":""},{"$f":"IF(NOT(ISBLANK(PROGRAMACION!N117)),PROGRAMACION!N117,\"\")","v":""},{"$f":"IF(NOT(ISBLANK(PROGRAMACION!O117)),PROGRAMACION!O117,\"\")","v":""}]
[{"$f":"IF(NOT(ISBLANK(PROGRAMACION!A118)),PROGRAMACION!A118,\"\")","v":""},{"$f":"IF(NOT(ISBLANK(PROGRAMACION!B118)),PROGRAMACION!B118,\"\")","v":""},{"$f":"IF(NOT(ISBLANK(PROGRAMACION!C118)),PROGRAMACION!C118,\"\")","v":""},null,{"$f":"IF(NOT(ISBLANK(PROGRAMACION!E118)),PROGRAMACION!E118,\"\")","v":""},null,{"$f":"IF(NOT(ISBLANK(PROGRAMACION!G118)),PROGRAMACION!G118,\"\")","v":""},{"$f":"IF(NOT(ISBLANK(PROGRAMACION!H118)),PROGRAMACION!H118,\"\")","v":""},{"$f":"IF(NOT(ISBLANK(PROGRAMACION!I118)),PROGRAMACION!I118,\"\")","v":""},{"$f":"IF(NOT(ISBLANK(PROGRAMACION!J118)),IF(PROGRAMACION!I118=\"Transformador\",MID(PROGRAMACION!J118,1,2),PROGRAMACION!J118),\"\")","v":""},{"$f":"IF(NOT(ISBLANK(PROGRAMACION!K118)),PROGRAMACION!K118,\"\")","v":""},{"$f":"IF(NOT(ISBLANK(PROGRAMACION!L118)),PROGRAMACION!L118,\"\")","v":""},{"$f":"IF(NOT(ISBLANK(PROGRAMACION!M118)),PROGRAMACION!M118,\"\")","v":""},{"$f":"IF(NOT(ISBLANK(PROGRAMACION!N118)),PROGRAMACION!N118,\"\")","v":""},{"$f":"IF(NOT(ISBLANK(PROGRAMACION!O118)),PROGRAMACION!O118,\"\")","v":""}]
[{"$f":"IF(NOT(ISBLANK(PROGRAMACION!A119)),PROGRAMACION!A119,\"\")","v":""},{"$f":"IF(NOT(ISBLANK(PROGRAMACION!B119)),PROGRAMACION!B119,\"\")","v":""},{"$f":"IF(NOT(ISBLANK(PROGRAMACION!C119)),PROGRAMACION!C119,\"\")","v":""},null,{"$f":"IF(NOT(ISBLANK(PROGRAMACION!E119)),PROGRAMACION!E119,\"\")","v":""},null,{"$f":"IF(NOT(ISBLANK(PROGRAMACION!G119)),PROGRAMACION!G119,\"\")","v":""},{"$f":"IF(NOT(ISBLANK(PROGRAMACION!H119)),PROGRAMACION!H119,\"\")","v":""},{"$f":"IF(NOT(ISBLANK(PROGRAMACION!I119)),PROGRAMACION!I119,\"\")","v":""},{"$f":"IF(NOT(ISBLANK(PROGRAMACION!J119)),IF(PROGRAMACION!I119=\"Transformador\",MID(PROGRAMACION!J119,1,2),PROGRAMACION!J119),\"\")","v":""},{"$f":"IF(NOT(ISBLANK(PROGRAMACION!K119)),PROGRAMACION!K119,\"\")","v":""},{"$f":"IF(NOT(ISBLANK(PROGRAMACION!L119)),PROGRAMACION!L119,\"\")","v":""},{"$f":"IF(NOT(ISBLANK(PROGRAMACION!M119)),PROGRAMACION!M119,\"\")","v":""},{"$f":"IF(NOT(ISBLANK(PROGRAMACION!N119)),PROGRAMACION!N119,\"\")","v":""},{"$f":"IF(NOT(ISBLANK(PROGRAMACION!O119)),PROGRAMACION!O119,\"\")","v":""}]
[{"$f":"IF(NOT(ISBLANK(PROGRAMACION!A120)),PROGRAMACION!A120,\"\")","v":""},{"$f":"IF(NOT(ISBLANK(PROGRAMACION!B120)),PROGRAMACION!B120,\"\")","v":""},{"$f":"IF(NOT(ISBLANK(PROGRAMACION!C120)),PROGRAMACION!C120,\"\")","v":""},null,{"$f":"IF(NOT(ISBLANK(PROGRAMACION!E120)),PROGRAMACION!E120,\"\")","v":""},null,{"$f":"IF(NOT(ISBLANK(PROGRAMACION!G120)),PROGRAMACION!G120,\"\")","v":""},{"$f":"IF(NOT(ISBLANK(PROGRAMACION!H120)),PROGRAMACION!H120,\"\")","v":""},{"$f":"IF(NOT(ISBLANK(PROGRAMACION!I120)),PROGRAMACION!I120,\"\")","v":""},{"$f":"IF(NOT(ISBLANK(PROGRAMACION!J120)),IF(PROGRAMACION!I120=\"Transformador\",MID(PROGRAMACION!J120,1,2),PROGRAMACION!J120),\"\")","v":""},{"$f":"IF(NOT(ISBLANK(PROGRAMACION!K120)),PROGRAMACION!K120,\"\")","v":""},{"$f":"IF(NOT(ISBLANK(PROGRAMACION!L120)),PROGRAMACION!L120,\"\")","v":""},{"$f":"IF(NOT(ISBLANK(PROGRAMACION!M120)),PROGRAMACION!M120,\"\")","v":""},{"$f":"IF(NOT(ISBLANK(PROGRAMACION!N120)),PROGRAMACION!N120,\"\")","v":""},{"$f":"IF(NOT(ISBLANK(PROGRAMACION!O120)),PROGRAMACION!O120,\"\")","v":""}]
[{"$f":"IF(NOT(ISBLANK(PROGRAMACION!A121)),PROGRAMACION!A121,\"\")","v":""},{"$f":"IF(NOT(ISBLANK(PROGRAMACION!B121)),PROGRAMACION!B121,\"\")","v":""},{"$f":"IF(NOT(ISBLANK(PROGRAMACION!C121)),PROGRAMACION!C121,\"\")","v":""},null,{"$f":"IF(NOT(ISBLANK(PROGRAMACION!E121)),PROGRAMACION!E121,\"\")","v":""},null,{"$f":"IF(NOT(ISBLANK(PROGRAMACION!G121)),PROGRAMACION!G121,\"\")","v":""},{"$f":"IF(NOT(ISBLANK(PROGRAMACION!H121)),PROGRAMACION!H121,\"\")","v":""},{"$f":"IF(NOT(ISBLANK(PROGRAMACION!I121)),PROGRAMACION!I121,\"\")","v":""},{"$f":"IF(NOT(ISBLANK(PROGRAMACION!J121)),IF(PROGRAMACION!I121=\"Transformador\",MID(PROGRAMACION!J121,1,2),PROGRAMACION!J121),\"\")","v":""},{"$f":"IF(NOT(ISBLANK(PROGRAMACION!K121)),PROGRAMACION!K121,\"\")","v":""},{"$f":"IF(NOT(ISBLANK(PROGRAMACION!L121)),PROGRAMACION!L121,\"\")","v":""},{"$f":"IF(NOT(ISBLANK(PROGRAMACION!M121)),PROGRAMACION!M121,\"\")","v":""},{"$f":"IF(NOT(ISBLANK(PROGRAMACION!N121)),PROGRAMACION!N121,\"\")","v":""},{"$f":"IF(NOT(ISBLANK(PROGRAMACION!O121)),PROGRAMACION!O121,\"\")","v":""}]
[{"$f":"IF(NOT(ISBLANK(PROGRAMACION!A122)),PROGRAMACION!A122,\"\")","v":""},{"$f":"IF(NOT(ISBLANK(PROGRAMACION!B122)),PROGRAMACION!B122,\"\")","v":""},{"$f":"IF(NOT(ISBLANK(PROGRAMACION!C122)),PROGRAMACION!C122,\"\")","v":""},null,{"$f":"IF(NOT(ISBLANK(PROGRAMACION!E122)),PROGRAMACION!E122,\"\")","v":""},null,{"$f":"IF(NOT(ISBLANK(PROGRAMACION!G122)),PROGRAMACION!G122,\"\")","v":""},{"$f":"IF(NOT(ISBLANK(PROGRAMACION!H122)),PROGRAMACION!H122,\"\")","v":""},{"$f":"IF(NOT(ISBLANK(PROGRAMACION!I122)),PROGRAMACION!I122,\"\")","v":""},{"$f":"IF(NOT(ISBLANK(PROGRAMACION!J122)),IF(PROGRAMACION!I122=\"Transformador\",MID(PROGRAMACION!J122,1,2),PROGRAMACION!J122),\"\")","v":""},{"$f":"IF(NOT(ISBLANK(PROGRAMACION!K122)),PROGRAMACION!K122,\"\")","v":""},{"$f":"IF(NOT(ISBLANK(PROGRAMACION!L122)),PROGRAMACION!L122,\"\")","v":""},{"$f":"IF(NOT(ISBLANK(PROGRAMACION!M122)),PROGRAMACION!M122,\"\")","v":""},{"$f":"IF(NOT(ISBLANK(PROGRAMACION!N122)),PROGRAMACION!N122,\"\")","v":""},{"$f":"IF(NOT(ISBLANK(PROGRAMACION!O122)),PROGRAMACION!O122,\"\")","v":""}]
[{"$f":"IF(NOT(ISBLANK(PROGRAMACION!A123)),PROGRAMACION!A123,\"\")","v":""},{"$f":"IF(NOT(ISBLANK(PROGRAMACION!B123)),PROGRAMACION!B123,\"\")","v":""},{"$f":"IF(NOT(ISBLANK(PROGRAMACION!C123)),PROGRAMACION!C123,\"\")","v":""},null,{"$f":"IF(NOT(ISBLANK(PROGRAMACION!E123)),PROGRAMACION!E123,\"\")","v":""},null,{"$f":"IF(NOT(ISBLANK(PROGRAMACION!G123)),PROGRAMACION!G123,\"\")","v":""},{"$f":"IF(NOT(ISBLANK(PROGRAMACION!H123)),PROGRAMACION!H123,\"\")","v":""},{"$f":"IF(NOT(ISBLANK(PROGRAMACION!I123)),PROGRAMACION!I123,\"\")","v":""},{"$f":"IF(NOT(ISBLANK(PROGRAMACION!J123)),IF(PROGRAMACION!I123=\"Transformador\",MID(PROGRAMACION!J123,1,2),PROGRAMACION!J123),\"\")","v":""},{"$f":"IF(NOT(ISBLANK(PROGRAMACION!K123)),PROGRAMACION!K123,\"\")","v":""},{"$f":"IF(NOT(ISBLANK(PROGRAMACION!L123)),PROGRAMACION!L123,\"\")","v":""},{"$f":"IF(NOT(ISBLANK(PROGRAMACION!M123)),PROGRAMACION!M123,\"\")","v":""},{"$f":"IF(NOT(ISBLANK(PROGRAMACION!N123)),PROGRAMACION!N123,\"\")","v":""},{"$f":"IF(NOT(ISBLANK(PROGRAMACION!O123)),PROGRAMACION!O123,\"\")","v":""}]
[{"$f":"IF(NOT(ISBLANK(PROGRAMACION!A124)),PROGRAMACION!A124,\"\")","v":""},{"$f":"IF(NOT(ISBLANK(PROGRAMACION!B124)),PROGRAMACION!B124,\"\")","v":""},{"$f":"IF(NOT(ISBLANK(PROGRAMACION!C124)),PROGRAMACION!C124,\"\")","v":""},null,{"$f":"IF(NOT(ISBLANK(PROGRAMACION!E124)),PROGRAMACION!E124,\"\")","v":""},null,{"$f":"IF(NOT(ISBLANK(PROGRAMACION!G124)),PROGRAMACION!G124,\"\")","v":""},{"$f":"IF(NOT(ISBLANK(PROGRAMACION!H124)),PROGRAMACION!H124,\"\")","v":""},{"$f":"IF(NOT(ISBLANK(PROGRAMACION!I124)),PROGRAMACION!I124,\"\")","v":""},{"$f":"IF(NOT(ISBLANK(PROGRAMACION!J124)),IF(PROGRAMACION!I124=\"Transformador\",MID(PROGRAMACION!J124,1,2),PROGRAMACION!J124),\"\")","v":""},{"$f":"IF(NOT(ISBLANK(PROGRAMACION!K124)),PROGRAMACION!K124,\"\")","v":""},{"$f":"IF(NOT(ISBLANK(PROGRAMACION!L124)),PROGRAMACION!L124,\"\")","v":""},{"$f":"IF(NOT(ISBLANK(PROGRAMACION!M124)),PROGRAMACION!M124,\"\")","v":""},{"$f":"IF(NOT(ISBLANK(PROGRAMACION!N124)),PROGRAMACION!N124,\"\")","v":""},{"$f":"IF(NOT(ISBLANK(PROGRAMACION!O124)),PROGRAMACION!O124,\"\")","v":""}]
[{"$f":"IF(NOT(ISBLANK(PROGRAMACION!A125)),PROGRAMACION!A125,\"\")","v":""},{"$f":"IF(NOT(ISBLANK(PROGRAMACION!B125)),PROGRAMACION!B125,\"\")","v":""},{"$f":"IF(NOT(ISBLANK(PROGRAMACION!C125)),PROGRAMACION!C125,\"\")","v":""},null,{"$f":"IF(NOT(ISBLANK(PROGRAMACION!E125)),PROGRAMACION!E125,\"\")","v":""},null,{"$f":"IF(NOT(ISBLANK(PROGRAMACION!G125)),PROGRAMACION!G125,\"\")","v":""},{"$f":"IF(NOT(ISBLANK(PROGRAMACION!H125)),PROGRAMACION!H125,\"\")","v":""},{"$f":"IF(NOT(ISBLANK(PROGRAMACION!I125)),PROGRAMACION!I125,\"\")","v":""},{"$f":"IF(NOT(ISBLANK(PROGRAMACION!J125)),IF(PROGRAMACION!I125=\"Transformador\",MID(PROGRAMACION!J125,1,2),PROGRAMACION!J125),\"\")","v":""},{"$f":"IF(NOT(ISBLANK(PROGRAMACION!K125)),PROGRAMACION!K125,\"\")","v":""},{"$f":"IF(NOT(ISBLANK(PROGRAMACION!L125)),PROGRAMACION!L125,\"\")","v":""},{"$f":"IF(NOT(ISBLANK(PROGRAMACION!M125)),PROGRAMACION!M125,\"\")","v":""},{"$f":"IF(NOT(ISBLANK(PROGRAMACION!N125)),PROGRAMACION!N125,\"\")","v":""},{"$f":"IF(NOT(ISBLANK(PROGRAMACION!O125)),PROGRAMACION!O125,\"\")","v":""}]
[{"$f":"IF(NOT(ISBLANK(PROGRAMACION!A126)),PROGRAMACION!A126,\"\")","v":""},{"$f":"IF(NOT(ISBLANK(PROGRAMACION!B126)),PROGRAMACION!B126,\"\")","v":""},{"$f":"IF(NOT(ISBLANK(PROGRAMACION!C126)),PROGRAMACION!C126,\"\")","v":""},null,{"$f":"IF(NOT(ISBLANK(PROGRAMACION!E126)),PROGRAMACION!E126,\"\")","v":""},null,{"$f":"IF(NOT(ISBLANK(PROGRAMACION!G126)),PROGRAMACION!G126,\"\")","v":""},{"$f":"IF(NOT(ISBLANK(PROGRAMACION!H126)),PROGRAMACION!H126,\"\")","v":""},{"$f":"IF(NOT(ISBLANK(PROGRAMACION!I126)),PROGRAMACION!I126,\"\")","v":""},{"$f":"IF(NOT(ISBLANK(PROGRAMACION!J126)),IF(PROGRAMACION!I126=\"Transformador\",MID(PROGRAMACION!J126,1,2),PROGRAMACION!J126),\"\")","v":""},{"$f":"IF(NOT(ISBLANK(PROGRAMACION!K126)),PROGRAMACION!K126,\"\")","v":""},{"$f":"IF(NOT(ISBLANK(PROGRAMACION!L126)),PROGRAMACION!L126,\"\")","v":""},{"$f":"IF(NOT(ISBLANK(PROGRAMACION!M126)),PROGRAMACION!M126,\"\")","v":""},{"$f":"IF(NOT(ISBLANK(PROGRAMACION!N126)),PROGRAMACION!N126,\"\")","v":""},{"$f":"IF(NOT(ISBLANK(PROGRAMACION!O126)),PROGRAMACION!O126,\"\")","v":""}]
[{"$f":"IF(NOT(ISBLANK(PROGRAMACION!A127)),PROGRAMACION!A127,\"\")","v":""},{"$f":"IF(NOT(ISBLANK(PROGRAMACION!B127)),PROGRAMACION!B127,\"\")","v":""},{"$f":"IF(NOT(ISBLANK(PROGRAMACION!C127)),PROGRAMACION!C127,\"\")","v":""},null,{"$f":"IF(NOT(ISBLANK(PROGRAMACION!E127)),PROGRAMACION!E127,\"\")","v":""},null,{"$f":"IF(NOT(ISBLANK(PROGRAMACION!G127)),PROGRAMACION!G127,\"\")","v":""},{"$f":"IF(NOT(ISBLANK(PROGRAMACION!H127)),PROGRAMACION!H127,\"\")","v":""},{"$f":"IF(NOT(ISBLANK(PROGRAMACION!I127)),PROGRAMACION!I127,\"\")","v":""},{"$f":"IF(NOT(ISBLANK(PROGRAMACION!J127)),IF(PROGRAMACION!I127=\"Transformador\",MID(PROGRAMACION!J127,1,2),PROGRAMACION!J127),\"\")","v":""},{"$f":"IF(NOT(ISBLANK(PROGRAMACION!K127)),PROGRAMACION!K127,\"\")","v":""},{"$f":"IF(NOT(ISBLANK(PROGRAMACION!L127)),PROGRAMACION!L127,\"\")","v":""},{"$f":"IF(NOT(ISBLANK(PROGRAMACION!M127)),PROGRAMACION!M127,\"\")","v":""},{"$f":"IF(NOT(ISBLANK(PROGRAMACION!N127)),PROGRAMACION!N127,\"\")","v":""},{"$f":"IF(NOT(ISBLANK(PROGRAMACION!O127)),PROGRAMACION!O127,\"\")","v":""}]
[{"$f":"IF(NOT(ISBLANK(PROGRAMACION!A128)),PROGRAMACION!A128,\"\")","v":""},{"$f":"IF(NOT(ISBLANK(PROGRAMACION!B128)),PROGRAMACION!B128,\"\")","v":""},{"$f":"IF(NOT(ISBLANK(PROGRAMACION!C128)),PROGRAMACION!C128,\"\")","v":""},null,{"$f":"IF(NOT(ISBLANK(PROGRAMACION!E128)),PROGRAMACION!E128,\"\")","v":""},null,{"$f":"IF(NOT(ISBLANK(PROGRAMACION!G128)),PROGRAMACION!G128,\"\")","v":""},{"$f":"IF(NOT(ISBLANK(PROGRAMACION!H128)),PROGRAMACION!H128,\"\")","v":""},{"$f":"IF(NOT(ISBLANK(PROGRAMACION!I128)),PROGRAMACION!I128,\"\")","v":""},{"$f":"IF(NOT(ISBLANK(PROGRAMACION!J128)),IF(PROGRAMACION!I128=\"Transformador\",MID(PROGRAMACION!J128,1,2),PROGRAMACION!J128),\"\")","v":""},{"$f":"IF(NOT(ISBLANK(PROGRAMACION!K128)),PROGRAMACION!K128,\"\")","v":""},{"$f":"IF(NOT(ISBLANK(PROGRAMACION!L128)),PROGRAMACION!L128,\"\")","v":""},{"$f":"IF(NOT(ISBLANK(PROGRAMACION!M128)),PROGRAMACION!M128,\"\")","v":""},{"$f":"IF(NOT(ISBLANK(PROGRAMACION!N128)),PROGRAMACION!N128,\"\")","v":""},{"$f":"IF(NOT(ISBLANK(PROGRAMACION!O128)),PROGRAMACION!O128,\"\")","v":""}]
[{"$f":"IF(NOT(ISBLANK(PROGRAMACION!A129)),PROGRAMACION!A129,\"\")","v":""},{"$f":"IF(NOT(ISBLANK(PROGRAMACION!B129)),PROGRAMACION!B129,\"\")","v":""},{"$f":"IF(NOT(ISBLANK(PROGRAMACION!C129)),PROGRAMACION!C129,\"\")","v":""},null,{"$f":"IF(NOT(ISBLANK(PROGRAMACION!E129)),PROGRAMACION!E129,\"\")","v":""},null,{"$f":"IF(NOT(ISBLANK(PROGRAMACION!G129)),PROGRAMACION!G129,\"\")","v":""},{"$f":"IF(NOT(ISBLANK(PROGRAMACION!H129)),PROGRAMACION!H129,\"\")","v":""},{"$f":"IF(NOT(ISBLANK(PROGRAMACION!I129)),PROGRAMACION!I129,\"\")","v":""},{"$f":"IF(NOT(ISBLANK(PROGRAMACION!J129)),IF(PROGRAMACION!I129=\"Transformador\",MID(PROGRAMACION!J129,1,2),PROGRAMACION!J129),\"\")","v":""},{"$f":"IF(NOT(ISBLANK(PROGRAMACION!K129)),PROGRAMACION!K129,\"\")","v":""},{"$f":"IF(NOT(ISBLANK(PROGRAMACION!L129)),PROGRAMACION!L129,\"\")","v":""},{"$f":"IF(NOT(ISBLANK(PROGRAMACION!M129)),PROGRAMACION!M129,\"\")","v":""},{"$f":"IF(NOT(ISBLANK(PROGRAMACION!N129)),PROGRAMACION!N129,\"\")","v":""},{"$f":"IF(NOT(ISBLANK(PROGRAMACION!O129)),PROGRAMACION!O129,\"\")","v":""}]
[{"$f":"IF(NOT(ISBLANK(PROGRAMACION!A130)),PROGRAMACION!A130,\"\")","v":""},{"$f":"IF(NOT(ISBLANK(PROGRAMACION!B130)),PROGRAMACION!B130,\"\")","v":""},{"$f":"IF(NOT(ISBLANK(PROGRAMACION!C130)),PROGRAMACION!C130,\"\")","v":""},null,{"$f":"IF(NOT(ISBLANK(PROGRAMACION!E130)),PROGRAMACION!E130,\"\")","v":""},null,{"$f":"IF(NOT(ISBLANK(PROGRAMACION!G130)),PROGRAMACION!G130,\"\")","v":""},{"$f":"IF(NOT(ISBLANK(PROGRAMACION!H130)),PROGRAMACION!H130,\"\")","v":""},{"$f":"IF(NOT(ISBLANK(PROGRAMACION!I130)),PROGRAMACION!I130,\"\")","v":""},{"$f":"IF(NOT(ISBLANK(PROGRAMACION!J130)),IF(PROGRAMACION!I130=\"Transformador\",MID(PROGRAMACION!J130,1,2),PROGRAMACION!J130),\"\")","v":""},{"$f":"IF(NOT(ISBLANK(PROGRAMACION!K130)),PROGRAMACION!K130,\"\")","v":""},{"$f":"IF(NOT(ISBLANK(PROGRAMACION!L130)),PROGRAMACION!L130,\"\")","v":""},{"$f":"IF(NOT(ISBLANK(PROGRAMACION!M130)),PROGRAMACION!M130,\"\")","v":""},{"$f":"IF(NOT(ISBLANK(PROGRAMACION!N130)),PROGRAMACION!N130,\"\")","v":""},{"$f":"IF(NOT(ISBLANK(PROGRAMACION!O130)),PROGRAMACION!O130,\"\")","v":""}]
[{"$f":"IF(NOT(ISBLANK(PROGRAMACION!A131)),PROGRAMACION!A131,\"\")","v":""},{"$f":"IF(NOT(ISBLANK(PROGRAMACION!B131)),PROGRAMACION!B131,\"\")","v":""},{"$f":"IF(NOT(ISBLANK(PROGRAMACION!C131)),PROGRAMACION!C131,\"\")","v":""},null,{"$f":"IF(NOT(ISBLANK(PROGRAMACION!E131)),PROGRAMACION!E131,\"\")","v":""},null,{"$f":"IF(NOT(ISBLANK(PROGRAMACION!G131)),PROGRAMACION!G131,\"\")","v":""},{"$f":"IF(NOT(ISBLANK(PROGRAMACION!H131)),PROGRAMACION!H131,\"\")","v":""},{"$f":"IF(NOT(ISBLANK(PROGRAMACION!I131)),PROGRAMACION!I131,\"\")","v":""},{"$f":"IF(NOT(ISBLANK(PROGRAMACION!J131)),IF(PROGRAMACION!I131=\"Transformador\",MID(PROGRAMACION!J131,1,2),PROGRAMACION!J131),\"\")","v":""},{"$f":"IF(NOT(ISBLANK(PROGRAMACION!K131)),PROGRAMACION!K131,\"\")","v":""},{"$f":"IF(NOT(ISBLANK(PROGRAMACION!L131)),PROGRAMACION!L131,\"\")","v":""},{"$f":"IF(NOT(ISBLANK(PROGRAMACION!M131)),PROGRAMACION!M131,\"\")","v":""},{"$f":"IF(NOT(ISBLANK(PROGRAMACION!N131)),PROGRAMACION!N131,\"\")","v":""},{"$f":"IF(NOT(ISBLANK(PROGRAMACION!O131)),PROGRAMACION!O131,\"\")","v":""}]
[{"$f":"IF(NOT(ISBLANK(PROGRAMACION!A132)),PROGRAMACION!A132,\"\")","v":""},{"$f":"IF(NOT(ISBLANK(PROGRAMACION!B132)),PROGRAMACION!B132,\"\")","v":""},{"$f":"IF(NOT(ISBLANK(PROGRAMACION!C132)),PROGRAMACION!C132,\"\")","v":""},null,{"$f":"IF(NOT(ISBLANK(PROGRAMACION!E132)),PROGRAMACION!E132,\"\")","v":""},null,{"$f":"IF(NOT(ISBLANK(PROGRAMACION!G132)),PROGRAMACION!G132,\"\")","v":""},{"$f":"IF(NOT(ISBLANK(PROGRAMACION!H132)),PROGRAMACION!H132,\"\")","v":""},{"$f":"IF(NOT(ISBLANK(PROGRAMACION!I132)),PROGRAMACION!I132,\"\")","v":""},{"$f":"IF(NOT(ISBLANK(PROGRAMACION!J132)),IF(PROGRAMACION!I132=\"Transformador\",MID(PROGRAMACION!J132,1,2),PROGRAMACION!J132),\"\")","v":""},{"$f":"IF(NOT(ISBLANK(PROGRAMACION!K132)),PROGRAMACION!K132,\"\")","v":""},{"$f":"IF(NOT(ISBLANK(PROGRAMACION!L132)),PROGRAMACION!L132,\"\")","v":""},{"$f":"IF(NOT(ISBLANK(PROGRAMACION!M132)),PROGRAMACION!M132,\"\")","v":""},{"$f":"IF(NOT(ISBLANK(PROGRAMACION!N132)),PROGRAMACION!N132,\"\")","v":""},{"$f":"IF(NOT(ISBLANK(PROGRAMACION!O132)),PROGRAMACION!O132,\"\")","v":""}]
[{"$f":"IF(NOT(ISBLANK(PROGRAMACION!A133)),PROGRAMACION!A133,\"\")","v":""},{"$f":"IF(NOT(ISBLANK(PROGRAMACION!B133)),PROGRAMACION!B133,\"\")","v":""},{"$f":"IF(NOT(ISBLANK(PROGRAMACION!C133)),PROGRAMACION!C133,\"\")","v":""},null,{"$f":"IF(NOT(ISBLANK(PROGRAMACION!E133)),PROGRAMACION!E133,\"\")","v":""},null,{"$f":"IF(NOT(ISBLANK(PROGRAMACION!G133)),PROGRAMACION!G133,\"\")","v":""},{"$f":"IF(NOT(ISBLANK(PROGRAMACION!H133)),PROGRAMACION!H133,\"\")","v":""},{"$f":"IF(NOT(ISBLANK(PROGRAMACION!I133)),PROGRAMACION!I133,\"\")","v":""},{"$f":"IF(NOT(ISBLANK(PROGRAMACION!J133)),IF(PROGRAMACION!I133=\"Transformador\",MID(PROGRAMACION!J133,1,2),PROGRAMACION!J133),\"\")","v":""},{"$f":"IF(NOT(ISBLANK(PROGRAMACION!K133)),PROGRAMACION!K133,\"\")","v":""},{"$f":"IF(NOT(ISBLANK(PROGRAMACION!L133)),PROGRAMACION!L133,\"\")","v":""},{"$f":"IF(NOT(ISBLANK(PROGRAMACION!M133)),PROGRAMACION!M133,\"\")","v":""},{"$f":"IF(NOT(ISBLANK(PROGRAMACION!N133)),PROGRAMACION!N133,\"\")","v":""},{"$f":"IF(NOT(ISBLANK(PROGRAMACION!O133)),PROGRAMACION!O133,\"\")","v":""}]
[{"$f":"IF(NOT(ISBLANK(PROGRAMACION!A134)),PROGRAMACION!A134,\"\")","v":""},{"$f":"IF(NOT(ISBLANK(PROGRAMACION!B134)),PROGRAMACION!B134,\"\")","v":""},{"$f":"IF(NOT(ISBLANK(PROGRAMACION!C134)),PROGRAMACION!C134,\"\")","v":""},null,{"$f":"IF(NOT(ISBLANK(PROGRAMACION!E134)),PROGRAMACION!E134,\"\")","v":""},null,{"$f":"IF(NOT(ISBLANK(PROGRAMACION!G134)),PROGRAMACION!G134,\"\")","v":""},{"$f":"IF(NOT(ISBLANK(PROGRAMACION!H134)),PROGRAMACION!H134,\"\")","v":""},{"$f":"IF(NOT(ISBLANK(PROGRAMACION!I134)),PROGRAMACION!I134,\"\")","v":""},{"$f":"IF(NOT(ISBLANK(PROGRAMACION!J134)),IF(PROGRAMACION!I134=\"Transformador\",MID(PROGRAMACION!J134,1,2),PROGRAMACION!J134),\"\")","v":""},{"$f":"IF(NOT(ISBLANK(PROGRAMACION!K134)),PROGRAMACION!K134,\"\")","v":""},{"$f":"IF(NOT(ISBLANK(PROGRAMACION!L134)),PROGRAMACION!L134,\"\")","v":""},{"$f":"IF(NOT(ISBLANK(PROGRAMACION!M134)),PROGRAMACION!M134,\"\")","v":""},{"$f":"IF(NOT(ISBLANK(PROGRAMACION!N134)),PROGRAMACION!N134,\"\")","v":""},{"$f":"IF(NOT(ISBLANK(PROGRAMACION!O134)),PROGRAMACION!O134,\"\")","v":""}]
[{"$f":"IF(NOT(ISBLANK(PROGRAMACION!A135)),PROGRAMACION!A135,\"\")","v":""},{"$f":"IF(NOT(ISBLANK(PROGRAMACION!B135)),PROGRAMACION!B135,\"\")","v":""},{"$f":"IF(NOT(ISBLANK(PROGRAMACION!C135)),PROGRAMACION!C135,\"\")","v":""},null,{"$f":"IF(NOT(ISBLANK(PROGRAMACION!E135)),PROGRAMACION!E135,\"\")","v":""},null,{"$f":"IF(NOT(ISBLANK(PROGRAMACION!G135)),PROGRAMACION!G135,\"\")","v":""},{"$f":"IF(NOT(ISBLANK(PROGRAMACION!H135)),PROGRAMACION!H135,\"\")","v":""},{"$f":"IF(NOT(ISBLANK(PROGRAMACION!I135)),PROGRAMACION!I135,\"\")","v":""},{"$f":"IF(NOT(ISBLANK(PROGRAMACION!J135)),IF(PROGRAMACION!I135=\"Transformador\",MID(PROGRAMACION!J135,1,2),PROGRAMACION!J135),\"\")","v":""},{"$f":"IF(NOT(ISBLANK(PROGRAMACION!K135)),PROGRAMACION!K135,\"\")","v":""},{"$f":"IF(NOT(ISBLANK(PROGRAMACION!L135)),PROGRAMACION!L135,\"\")","v":""},{"$f":"IF(NOT(ISBLANK(PROGRAMACION!M135)),PROGRAMACION!M135,\"\")","v":""},{"$f":"IF(NOT(ISBLANK(PROGRAMACION!N135)),PROGRAMACION!N135,\"\")","v":""},{"$f":"IF(NOT(ISBLANK(PROGRAMACION!O135)),PROGRAMACION!O135,\"\")","v":""}]
[{"$f":"IF(NOT(ISBLANK(PROGRAMACION!A136)),PROGRAMACION!A136,\"\")","v":""},{"$f":"IF(NOT(ISBLANK(PROGRAMACION!B136)),PROGRAMACION!B136,\"\")","v":""},{"$f":"IF(NOT(ISBLANK(PROGRAMACION!C136)),PROGRAMACION!C136,\"\")","v":""},null,{"$f":"IF(NOT(ISBLANK(PROGRAMACION!E136)),PROGRAMACION!E136,\"\")","v":""},null,{"$f":"IF(NOT(ISBLANK(PROGRAMACION!G136)),PROGRAMACION!G136,\"\")","v":""},{"$f":"IF(NOT(ISBLANK(PROGRAMACION!H136)),PROGRAMACION!H136,\"\")","v":""},{"$f":"IF(NOT(ISBLANK(PROGRAMACION!I136)),PROGRAMACION!I136,\"\")","v":""},{"$f":"IF(NOT(ISBLANK(PROGRAMACION!J136)),IF(PROGRAMACION!I136=\"Transformador\",MID(PROGRAMACION!J136,1,2),PROGRAMACION!J136),\"\")","v":""},{"$f":"IF(NOT(ISBLANK(PROGRAMACION!K136)),PROGRAMACION!K136,\"\")","v":""},{"$f":"IF(NOT(ISBLANK(PROGRAMACION!L136)),PROGRAMACION!L136,\"\")","v":""},{"$f":"IF(NOT(ISBLANK(PROGRAMACION!M136)),PROGRAMACION!M136,\"\")","v":""},{"$f":"IF(NOT(ISBLANK(PROGRAMACION!N136)),PROGRAMACION!N136,\"\")","v":""},{"$f":"IF(NOT(ISBLANK(PROGRAMACION!O136)),PROGRAMACION!O136,\"\")","v":""}]
[{"$f":"IF(NOT(ISBLANK(PROGRAMACION!A137)),PROGRAMACION!A137,\"\")","v":""},{"$f":"IF(NOT(ISBLANK(PROGRAMACION!B137)),PROGRAMACION!B137,\"\")","v":""},{"$f":"IF(NOT(ISBLANK(PROGRAMACION!C137)),PROGRAMACION!C137,\"\")","v":""},null,{"$f":"IF(NOT(ISBLANK(PROGRAMACION!E137)),PROGRAMACION!E137,\"\")","v":""},null,{"$f":"IF(NOT(ISBLANK(PROGRAMACION!G137)),PROGRAMACION!G137,\"\")","v":""},{"$f":"IF(NOT(ISBLANK(PROGRAMACION!H137)),PROGRAMACION!H137,\"\")","v":""},{"$f":"IF(NOT(ISBLANK(PROGRAMACION!I137)),PROGRAMACION!I137,\"\")","v":""},{"$f":"IF(NOT(ISBLANK(PROGRAMACION!J137)),IF(PROGRAMACION!I137=\"Transformador\",MID(PROGRAMACION!J137,1,2),PROGRAMACION!J137),\"\")","v":""},{"$f":"IF(NOT(ISBLANK(PROGRAMACION!K137)),PROGRAMACION!K137,\"\")","v":""},{"$f":"IF(NOT(ISBLANK(PROGRAMACION!L137)),PROGRAMACION!L137,\"\")","v":""},{"$f":"IF(NOT(ISBLANK(PROGRAMACION!M137)),PROGRAMACION!M137,\"\")","v":""},{"$f":"IF(NOT(ISBLANK(PROGRAMACION!N137)),PROGRAMACION!N137,\"\")","v":""},{"$f":"IF(NOT(ISBLANK(PROGRAMACION!O137)),PROGRAMACION!O137,\"\")","v":""}]
[{"$f":"IF(NOT(ISBLANK(PROGRAMACION!A138)),PROGRAMACION!A138,\"\")","v":""},{"$f":"IF(NOT(ISBLANK(PROGRAMACION!B138)),PROGRAMACION!B138,\"\")","v":""},{"$f":"IF(NOT(ISBLANK(PROGRAMACION!C138)),PROGRAMACION!C138,\"\")","v":""},null,{"$f":"IF(NOT(ISBLANK(PROGRAMACION!E138)),PROGRAMACION!E138,\"\")","v":""},null,{"$f":"IF(NOT(ISBLANK(PROGRAMACION!G138)),PROGRAMACION!G138,\"\")","v":""},{"$f":"IF(NOT(ISBLANK(PROGRAMACION!H138)),PROGRAMACION!H138,\"\")","v":""},{"$f":"IF(NOT(ISBLANK(PROGRAMACION!I138)),PROGRAMACION!I138,\"\")","v":""},{"$f":"IF(NOT(ISBLANK(PROGRAMACION!J138)),IF(PROGRAMACION!I138=\"Transformador\",MID(PROGRAMACION!J138,1,2),PROGRAMACION!J138),\"\")","v":""},{"$f":"IF(NOT(ISBLANK(PROGRAMACION!K138)),PROGRAMACION!K138,\"\")","v":""},{"$f":"IF(NOT(ISBLANK(PROGRAMACION!L138)),PROGRAMACION!L138,\"\")","v":""},{"$f":"IF(NOT(ISBLANK(PROGRAMACION!M138)),PROGRAMACION!M138,\"\")","v":""},{"$f":"IF(NOT(ISBLANK(PROGRAMACION!N138)),PROGRAMACION!N138,\"\")","v":""},{"$f":"IF(NOT(ISBLANK(PROGRAMACION!O138)),PROGRAMACION!O138,\"\")","v":""}]
[{"$f":"IF(NOT(ISBLANK(PROGRAMACION!A139)),PROGRAMACION!A139,\"\")","v":""},{"$f":"IF(NOT(ISBLANK(PROGRAMACION!B139)),PROGRAMACION!B139,\"\")","v":""},{"$f":"IF(NOT(ISBLANK(PROGRAMACION!C139)),PROGRAMACION!C139,\"\")","v":""},null,{"$f":"IF(NOT(ISBLANK(PROGRAMACION!E139)),PROGRAMACION!E139,\"\")","v":""},null,{"$f":"IF(NOT(ISBLANK(PROGRAMACION!G139)),PROGRAMACION!G139,\"\")","v":""},{"$f":"IF(NOT(ISBLANK(PROGRAMACION!H139)),PROGRAMACION!H139,\"\")","v":""},{"$f":"IF(NOT(ISBLANK(PROGRAMACION!I139)),PROGRAMACION!I139,\"\")","v":""},{"$f":"IF(NOT(ISBLANK(PROGRAMACION!J139)),IF(PROGRAMACION!I139=\"Transformador\",MID(PROGRAMACION!J139,1,2),PROGRAMACION!J139),\"\")","v":""},{"$f":"IF(NOT(ISBLANK(PROGRAMACION!K139)),PROGRAMACION!K139,\"\")","v":""},{"$f":"IF(NOT(ISBLANK(PROGRAMACION!L139)),PROGRAMACION!L139,\"\")","v":""},{"$f":"IF(NOT(ISBLANK(PROGRAMACION!M139)),PROGRAMACION!M139,\"\")","v":""},{"$f":"IF(NOT(ISBLANK(PROGRAMACION!N139)),PROGRAMACION!N139,\"\")","v":""},{"$f":"IF(NOT(ISBLANK(PROGRAMACION!O139)),PROGRAMACION!O139,\"\")","v":""}]
[{"$f":"IF(NOT(ISBLANK(PROGRAMACION!A140)),PROGRAMACION!A140,\"\")","v":""},{"$f":"IF(NOT(ISBLANK(PROGRAMACION!B140)),PROGRAMACION!B140,\"\")","v":""},{"$f":"IF(NOT(ISBLANK(PROGRAMACION!C140)),PROGRAMACION!C140,\"\")","v":""},null,{"$f":"IF(NOT(ISBLANK(PROGRAMACION!E140)),PROGRAMACION!E140,\"\")","v":""},null,{"$f":"IF(NOT(ISBLANK(PROGRAMACION!G140)),PROGRAMACION!G140,\"\")","v":""},{"$f":"IF(NOT(ISBLANK(PROGRAMACION!H140)),PROGRAMACION!H140,\"\")","v":""},{"$f":"IF(NOT(ISBLANK(PROGRAMACION!I140)),PROGRAMACION!I140,\"\")","v":""},{"$f":"IF(NOT(ISBLANK(PROGRAMACION!J140)),IF(PROGRAMACION!I140=\"Transformador\",MID(PROGRAMACION!J140,1,2),PROGRAMACION!J140),\"\")","v":""},{"$f":"IF(NOT(ISBLANK(PROGRAMACION!K140)),PROGRAMACION!K140,\"\")","v":""},{"$f":"IF(NOT(ISBLANK(PROGRAMACION!L140)),PROGRAMACION!L140,\"\")","v":""},{"$f":"IF(NOT(ISBLANK(PROGRAMACION!M140)),PROGRAMACION!M140,\"\")","v":""},{"$f":"IF(NOT(ISBLANK(PROGRAMACION!N140)),PROGRAMACION!N140,\"\")","v":""},{"$f":"IF(NOT(ISBLANK(PROGRAMACION!O140)),PROGRAMACION!O140,\"\")","v":""}]
[{"$f":"IF(NOT(ISBLANK(PROGRAMACION!A141)),PROGRAMACION!A141,\"\")","v":""},{"$f":"IF(NOT(ISBLANK(PROGRAMACION!B141)),PROGRAMACION!B141,\"\")","v":""},{"$f":"IF(NOT(ISBLANK(PROGRAMACION!C141)),PROGRAMACION!C141,\"\")","v":""},null,{"$f":"IF(NOT(ISBLANK(PROGRAMACION!E141)),PROGRAMACION!E141,\"\")","v":""},null,{"$f":"IF(NOT(ISBLANK(PROGRAMACION!G141)),PROGRAMACION!G141,\"\")","v":""},{"$f":"IF(NOT(ISBLANK(PROGRAMACION!H141)),PROGRAMACION!H141,\"\")","v":""},{"$f":"IF(NOT(ISBLANK(PROGRAMACION!I141)),PROGRAMACION!I141,\"\")","v":""},{"$f":"IF(NOT(ISBLANK(PROGRAMACION!J141)),IF(PROGRAMACION!I141=\"Transformador\",MID(PROGRAMACION!J141,1,2),PROGRAMACION!J141),\"\")","v":""},{"$f":"IF(NOT(ISBLANK(PROGRAMACION!K141)),PROGRAMACION!K141,\"\")","v":""},{"$f":"IF(NOT(ISBLANK(PROGRAMACION!L141)),PROGRAMACION!L141,\"\")","v":""},{"$f":"IF(NOT(ISBLANK(PROGRAMACION!M141)),PROGRAMACION!M141,\"\")","v":""},{"$f":"IF(NOT(ISBLANK(PROGRAMACION!N141)),PROGRAMACION!N141,\"\")","v":""},{"$f":"IF(NOT(ISBLANK(PROGRAMACION!O141)),PROGRAMACION!O141,\"\")","v":""}]
[{"$f":"IF(NOT(ISBLANK(PROGRAMACION!A142)),PROGRAMACION!A142,\"\")","v":""},{"$f":"IF(NOT(ISBLANK(PROGRAMACION!B142)),PROGRAMACION!B142,\"\")","v":""},{"$f":"IF(NOT(ISBLANK(PROGRAMACION!C142)),PROGRAMACION!C142,\"\")","v":""},null,{"$f":"IF(NOT(ISBLANK(PROGRAMACION!E142)),PROGRAMACION!E142,\"\")","v":""},null,{"$f":"IF(NOT(ISBLANK(PROGRAMACION!G142)),PROGRAMACION!G142,\"\")","v":""},{"$f":"IF(NOT(ISBLANK(PROGRAMACION!H142)),PROGRAMACION!H142,\"\")","v":""},{"$f":"IF(NOT(ISBLANK(PROGRAMACION!I142)),PROGRAMACION!I142,\"\")","v":""},{"$f":"IF(NOT(ISBLANK(PROGRAMACION!J142)),IF(PROGRAMACION!I142=\"Transformador\",MID(PROGRAMACION!J142,1,2),PROGRAMACION!J142),\"\")","v":""},{"$f":"IF(NOT(ISBLANK(PROGRAMACION!K142)),PROGRAMACION!K142,\"\")","v":""},{"$f":"IF(NOT(ISBLANK(PROGRAMACION!L142)),PROGRAMACION!L142,\"\")","v":""},{"$f":"IF(NOT(ISBLANK(PROGRAMACION!M142)),PROGRAMACION!M142,\"\")","v":""},{"$f":"IF(NOT(ISBLANK(PROGRAMACION!N142)),PROGRAMACION!N142,\"\")","v":""},{"$f":"IF(NOT(ISBLANK(PROGRAMACION!O142)),PROGRAMACION!O142,\"\")","v":""}]
[{"$f":"IF(NOT(ISBLANK(PROGRAMACION!A143)),PROGRAMACION!A143,\"\")","v":""},{"$f":"IF(NOT(ISBLANK(PROGRAMACION!B143)),PROGRAMACION!B143,\"\")","v":""},{"$f":"IF(NOT(ISBLANK(PROGRAMACION!C143)),PROGRAMACION!C143,\"\")","v":""},null,{"$f":"IF(NOT(ISBLANK(PROGRAMACION!E143)),PROGRAMACION!E143,\"\")","v":""},null,{"$f":"IF(NOT(ISBLANK(PROGRAMACION!G143)),PROGRAMACION!G143,\"\")","v":""},{"$f":"IF(NOT(ISBLANK(PROGRAMACION!H143)),PROGRAMACION!H143,\"\")","v":""},{"$f":"IF(NOT(ISBLANK(PROGRAMACION!I143)),PROGRAMACION!I143,\"\")","v":""},{"$f":"IF(NOT(ISBLANK(PROGRAMACION!J143)),IF(PROGRAMACION!I143=\"Transformador\",MID(PROGRAMACION!J143,1,2),PROGRAMACION!J143),\"\")","v":""},{"$f":"IF(NOT(ISBLANK(PROGRAMACION!K143)),PROGRAMACION!K143,\"\")","v":""},{"$f":"IF(NOT(ISBLANK(PROGRAMACION!L143)),PROGRAMACION!L143,\"\")","v":""},{"$f":"IF(NOT(ISBLANK(PROGRAMACION!M143)),PROGRAMACION!M143,\"\")","v":""},{"$f":"IF(NOT(ISBLANK(PROGRAMACION!N143)),PROGRAMACION!N143,\"\")","v":""},{"$f":"IF(NOT(ISBLANK(PROGRAMACION!O143)),PROGRAMACION!O143,\"\")","v":""}]
[{"$f":"IF(NOT(ISBLANK(PROGRAMACION!A144)),PROGRAMACION!A144,\"\")","v":""},{"$f":"IF(NOT(ISBLANK(PROGRAMACION!B144)),PROGRAMACION!B144,\"\")","v":""},{"$f":"IF(NOT(ISBLANK(PROGRAMACION!C144)),PROGRAMACION!C144,\"\")","v":""},null,{"$f":"IF(NOT(ISBLANK(PROGRAMACION!E144)),PROGRAMACION!E144,\"\")","v":""},null,{"$f":"IF(NOT(ISBLANK(PROGRAMACION!G144)),PROGRAMACION!G144,\"\")","v":""},{"$f":"IF(NOT(ISBLANK(PROGRAMACION!H144)),PROGRAMACION!H144,\"\")","v":""},{"$f":"IF(NOT(ISBLANK(PROGRAMACION!I144)),PROGRAMACION!I144,\"\")","v":""},{"$f":"IF(NOT(ISBLANK(PROGRAMACION!J144)),IF(PROGRAMACION!I144=\"Transformador\",MID(PROGRAMACION!J144,1,2),PROGRAMACION!J144),\"\")","v":""},{"$f":"IF(NOT(ISBLANK(PROGRAMACION!K144)),PROGRAMACION!K144,\"\")","v":""},{"$f":"IF(NOT(ISBLANK(PROGRAMACION!L144)),PROGRAMACION!L144,\"\")","v":""},{"$f":"IF(NOT(ISBLANK(PROGRAMACION!M144)),PROGRAMACION!M144,\"\")","v":""},{"$f":"IF(NOT(ISBLANK(PROGRAMACION!N144)),PROGRAMACION!N144,\"\")","v":""},{"$f":"IF(NOT(ISBLANK(PROGRAMACION!O144)),PROGRAMACION!O144,\"\")","v":""}]
[{"$f":"IF(NOT(ISBLANK(PROGRAMACION!A145)),PROGRAMACION!A145,\"\")","v":""},{"$f":"IF(NOT(ISBLANK(PROGRAMACION!B145)),PROGRAMACION!B145,\"\")","v":""},{"$f":"IF(NOT(ISBLANK(PROGRAMACION!C145)),PROGRAMACION!C145,\"\")","v":""},null,{"$f":"IF(NOT(ISBLANK(PROGRAMACION!E145)),PROGRAMACION!E145,\"\")","v":""},null,{"$f":"IF(NOT(ISBLANK(PROGRAMACION!G145)),PROGRAMACION!G145,\"\")","v":""},{"$f":"IF(NOT(ISBLANK(PROGRAMACION!H145)),PROGRAMACION!H145,\"\")","v":""},{"$f":"IF(NOT(ISBLANK(PROGRAMACION!I145)),PROGRAMACION!I145,\"\")","v":""},{"$f":"IF(NOT(ISBLANK(PROGRAMACION!J145)),IF(PROGRAMACION!I145=\"Transformador\",MID(PROGRAMACION!J145,1,2),PROGRAMACION!J145),\"\")","v":""},{"$f":"IF(NOT(ISBLANK(PROGRAMACION!K145)),PROGRAMACION!K145,\"\")","v":""},{"$f":"IF(NOT(ISBLANK(PROGRAMACION!L145)),PROGRAMACION!L145,\"\")","v":""},{"$f":"IF(NOT(ISBLANK(PROGRAMACION!M145)),PROGRAMACION!M145,\"\")","v":""},{"$f":"IF(NOT(ISBLANK(PROGRAMACION!N145)),PROGRAMACION!N145,\"\")","v":""},{"$f":"IF(NOT(ISBLANK(PROGRAMACION!O145)),PROGRAMACION!O145,\"\")","v":""}]
[{"$f":"IF(NOT(ISBLANK(PROGRAMACION!A146)),PROGRAMACION!A146,\"\")","v":""},{"$f":"IF(NOT(ISBLANK(PROGRAMACION!B146)),PROGRAMACION!B146,\"\")","v":""},{"$f":"IF(NOT(ISBLANK(PROGRAMACION!C146)),PROGRAMACION!C146,\"\")","v":""},null,{"$f":"IF(NOT(ISBLANK(PROGRAMACION!E146)),PROGRAMACION!E146,\"\")","v":""},null,{"$f":"IF(NOT(ISBLANK(PROGRAMACION!G146)),PROGRAMACION!G146,\"\")","v":""},{"$f":"IF(NOT(ISBLANK(PROGRAMACION!H146)),PROGRAMACION!H146,\"\")","v":""},{"$f":"IF(NOT(ISBLANK(PROGRAMACION!I146)),PROGRAMACION!I146,\"\")","v":""},{"$f":"IF(NOT(ISBLANK(PROGRAMACION!J146)),IF(PROGRAMACION!I146=\"Transformador\",MID(PROGRAMACION!J146,1,2),PROGRAMACION!J146),\"\")","v":""},{"$f":"IF(NOT(ISBLANK(PROGRAMACION!K146)),PROGRAMACION!K146,\"\")","v":""},{"$f":"IF(NOT(ISBLANK(PROGRAMACION!L146)),PROGRAMACION!L146,\"\")","v":""},{"$f":"IF(NOT(ISBLANK(PROGRAMACION!M146)),PROGRAMACION!M146,\"\")","v":""},{"$f":"IF(NOT(ISBLANK(PROGRAMACION!N146)),PROGRAMACION!N146,\"\")","v":""},{"$f":"IF(NOT(ISBLANK(PROGRAMACION!O146)),PROGRAMACION!O146,\"\")","v":""}]
[{"$f":"IF(NOT(ISBLANK(PROGRAMACION!A147)),PROGRAMACION!A147,\"\")","v":""},{"$f":"IF(NOT(ISBLANK(PROGRAMACION!B147)),PROGRAMACION!B147,\"\")","v":""},{"$f":"IF(NOT(ISBLANK(PROGRAMACION!C147)),PROGRAMACION!C147,\"\")","v":""},null,{"$f":"IF(NOT(ISBLANK(PROGRAMACION!E147)),PROGRAMACION!E147,\"\")","v":""},null,{"$f":"IF(NOT(ISBLANK(PROGRAMACION!G147)),PROGRAMACION!G147,\"\")","v":""},{"$f":"IF(NOT(ISBLANK(PROGRAMACION!H147)),PROGRAMACION!H147,\"\")","v":""},{"$f":"IF(NOT(ISBLANK(PROGRAMACION!I147)),PROGRAMACION!I147,\"\")","v":""},{"$f":"IF(NOT(ISBLANK(PROGRAMACION!J147)),IF(PROGRAMACION!I147=\"Transformador\",MID(PROGRAMACION!J147,1,2),PROGRAMACION!J147),\"\")","v":""},{"$f":"IF(NOT(ISBLANK(PROGRAMACION!K147)),PROGRAMACION!K147,\"\")","v":""},{"$f":"IF(NOT(ISBLANK(PROGRAMACION!L147)),PROGRAMACION!L147,\"\")","v":""},{"$f":"IF(NOT(ISBLANK(PROGRAMACION!M147)),PROGRAMACION!M147,\"\")","v":""},{"$f":"IF(NOT(ISBLANK(PROGRAMACION!N147)),PROGRAMACION!N147,\"\")","v":""},{"$f":"IF(NOT(ISBLANK(PROGRAMACION!O147)),PROGRAMACION!O147,\"\")","v":""}]
[{"$f":"IF(NOT(ISBLANK(PROGRAMACION!A148)),PROGRAMACION!A148,\"\")","v":""},{"$f":"IF(NOT(ISBLANK(PROGRAMACION!B148)),PROGRAMACION!B148,\"\")","v":""},{"$f":"IF(NOT(ISBLANK(PROGRAMACION!C148)),PROGRAMACION!C148,\"\")","v":""},null,{"$f":"IF(NOT(ISBLANK(PROGRAMACION!E148)),PROGRAMACION!E148,\"\")","v":""},null,{"$f":"IF(NOT(ISBLANK(PROGRAMACION!G148)),PROGRAMACION!G148,\"\")","v":""},{"$f":"IF(NOT(ISBLANK(PROGRAMACION!H148)),PROGRAMACION!H148,\"\")","v":""},{"$f":"IF(NOT(ISBLANK(PROGRAMACION!I148)),PROGRAMACION!I148,\"\")","v":""},{"$f":"IF(NOT(ISBLANK(PROGRAMACION!J148)),IF(PROGRAMACION!I148=\"Transformador\",MID(PROGRAMACION!J148,1,2),PROGRAMACION!J148),\"\")","v":""},{"$f":"IF(NOT(ISBLANK(PROGRAMACION!K148)),PROGRAMACION!K148,\"\")","v":""},{"$f":"IF(NOT(ISBLANK(PROGRAMACION!L148)),PROGRAMACION!L148,\"\")","v":""},{"$f":"IF(NOT(ISBLANK(PROGRAMACION!M148)),PROGRAMACION!M148,\"\")","v":""},{"$f":"IF(NOT(ISBLANK(PROGRAMACION!N148)),PROGRAMACION!N148,\"\")","v":""},{"$f":"IF(NOT(ISBLANK(PROGRAMACION!O148)),PROGRAMACION!O148,\"\")","v":""}]
[{"$f":"IF(NOT(ISBLANK(PROGRAMACION!A149)),PROGRAMACION!A149,\"\")","v":""},{"$f":"IF(NOT(ISBLANK(PROGRAMACION!B149)),PROGRAMACION!B149,\"\")","v":""},{"$f":"IF(NOT(ISBLANK(PROGRAMACION!C149)),PROGRAMACION!C149,\"\")","v":""},null,{"$f":"IF(NOT(ISBLANK(PROGRAMACION!E149)),PROGRAMACION!E149,\"\")","v":""},null,{"$f":"IF(NOT(ISBLANK(PROGRAMACION!G149)),PROGRAMACION!G149,\"\")","v":""},{"$f":"IF(NOT(ISBLANK(PROGRAMACION!H149)),PROGRAMACION!H149,\"\")","v":""},{"$f":"IF(NOT(ISBLANK(PROGRAMACION!I149)),PROGRAMACION!I149,\"\")","v":""},{"$f":"IF(NOT(ISBLANK(PROGRAMACION!J149)),IF(PROGRAMACION!I149=\"Transformador\",MID(PROGRAMACION!J149,1,2),PROGRAMACION!J149),\"\")","v":""},{"$f":"IF(NOT(ISBLANK(PROGRAMACION!K149)),PROGRAMACION!K149,\"\")","v":""},{"$f":"IF(NOT(ISBLANK(PROGRAMACION!L149)),PROGRAMACION!L149,\"\")","v":""},{"$f":"IF(NOT(ISBLANK(PROGRAMACION!M149)),PROGRAMACION!M149,\"\")","v":""},{"$f":"IF(NOT(ISBLANK(PROGRAMACION!N149)),PROGRAMACION!N149,\"\")","v":""},{"$f":"IF(NOT(ISBLANK(PROGRAMACION!O149)),PROGRAMACION!O149,\"\")","v":""}]
[{"$f":"IF(NOT(ISBLANK(PROGRAMACION!A150)),PROGRAMACION!A150,\"\")","v":""},{"$f":"IF(NOT(ISBLANK(PROGRAMACION!B150)),PROGRAMACION!B150,\"\")","v":""},{"$f":"IF(NOT(ISBLANK(PROGRAMACION!C150)),PROGRAMACION!C150,\"\")","v":""},null,{"$f":"IF(NOT(ISBLANK(PROGRAMACION!E150)),PROGRAMACION!E150,\"\")","v":""},null,{"$f":"IF(NOT(ISBLANK(PROGRAMACION!G150)),PROGRAMACION!G150,\"\")","v":""},{"$f":"IF(NOT(ISBLANK(PROGRAMACION!H150)),PROGRAMACION!H150,\"\")","v":""},{"$f":"IF(NOT(ISBLANK(PROGRAMACION!I150)),PROGRAMACION!I150,\"\")","v":""},{"$f":"IF(NOT(ISBLANK(PROGRAMACION!J150)),IF(PROGRAMACION!I150=\"Transformador\",MID(PROGRAMACION!J150,1,2),PROGRAMACION!J150),\"\")","v":""},{"$f":"IF(NOT(ISBLANK(PROGRAMACION!K150)),PROGRAMACION!K150,\"\")","v":""},{"$f":"IF(NOT(ISBLANK(PROGRAMACION!L150)),PROGRAMACION!L150,\"\")","v":""},{"$f":"IF(NOT(ISBLANK(PROGRAMACION!M150)),PROGRAMACION!M150,\"\")","v":""},{"$f":"IF(NOT(ISBLANK(PROGRAMACION!N150)),PROGRAMACION!N150,\"\")","v":""},{"$f":"IF(NOT(ISBLANK(PROGRAMACION!O150)),PROGRAMACION!O150,\"\")","v":""}]
[{"$f":"IF(NOT(ISBLANK(PROGRAMACION!A151)),PROGRAMACION!A151,\"\")","v":""},{"$f":"IF(NOT(ISBLANK(PROGRAMACION!B151)),PROGRAMACION!B151,\"\")","v":""},{"$f":"IF(NOT(ISBLANK(PROGRAMACION!C151)),PROGRAMACION!C151,\"\")","v":""},null,{"$f":"IF(NOT(ISBLANK(PROGRAMACION!E151)),PROGRAMACION!E151,\"\")","v":""},null,{"$f":"IF(NOT(ISBLANK(PROGRAMACION!G151)),PROGRAMACION!G151,\"\")","v":""},{"$f":"IF(NOT(ISBLANK(PROGRAMACION!H151)),PROGRAMACION!H151,\"\")","v":""},{"$f":"IF(NOT(ISBLANK(PROGRAMACION!I151)),PROGRAMACION!I151,\"\")","v":""},{"$f":"IF(NOT(ISBLANK(PROGRAMACION!J151)),IF(PROGRAMACION!I151=\"Transformador\",MID(PROGRAMACION!J151,1,2),PROGRAMACION!J151),\"\")","v":""},{"$f":"IF(NOT(ISBLANK(PROGRAMACION!K151)),PROGRAMACION!K151,\"\")","v":""},{"$f":"IF(NOT(ISBLANK(PROGRAMACION!L151)),PROGRAMACION!L151,\"\")","v":""},{"$f":"IF(NOT(ISBLANK(PROGRAMACION!M151)),PROGRAMACION!M151,\"\")","v":""},{"$f":"IF(NOT(ISBLANK(PROGRAMACION!N151)),PROGRAMACION!N151,\"\")","v":""},{"$f":"IF(NOT(ISBLANK(PROGRAMACION!O151)),PROGRAMACION!O151,\"\")","v":""}]
[{"$f":"IF(NOT(ISBLANK(PROGRAMACION!A152)),PROGRAMACION!A152,\"\")","v":""},{"$f":"IF(NOT(ISBLANK(PROGRAMACION!B152)),PROGRAMACION!B152,\"\")","v":""},{"$f":"IF(NOT(ISBLANK(PROGRAMACION!C152)),PROGRAMACION!C152,\"\")","v":""},null,{"$f":"IF(NOT(ISBLANK(PROGRAMACION!E152)),PROGRAMACION!E152,\"\")","v":""},null,{"$f":"IF(NOT(ISBLANK(PROGRAMACION!G152)),PROGRAMACION!G152,\"\")","v":""},{"$f":"IF(NOT(ISBLANK(PROGRAMACION!H152)),PROGRAMACION!H152,\"\")","v":""},{"$f":"IF(NOT(ISBLANK(PROGRAMACION!I152)),PROGRAMACION!I152,\"\")","v":""},{"$f":"IF(NOT(ISBLANK(PROGRAMACION!J152)),IF(PROGRAMACION!I152=\"Transformador\",MID(PROGRAMACION!J152,1,2),PROGRAMACION!J152),\"\")","v":""},{"$f":"IF(NOT(ISBLANK(PROGRAMACION!K152)),PROGRAMACION!K152,\"\")","v":""},{"$f":"IF(NOT(ISBLANK(PROGRAMACION!L152)),PROGRAMACION!L152,\"\")","v":""},{"$f":"IF(NOT(ISBLANK(PROGRAMACION!M152)),PROGRAMACION!M152,\"\")","v":""},{"$f":"IF(NOT(ISBLANK(PROGRAMACION!N152)),PROGRAMACION!N152,\"\")","v":""},{"$f":"IF(NOT(ISBLANK(PROGRAMACION!O152)),PROGRAMACION!O152,\"\")","v":""}]
[{"$f":"IF(NOT(ISBLANK(PROGRAMACION!A153)),PROGRAMACION!A153,\"\")","v":""},{"$f":"IF(NOT(ISBLANK(PROGRAMACION!B153)),PROGRAMACION!B153,\"\")","v":""},{"$f":"IF(NOT(ISBLANK(PROGRAMACION!C153)),PROGRAMACION!C153,\"\")","v":""},null,{"$f":"IF(NOT(ISBLANK(PROGRAMACION!E153)),PROGRAMACION!E153,\"\")","v":""},null,{"$f":"IF(NOT(ISBLANK(PROGRAMACION!G153)),PROGRAMACION!G153,\"\")","v":""},{"$f":"IF(NOT(ISBLANK(PROGRAMACION!H153)),PROGRAMACION!H153,\"\")","v":""},{"$f":"IF(NOT(ISBLANK(PROGRAMACION!I153)),PROGRAMACION!I153,\"\")","v":""},{"$f":"IF(NOT(ISBLANK(PROGRAMACION!J153)),IF(PROGRAMACION!I153=\"Transformador\",MID(PROGRAMACION!J153,1,2),PROGRAMACION!J153),\"\")","v":""},{"$f":"IF(NOT(ISBLANK(PROGRAMACION!K153)),PROGRAMACION!K153,\"\")","v":""},{"$f":"IF(NOT(ISBLANK(PROGRAMACION!L153)),PROGRAMACION!L153,\"\")","v":""},{"$f":"IF(NOT(ISBLANK(PROGRAMACION!M153)),PROGRAMACION!M153,\"\")","v":""},{"$f":"IF(NOT(ISBLANK(PROGRAMACION!N153)),PROGRAMACION!N153,\"\")","v":""},{"$f":"IF(NOT(ISBLANK(PROGRAMACION!O153)),PROGRAMACION!O153,\"\")","v":""}]
[{"$f":"IF(NOT(ISBLANK(PROGRAMACION!A154)),PROGRAMACION!A154,\"\")","v":""},{"$f":"IF(NOT(ISBLANK(PROGRAMACION!B154)),PROGRAMACION!B154,\"\")","v":""},{"$f":"IF(NOT(ISBLANK(PROGRAMACION!C154)),PROGRAMACION!C154,\"\")","v":""},null,{"$f":"IF(NOT(ISBLANK(PROGRAMACION!E154)),PROGRAMACION!E154,\"\")","v":""},null,{"$f":"IF(NOT(ISBLANK(PROGRAMACION!G154)),PROGRAMACION!G154,\"\")","v":""},{"$f":"IF(NOT(ISBLANK(PROGRAMACION!H154)),PROGRAMACION!H154,\"\")","v":""},{"$f":"IF(NOT(ISBLANK(PROGRAMACION!I154)),PROGRAMACION!I154,\"\")","v":""},{"$f":"IF(NOT(ISBLANK(PROGRAMACION!J154)),IF(PROGRAMACION!I154=\"Transformador\",MID(PROGRAMACION!J154,1,2),PROGRAMACION!J154),\"\")","v":""},{"$f":"IF(NOT(ISBLANK(PROGRAMACION!K154)),PROGRAMACION!K154,\"\")","v":""},{"$f":"IF(NOT(ISBLANK(PROGRAMACION!L154)),PROGRAMACION!L154,\"\")","v":""},{"$f":"IF(NOT(ISBLANK(PROGRAMACION!M154)),PROGRAMACION!M154,\"\")","v":""},{"$f":"IF(NOT(ISBLANK(PROGRAMACION!N154)),PROGRAMACION!N154,\"\")","v":""},{"$f":"IF(NOT(ISBLANK(PROGRAMACION!O154)),PROGRAMACION!O154,\"\")","v":""}]
[{"$f":"IF(NOT(ISBLANK(PROGRAMACION!A155)),PROGRAMACION!A155,\"\")","v":""},{"$f":"IF(NOT(ISBLANK(PROGRAMACION!B155)),PROGRAMACION!B155,\"\")","v":""},{"$f":"IF(NOT(ISBLANK(PROGRAMACION!C155)),PROGRAMACION!C155,\"\")","v":""},null,{"$f":"IF(NOT(ISBLANK(PROGRAMACION!E155)),PROGRAMACION!E155,\"\")","v":""},null,{"$f":"IF(NOT(ISBLANK(PROGRAMACION!G155)),PROGRAMACION!G155,\"\")","v":""},{"$f":"IF(NOT(ISBLANK(PROGRAMACION!H155)),PROGRAMACION!H155,\"\")","v":""},{"$f":"IF(NOT(ISBLANK(PROGRAMACION!I155)),PROGRAMACION!I155,\"\")","v":""},{"$f":"IF(NOT(ISBLANK(PROGRAMACION!J155)),IF(PROGRAMACION!I155=\"Transformador\",MID(PROGRAMACION!J155,1,2),PROGRAMACION!J155),\"\")","v":""},{"$f":"IF(NOT(ISBLANK(PROGRAMACION!K155)),PROGRAMACION!K155,\"\")","v":""},{"$f":"IF(NOT(ISBLANK(PROGRAMACION!L155)),PROGRAMACION!L155,\"\")","v":""},{"$f":"IF(NOT(ISBLANK(PROGRAMACION!M155)),PROGRAMACION!M155,\"\")","v":""},{"$f":"IF(NOT(ISBLANK(PROGRAMACION!N155)),PROGRAMACION!N155,\"\")","v":""},{"$f":"IF(NOT(ISBLANK(PROGRAMACION!O155)),PROGRAMACION!O155,\"\")","v":""}]
[{"$f":"IF(NOT(ISBLANK(PROGRAMACION!A156)),PROGRAMACION!A156,\"\")","v":""},{"$f":"IF(NOT(ISBLANK(PROGRAMACION!B156)),PROGRAMACION!B156,\"\")","v":""},{"$f":"IF(NOT(ISBLANK(PROGRAMACION!C156)),PROGRAMACION!C156,\"\")","v":""},null,{"$f":"IF(NOT(ISBLANK(PROGRAMACION!E156)),PROGRAMACION!E156,\"\")","v":""},null,{"$f":"IF(NOT(ISBLANK(PROGRAMACION!G156)),PROGRAMACION!G156,\"\")","v":""},{"$f":"IF(NOT(ISBLANK(PROGRAMACION!H156)),PROGRAMACION!H156,\"\")","v":""},{"$f":"IF(NOT(ISBLANK(PROGRAMACION!I156)),PROGRAMACION!I156,\"\")","v":""},{"$f":"IF(NOT(ISBLANK(PROGRAMACION!J156)),IF(PROGRAMACION!I156=\"Transformador\",MID(PROGRAMACION!J156,1,2),PROGRAMACION!J156),\"\")","v":""},{"$f":"IF(NOT(ISBLANK(PROGRAMACION!K156)),PROGRAMACION!K156,\"\")","v":""},{"$f":"IF(NOT(ISBLANK(PROGRAMACION!L156)),PROGRAMACION!L156,\"\")","v":""},{"$f":"IF(NOT(ISBLANK(PROGRAMACION!M156)),PROGRAMACION!M156,\"\")","v":""},{"$f":"IF(NOT(ISBLANK(PROGRAMACION!N156)),PROGRAMACION!N156,\"\")","v":""},{"$f":"IF(NOT(ISBLANK(PROGRAMACION!O156)),PROGRAMACION!O156,\"\")","v":""}]
[{"$f":"IF(NOT(ISBLANK(PROGRAMACION!A157)),PROGRAMACION!A157,\"\")","v":""},{"$f":"IF(NOT(ISBLANK(PROGRAMACION!B157)),PROGRAMACION!B157,\"\")","v":""},{"$f":"IF(NOT(ISBLANK(PROGRAMACION!C157)),PROGRAMACION!C157,\"\")","v":""},null,{"$f":"IF(NOT(ISBLANK(PROGRAMACION!E157)),PROGRAMACION!E157,\"\")","v":""},null,{"$f":"IF(NOT(ISBLANK(PROGRAMACION!G157)),PROGRAMACION!G157,\"\")","v":""},{"$f":"IF(NOT(ISBLANK(PROGRAMACION!H157)),PROGRAMACION!H157,\"\")","v":""},{"$f":"IF(NOT(ISBLANK(PROGRAMACION!I157)),PROGRAMACION!I157,\"\")","v":""},{"$f":"IF(NOT(ISBLANK(PROGRAMACION!J157)),IF(PROGRAMACION!I157=\"Transformador\",MID(PROGRAMACION!J157,1,2),PROGRAMACION!J157),\"\")","v":""},{"$f":"IF(NOT(ISBLANK(PROGRAMACION!K157)),PROGRAMACION!K157,\"\")","v":""},{"$f":"IF(NOT(ISBLANK(PROGRAMACION!L157)),PROGRAMACION!L157,\"\")","v":""},{"$f":"IF(NOT(ISBLANK(PROGRAMACION!M157)),PROGRAMACION!M157,\"\")","v":""},{"$f":"IF(NOT(ISBLANK(PROGRAMACION!N157)),PROGRAMACION!N157,\"\")","v":""},{"$f":"IF(NOT(ISBLANK(PROGRAMACION!O157)),PROGRAMACION!O157,\"\")","v":""}]
[{"$f":"IF(NOT(ISBLANK(PROGRAMACION!A158)),PROGRAMACION!A158,\"\")","v":""},{"$f":"IF(NOT(ISBLANK(PROGRAMACION!B158)),PROGRAMACION!B158,\"\")","v":""},{"$f":"IF(NOT(ISBLANK(PROGRAMACION!C158)),PROGRAMACION!C158,\"\")","v":""},null,{"$f":"IF(NOT(ISBLANK(PROGRAMACION!E158)),PROGRAMACION!E158,\"\")","v":""},null,{"$f":"IF(NOT(ISBLANK(PROGRAMACION!G158)),PROGRAMACION!G158,\"\")","v":""},{"$f":"IF(NOT(ISBLANK(PROGRAMACION!H158)),PROGRAMACION!H158,\"\")","v":""},{"$f":"IF(NOT(ISBLANK(PROGRAMACION!I158)),PROGRAMACION!I158,\"\")","v":""},{"$f":"IF(NOT(ISBLANK(PROGRAMACION!J158)),IF(PROGRAMACION!I158=\"Transformador\",MID(PROGRAMACION!J158,1,2),PROGRAMACION!J158),\"\")","v":""},{"$f":"IF(NOT(ISBLANK(PROGRAMACION!K158)),PROGRAMACION!K158,\"\")","v":""},{"$f":"IF(NOT(ISBLANK(PROGRAMACION!L158)),PROGRAMACION!L158,\"\")","v":""},{"$f":"IF(NOT(ISBLANK(PROGRAMACION!M158)),PROGRAMACION!M158,\"\")","v":""},{"$f":"IF(NOT(ISBLANK(PROGRAMACION!N158)),PROGRAMACION!N158,\"\")","v":""},{"$f":"IF(NOT(ISBLANK(PROGRAMACION!O158)),PROGRAMACION!O158,\"\")","v":""}]
[{"$f":"IF(NOT(ISBLANK(PROGRAMACION!A159)),PROGRAMACION!A159,\"\")","v":""},{"$f":"IF(NOT(ISBLANK(PROGRAMACION!B159)),PROGRAMACION!B159,\"\")","v":""},{"$f":"IF(NOT(ISBLANK(PROGRAMACION!C159)),PROGRAMACION!C159,\"\")","v":""},null,{"$f":"IF(NOT(ISBLANK(PROGRAMACION!E159)),PROGRAMACION!E159,\"\")","v":""},null,{"$f":"IF(NOT(ISBLANK(PROGRAMACION!G159)),PROGRAMACION!G159,\"\")","v":""},{"$f":"IF(NOT(ISBLANK(PROGRAMACION!H159)),PROGRAMACION!H159,\"\")","v":""},{"$f":"IF(NOT(ISBLANK(PROGRAMACION!I159)),PROGRAMACION!I159,\"\")","v":""},{"$f":"IF(NOT(ISBLANK(PROGRAMACION!J159)),IF(PROGRAMACION!I159=\"Transformador\",MID(PROGRAMACION!J159,1,2),PROGRAMACION!J159),\"\")","v":""},{"$f":"IF(NOT(ISBLANK(PROGRAMACION!K159)),PROGRAMACION!K159,\"\")","v":""},{"$f":"IF(NOT(ISBLANK(PROGRAMACION!L159)),PROGRAMACION!L159,\"\")","v":""},{"$f":"IF(NOT(ISBLANK(PROGRAMACION!M159)),PROGRAMACION!M159,\"\")","v":""},{"$f":"IF(NOT(ISBLANK(PROGRAMACION!N159)),PROGRAMACION!N159,\"\")","v":""},{"$f":"IF(NOT(ISBLANK(PROGRAMACION!O159)),PROGRAMACION!O159,\"\")","v":""}]
[{"$f":"IF(NOT(ISBLANK(PROGRAMACION!A160)),PROGRAMACION!A160,\"\")","v":""},{"$f":"IF(NOT(ISBLANK(PROGRAMACION!B160)),PROGRAMACION!B160,\"\")","v":""},{"$f":"IF(NOT(ISBLANK(PROGRAMACION!C160)),PROGRAMACION!C160,\"\")","v":""},null,{"$f":"IF(NOT(ISBLANK(PROGRAMACION!E160)),PROGRAMACION!E160,\"\")","v":""},null,{"$f":"IF(NOT(ISBLANK(PROGRAMACION!G160)),PROGRAMACION!G160,\"\")","v":""},{"$f":"IF(NOT(ISBLANK(PROGRAMACION!H160)),PROGRAMACION!H160,\"\")","v":""},{"$f":"IF(NOT(ISBLANK(PROGRAMACION!I160)),PROGRAMACION!I160,\"\")","v":""},{"$f":"IF(NOT(ISBLANK(PROGRAMACION!J160)),IF(PROGRAMACION!I160=\"Transformador\",MID(PROGRAMACION!J160,1,2),PROGRAMACION!J160),\"\")","v":""},{"$f":"IF(NOT(ISBLANK(PROGRAMACION!K160)),PROGRAMACION!K160,\"\")","v":""},{"$f":"IF(NOT(ISBLANK(PROGRAMACION!L160)),PROGRAMACION!L160,\"\")","v":""},{"$f":"IF(NOT(ISBLANK(PROGRAMACION!M160)),PROGRAMACION!M160,\"\")","v":""},{"$f":"IF(NOT(ISBLANK(PROGRAMACION!N160)),PROGRAMACION!N160,\"\")","v":""},{"$f":"IF(NOT(ISBLANK(PROGRAMACION!O160)),PROGRAMACION!O160,\"\")","v":""}]
[{"$f":"IF(NOT(ISBLANK(PROGRAMACION!A161)),PROGRAMACION!A161,\"\")","v":""},{"$f":"IF(NOT(ISBLANK(PROGRAMACION!B161)),PROGRAMACION!B161,\"\")","v":""},{"$f":"IF(NOT(ISBLANK(PROGRAMACION!C161)),PROGRAMACION!C161,\"\")","v":""},null,{"$f":"IF(NOT(ISBLANK(PROGRAMACION!E161)),PROGRAMACION!E161,\"\")","v":""},null,{"$f":"IF(NOT(ISBLANK(PROGRAMACION!G161)),PROGRAMACION!G161,\"\")","v":""},{"$f":"IF(NOT(ISBLANK(PROGRAMACION!H161)),PROGRAMACION!H161,\"\")","v":""},{"$f":"IF(NOT(ISBLANK(PROGRAMACION!I161)),PROGRAMACION!I161,\"\")","v":""},{"$f":"IF(NOT(ISBLANK(PROGRAMACION!J161)),IF(PROGRAMACION!I161=\"Transformador\",MID(PROGRAMACION!J161,1,2),PROGRAMACION!J161),\"\")","v":""},{"$f":"IF(NOT(ISBLANK(PROGRAMACION!K161)),PROGRAMACION!K161,\"\")","v":""},{"$f":"IF(NOT(ISBLANK(PROGRAMACION!L161)),PROGRAMACION!L161,\"\")","v":""},{"$f":"IF(NOT(ISBLANK(PROGRAMACION!M161)),PROGRAMACION!M161,\"\")","v":""},{"$f":"IF(NOT(ISBLANK(PROGRAMACION!N161)),PROGRAMACION!N161,\"\")","v":""},{"$f":"IF(NOT(ISBLANK(PROGRAMACION!O161)),PROGRAMACION!O161,\"\")","v":""}]
[{"$f":"IF(NOT(ISBLANK(PROGRAMACION!A162)),PROGRAMACION!A162,\"\")","v":""},{"$f":"IF(NOT(ISBLANK(PROGRAMACION!B162)),PROGRAMACION!B162,\"\")","v":""},{"$f":"IF(NOT(ISBLANK(PROGRAMACION!C162)),PROGRAMACION!C162,\"\")","v":""},null,{"$f":"IF(NOT(ISBLANK(PROGRAMACION!E162)),PROGRAMACION!E162,\"\")","v":""},null,{"$f":"IF(NOT(ISBLANK(PROGRAMACION!G162)),PROGRAMACION!G162,\"\")","v":""},{"$f":"IF(NOT(ISBLANK(PROGRAMACION!H162)),PROGRAMACION!H162,\"\")","v":""},{"$f":"IF(NOT(ISBLANK(PROGRAMACION!I162)),PROGRAMACION!I162,\"\")","v":""},{"$f":"IF(NOT(ISBLANK(PROGRAMACION!J162)),IF(PROGRAMACION!I162=\"Transformador\",MID(PROGRAMACION!J162,1,2),PROGRAMACION!J162),\"\")","v":""},{"$f":"IF(NOT(ISBLANK(PROGRAMACION!K162)),PROGRAMACION!K162,\"\")","v":""},{"$f":"IF(NOT(ISBLANK(PROGRAMACION!L162)),PROGRAMACION!L162,\"\")","v":""},{"$f":"IF(NOT(ISBLANK(PROGRAMACION!M162)),PROGRAMACION!M162,\"\")","v":""},{"$f":"IF(NOT(ISBLANK(PROGRAMACION!N162)),PROGRAMACION!N162,\"\")","v":""},{"$f":"IF(NOT(ISBLANK(PROGRAMACION!O162)),PROGRAMACION!O162,\"\")","v":""}]
[{"$f":"IF(NOT(ISBLANK(PROGRAMACION!A163)),PROGRAMACION!A163,\"\")","v":""},{"$f":"IF(NOT(ISBLANK(PROGRAMACION!B163)),PROGRAMACION!B163,\"\")","v":""},{"$f":"IF(NOT(ISBLANK(PROGRAMACION!C163)),PROGRAMACION!C163,\"\")","v":""},null,{"$f":"IF(NOT(ISBLANK(PROGRAMACION!E163)),PROGRAMACION!E163,\"\")","v":""},null,{"$f":"IF(NOT(ISBLANK(PROGRAMACION!G163)),PROGRAMACION!G163,\"\")","v":""},{"$f":"IF(NOT(ISBLANK(PROGRAMACION!H163)),PROGRAMACION!H163,\"\")","v":""},{"$f":"IF(NOT(ISBLANK(PROGRAMACION!I163)),PROGRAMACION!I163,\"\")","v":""},{"$f":"IF(NOT(ISBLANK(PROGRAMACION!J163)),IF(PROGRAMACION!I163=\"Transformador\",MID(PROGRAMACION!J163,1,2),PROGRAMACION!J163),\"\")","v":""},{"$f":"IF(NOT(ISBLANK(PROGRAMACION!K163)),PROGRAMACION!K163,\"\")","v":""},{"$f":"IF(NOT(ISBLANK(PROGRAMACION!L163)),PROGRAMACION!L163,\"\")","v":""},{"$f":"IF(NOT(ISBLANK(PROGRAMACION!M163)),PROGRAMACION!M163,\"\")","v":""},{"$f":"IF(NOT(ISBLANK(PROGRAMACION!N163)),PROGRAMACION!N163,\"\")","v":""},{"$f":"IF(NOT(ISBLANK(PROGRAMACION!O163)),PROGRAMACION!O163,\"\")","v":""}]
[{"$f":"IF(NOT(ISBLANK(PROGRAMACION!A164)),PROGRAMACION!A164,\"\")","v":""},{"$f":"IF(NOT(ISBLANK(PROGRAMACION!B164)),PROGRAMACION!B164,\"\")","v":""},{"$f":"IF(NOT(ISBLANK(PROGRAMACION!C164)),PROGRAMACION!C164,\"\")","v":""},null,{"$f":"IF(NOT(ISBLANK(PROGRAMACION!E164)),PROGRAMACION!E164,\"\")","v":""},null,{"$f":"IF(NOT(ISBLANK(PROGRAMACION!G164)),PROGRAMACION!G164,\"\")","v":""},{"$f":"IF(NOT(ISBLANK(PROGRAMACION!H164)),PROGRAMACION!H164,\"\")","v":""},{"$f":"IF(NOT(ISBLANK(PROGRAMACION!I164)),PROGRAMACION!I164,\"\")","v":""},{"$f":"IF(NOT(ISBLANK(PROGRAMACION!J164)),IF(PROGRAMACION!I164=\"Transformador\",MID(PROGRAMACION!J164,1,2),PROGRAMACION!J164),\"\")","v":""},{"$f":"IF(NOT(ISBLANK(PROGRAMACION!K164)),PROGRAMACION!K164,\"\")","v":""},{"$f":"IF(NOT(ISBLANK(PROGRAMACION!L164)),PROGRAMACION!L164,\"\")","v":""},{"$f":"IF(NOT(ISBLANK(PROGRAMACION!M164)),PROGRAMACION!M164,\"\")","v":""},{"$f":"IF(NOT(ISBLANK(PROGRAMACION!N164)),PROGRAMACION!N164,\"\")","v":""},{"$f":"IF(NOT(ISBLANK(PROGRAMACION!O164)),PROGRAMACION!O164,\"\")","v":""}]
[{"$f":"IF(NOT(ISBLANK(PROGRAMACION!A165)),PROGRAMACION!A165,\"\")","v":""},{"$f":"IF(NOT(ISBLANK(PROGRAMACION!B165)),PROGRAMACION!B165,\"\")","v":""},{"$f":"IF(NOT(ISBLANK(PROGRAMACION!C165)),PROGRAMACION!C165,\"\")","v":""},null,{"$f":"IF(NOT(ISBLANK(PROGRAMACION!E165)),PROGRAMACION!E165,\"\")","v":""},null,{"$f":"IF(NOT(ISBLANK(PROGRAMACION!G165)),PROGRAMACION!G165,\"\")","v":""},{"$f":"IF(NOT(ISBLANK(PROGRAMACION!H165)),PROGRAMACION!H165,\"\")","v":""},{"$f":"IF(NOT(ISBLANK(PROGRAMACION!I165)),PROGRAMACION!I165,\"\")","v":""},{"$f":"IF(NOT(ISBLANK(PROGRAMACION!J165)),IF(PROGRAMACION!I165=\"Transformador\",MID(PROGRAMACION!J165,1,2),PROGRAMACION!J165),\"\")","v":""},{"$f":"IF(NOT(ISBLANK(PROGRAMACION!K165)),PROGRAMACION!K165,\"\")","v":""},{"$f":"IF(NOT(ISBLANK(PROGRAMACION!L165)),PROGRAMACION!L165,\"\")","v":""},{"$f":"IF(NOT(ISBLANK(PROGRAMACION!M165)),PROGRAMACION!M165,\"\")","v":""},{"$f":"IF(NOT(ISBLANK(PROGRAMACION!N165)),PROGRAMACION!N165,\"\")","v":""},{"$f":"IF(NOT(ISBLANK(PROGRAMACION!O165)),PROGRAMACION!O165,\"\")","v":""}]
[{"$f":"IF(NOT(ISBLANK(PROGRAMACION!A166)),PROGRAMACION!A166,\"\")","v":""},{"$f":"IF(NOT(ISBLANK(PROGRAMACION!B166)),PROGRAMACION!B166,\"\")","v":""},{"$f":"IF(NOT(ISBLANK(PROGRAMACION!C166)),PROGRAMACION!C166,\"\")","v":""},null,{"$f":"IF(NOT(ISBLANK(PROGRAMACION!E166)),PROGRAMACION!E166,\"\")","v":""},null,{"$f":"IF(NOT(ISBLANK(PROGRAMACION!G166)),PROGRAMACION!G166,\"\")","v":""},{"$f":"IF(NOT(ISBLANK(PROGRAMACION!H166)),PROGRAMACION!H166,\"\")","v":""},{"$f":"IF(NOT(ISBLANK(PROGRAMACION!I166)),PROGRAMACION!I166,\"\")","v":""},{"$f":"IF(NOT(ISBLANK(PROGRAMACION!J166)),IF(PROGRAMACION!I166=\"Transformador\",MID(PROGRAMACION!J166,1,2),PROGRAMACION!J166),\"\")","v":""},{"$f":"IF(NOT(ISBLANK(PROGRAMACION!K166)),PROGRAMACION!K166,\"\")","v":""},{"$f":"IF(NOT(ISBLANK(PROGRAMACION!L166)),PROGRAMACION!L166,\"\")","v":""},{"$f":"IF(NOT(ISBLANK(PROGRAMACION!M166)),PROGRAMACION!M166,\"\")","v":""},{"$f":"IF(NOT(ISBLANK(PROGRAMACION!N166)),PROGRAMACION!N166,\"\")","v":""},{"$f":"IF(NOT(ISBLANK(PROGRAMACION!O166)),PROGRAMACION!O166,\"\")","v":""}]
[{"$f":"IF(NOT(ISBLANK(PROGRAMACION!A167)),PROGRAMACION!A167,\"\")","v":""},{"$f":"IF(NOT(ISBLANK(PROGRAMACION!B167)),PROGRAMACION!B167,\"\")","v":""},{"$f":"IF(NOT(ISBLANK(PROGRAMACION!C167)),PROGRAMACION!C167,\"\")","v":""},null,{"$f":"IF(NOT(ISBLANK(PROGRAMACION!E167)),PROGRAMACION!E167,\"\")","v":""},null,{"$f":"IF(NOT(ISBLANK(PROGRAMACION!G167)),PROGRAMACION!G167,\"\")","v":""},{"$f":"IF(NOT(ISBLANK(PROGRAMACION!H167)),PROGRAMACION!H167,\"\")","v":""},{"$f":"IF(NOT(ISBLANK(PROGRAMACION!I167)),PROGRAMACION!I167,\"\")","v":""},{"$f":"IF(NOT(ISBLANK(PROGRAMACION!J167)),IF(PROGRAMACION!I167=\"Transformador\",MID(PROGRAMACION!J167,1,2),PROGRAMACION!J167),\"\")","v":""},{"$f":"IF(NOT(ISBLANK(PROGRAMACION!K167)),PROGRAMACION!K167,\"\")","v":""},{"$f":"IF(NOT(ISBLANK(PROGRAMACION!L167)),PROGRAMACION!L167,\"\")","v":""},{"$f":"IF(NOT(ISBLANK(PROGRAMACION!M167)),PROGRAMACION!M167,\"\")","v":""},{"$f":"IF(NOT(ISBLANK(PROGRAMACION!N167)),PROGRAMACION!N167,\"\")","v":""},{"$f":"IF(NOT(ISBLANK(PROGRAMACION!O167)),PROGRAMACION!O167,\"\")","v":""}]
[{"$f":"IF(NOT(ISBLANK(PROGRAMACION!A168)),PROGRAMACION!A168,\"\")","v":""},{"$f":"IF(NOT(ISBLANK(PROGRAMACION!B168)),PROGRAMACION!B168,\"\")","v":""},{"$f":"IF(NOT(ISBLANK(PROGRAMACION!C168)),PROGRAMACION!C168,\"\")","v":""},null,{"$f":"IF(NOT(ISBLANK(PROGRAMACION!E168)),PROGRAMACION!E168,\"\")","v":""},null,{"$f":"IF(NOT(ISBLANK(PROGRAMACION!G168)),PROGRAMACION!G168,\"\")","v":""},{"$f":"IF(NOT(ISBLANK(PROGRAMACION!H168)),PROGRAMACION!H168,\"\")","v":""},{"$f":"IF(NOT(ISBLANK(PROGRAMACION!I168)),PROGRAMACION!I168,\"\")","v":""},{"$f":"IF(NOT(ISBLANK(PROGRAMACION!J168)),IF(PROGRAMACION!I168=\"Transformador\",MID(PROGRAMACION!J168,1,2),PROGRAMACION!J168),\"\")","v":""},{"$f":"IF(NOT(ISBLANK(PROGRAMACION!K168)),PROGRAMACION!K168,\"\")","v":""},{"$f":"IF(NOT(ISBLANK(PROGRAMACION!L168)),PROGRAMACION!L168,\"\")","v":""},{"$f":"IF(NOT(ISBLANK(PROGRAMACION!M168)),PROGRAMACION!M168,\"\")","v":""},{"$f":"IF(NOT(ISBLANK(PROGRAMACION!N168)),PROGRAMACION!N168,\"\")","v":""},{"$f":"IF(NOT(ISBLANK(PROGRAMACION!O168)),PROGRAMACION!O168,\"\")","v":""}]
[{"$f":"IF(NOT(ISBLANK(PROGRAMACION!A169)),PROGRAMACION!A169,\"\")","v":""},{"$f":"IF(NOT(ISBLANK(PROGRAMACION!B169)),PROGRAMACION!B169,\"\")","v":""},{"$f":"IF(NOT(ISBLANK(PROGRAMACION!C169)),PROGRAMACION!C169,\"\")","v":""},null,{"$f":"IF(NOT(ISBLANK(PROGRAMACION!E169)),PROGRAMACION!E169,\"\")","v":""},null,{"$f":"IF(NOT(ISBLANK(PROGRAMACION!G169)),PROGRAMACION!G169,\"\")","v":""},{"$f":"IF(NOT(ISBLANK(PROGRAMACION!H169)),PROGRAMACION!H169,\"\")","v":""},{"$f":"IF(NOT(ISBLANK(PROGRAMACION!I169)),PROGRAMACION!I169,\"\")","v":""},{"$f":"IF(NOT(ISBLANK(PROGRAMACION!J169)),IF(PROGRAMACION!I169=\"Transformador\",MID(PROGRAMACION!J169,1,2),PROGRAMACION!J169),\"\")","v":""},{"$f":"IF(NOT(ISBLANK(PROGRAMACION!K169)),PROGRAMACION!K169,\"\")","v":""},{"$f":"IF(NOT(ISBLANK(PROGRAMACION!L169)),PROGRAMACION!L169,\"\")","v":""},{"$f":"IF(NOT(ISBLANK(PROGRAMACION!M169)),PROGRAMACION!M169,\"\")","v":""},{"$f":"IF(NOT(ISBLANK(PROGRAMACION!N169)),PROGRAMACION!N169,\"\")","v":""},{"$f":"IF(NOT(ISBLANK(PROGRAMACION!O169)),PROGRAMACION!O169,\"\")","v":""}]
[{"$f":"IF(NOT(ISBLANK(PROGRAMACION!A170)),PROGRAMACION!A170,\"\")","v":""},{"$f":"IF(NOT(ISBLANK(PROGRAMACION!B170)),PROGRAMACION!B170,\"\")","v":""},{"$f":"IF(NOT(ISBLANK(PROGRAMACION!C170)),PROGRAMACION!C170,\"\")","v":""},null,{"$f":"IF(NOT(ISBLANK(PROGRAMACION!E170)),PROGRAMACION!E170,\"\")","v":""},null,{"$f":"IF(NOT(ISBLANK(PROGRAMACION!G170)),PROGRAMACION!G170,\"\")","v":""},{"$f":"IF(NOT(ISBLANK(PROGRAMACION!H170)),PROGRAMACION!H170,\"\")","v":""},{"$f":"IF(NOT(ISBLANK(PROGRAMACION!I170)),PROGRAMACION!I170,\"\")","v":""},{"$f":"IF(NOT(ISBLANK(PROGRAMACION!J170)),IF(PROGRAMACION!I170=\"Transformador\",MID(PROGRAMACION!J170,1,2),PROGRAMACION!J170),\"\")","v":""},{"$f":"IF(NOT(ISBLANK(PROGRAMACION!K170)),PROGRAMACION!K170,\"\")","v":""},{"$f":"IF(NOT(ISBLANK(PROGRAMACION!L170)),PROGRAMACION!L170,\"\")","v":""},{"$f":"IF(NOT(ISBLANK(PROGRAMACION!M170)),PROGRAMACION!M170,\"\")","v":""},{"$f":"IF(NOT(ISBLANK(PROGRAMACION!N170)),PROGRAMACION!N170,\"\")","v":""},{"$f":"IF(NOT(ISBLANK(PROGRAMACION!O170)),PROGRAMACION!O170,\"\")","v":""}]
[{"$f":"IF(NOT(ISBLANK(PROGRAMACION!A171)),PROGRAMACION!A171,\"\")","v":""},{"$f":"IF(NOT(ISBLANK(PROGRAMACION!B171)),PROGRAMACION!B171,\"\")","v":""},{"$f":"IF(NOT(ISBLANK(PROGRAMACION!C171)),PROGRAMACION!C171,\"\")","v":""},null,{"$f":"IF(NOT(ISBLANK(PROGRAMACION!E171)),PROGRAMACION!E171,\"\")","v":""},null,{"$f":"IF(NOT(ISBLANK(PROGRAMACION!G171)),PROGRAMACION!G171,\"\")","v":""},{"$f":"IF(NOT(ISBLANK(PROGRAMACION!H171)),PROGRAMACION!H171,\"\")","v":""},{"$f":"IF(NOT(ISBLANK(PROGRAMACION!I171)),PROGRAMACION!I171,\"\")","v":""},{"$f":"IF(NOT(ISBLANK(PROGRAMACION!J171)),IF(PROGRAMACION!I171=\"Transformador\",MID(PROGRAMACION!J171,1,2),PROGRAMACION!J171),\"\")","v":""},{"$f":"IF(NOT(ISBLANK(PROGRAMACION!K171)),PROGRAMACION!K171,\"\")","v":""},{"$f":"IF(NOT(ISBLANK(PROGRAMACION!L171)),PROGRAMACION!L171,\"\")","v":""},{"$f":"IF(NOT(ISBLANK(PROGRAMACION!M171)),PROGRAMACION!M171,\"\")","v":""},{"$f":"IF(NOT(ISBLANK(PROGRAMACION!N171)),PROGRAMACION!N171,\"\")","v":""},{"$f":"IF(NOT(ISBLANK(PROGRAMACION!O171)),PROGRAMACION!O171,\"\")","v":""}]
[{"$f":"IF(NOT(ISBLANK(PROGRAMACION!A172)),PROGRAMACION!A172,\"\")","v":""},{"$f":"IF(NOT(ISBLANK(PROGRAMACION!B172)),PROGRAMACION!B172,\"\")","v":""},{"$f":"IF(NOT(ISBLANK(PROGRAMACION!C172)),PROGRAMACION!C172,\"\")","v":""},null,{"$f":"IF(NOT(ISBLANK(PROGRAMACION!E172)),PROGRAMACION!E172,\"\")","v":""},null,{"$f":"IF(NOT(ISBLANK(PROGRAMACION!G172)),PROGRAMACION!G172,\"\")","v":""},{"$f":"IF(NOT(ISBLANK(PROGRAMACION!H172)),PROGRAMACION!H172,\"\")","v":""},{"$f":"IF(NOT(ISBLANK(PROGRAMACION!I172)),PROGRAMACION!I172,\"\")","v":""},{"$f":"IF(NOT(ISBLANK(PROGRAMACION!J172)),IF(PROGRAMACION!I172=\"Transformador\",MID(PROGRAMACION!J172,1,2),PROGRAMACION!J172),\"\")","v":""},{"$f":"IF(NOT(ISBLANK(PROGRAMACION!K172)),PROGRAMACION!K172,\"\")","v":""},{"$f":"IF(NOT(ISBLANK(PROGRAMACION!L172)),PROGRAMACION!L172,\"\")","v":""},{"$f":"IF(NOT(ISBLANK(PROGRAMACION!M172)),PROGRAMACION!M172,\"\")","v":""},{"$f":"IF(NOT(ISBLANK(PROGRAMACION!N172)),PROGRAMACION!N172,\"\")","v":""},{"$f":"IF(NOT(ISBLANK(PROGRAMACION!O172)),PROGRAMACION!O172,\"\")","v":""}]
[{"$f":"IF(NOT(ISBLANK(PROGRAMACION!A173)),PROGRAMACION!A173,\"\")","v":""},{"$f":"IF(NOT(ISBLANK(PROGRAMACION!B173)),PROGRAMACION!B173,\"\")","v":""},{"$f":"IF(NOT(ISBLANK(PROGRAMACION!C173)),PROGRAMACION!C173,\"\")","v":""},null,{"$f":"IF(NOT(ISBLANK(PROGRAMACION!E173)),PROGRAMACION!E173,\"\")","v":""},null,{"$f":"IF(NOT(ISBLANK(PROGRAMACION!G173)),PROGRAMACION!G173,\"\")","v":""},{"$f":"IF(NOT(ISBLANK(PROGRAMACION!H173)),PROGRAMACION!H173,\"\")","v":""},{"$f":"IF(NOT(ISBLANK(PROGRAMACION!I173)),PROGRAMACION!I173,\"\")","v":""},{"$f":"IF(NOT(ISBLANK(PROGRAMACION!J173)),IF(PROGRAMACION!I173=\"Transformador\",MID(PROGRAMACION!J173,1,2),PROGRAMACION!J173),\"\")","v":""},{"$f":"IF(NOT(ISBLANK(PROGRAMACION!K173)),PROGRAMACION!K173,\"\")","v":""},{"$f":"IF(NOT(ISBLANK(PROGRAMACION!L173)),PROGRAMACION!L173,\"\")","v":""},{"$f":"IF(NOT(ISBLANK(PROGRAMACION!M173)),PROGRAMACION!M173,\"\")","v":""},{"$f":"IF(NOT(ISBLANK(PROGRAMACION!N173)),PROGRAMACION!N173,\"\")","v":""},{"$f":"IF(NOT(ISBLANK(PROGRAMACION!O173)),PROGRAMACION!O173,\"\")","v":""}]
[{"$f":"IF(NOT(ISBLANK(PROGRAMACION!A174)),PROGRAMACION!A174,\"\")","v":""},{"$f":"IF(NOT(ISBLANK(PROGRAMACION!B174)),PROGRAMACION!B174,\"\")","v":""},{"$f":"IF(NOT(ISBLANK(PROGRAMACION!C174)),PROGRAMACION!C174,\"\")","v":""},null,{"$f":"IF(NOT(ISBLANK(PROGRAMACION!E174)),PROGRAMACION!E174,\"\")","v":""},null,{"$f":"IF(NOT(ISBLANK(PROGRAMACION!G174)),PROGRAMACION!G174,\"\")","v":""},{"$f":"IF(NOT(ISBLANK(PROGRAMACION!H174)),PROGRAMACION!H174,\"\")","v":""},{"$f":"IF(NOT(ISBLANK(PROGRAMACION!I174)),PROGRAMACION!I174,\"\")","v":""},{"$f":"IF(NOT(ISBLANK(PROGRAMACION!J174)),IF(PROGRAMACION!I174=\"Transformador\",MID(PROGRAMACION!J174,1,2),PROGRAMACION!J174),\"\")","v":""},{"$f":"IF(NOT(ISBLANK(PROGRAMACION!K174)),PROGRAMACION!K174,\"\")","v":""},{"$f":"IF(NOT(ISBLANK(PROGRAMACION!L174)),PROGRAMACION!L174,\"\")","v":""},{"$f":"IF(NOT(ISBLANK(PROGRAMACION!M174)),PROGRAMACION!M174,\"\")","v":""},{"$f":"IF(NOT(ISBLANK(PROGRAMACION!N174)),PROGRAMACION!N174,\"\")","v":""},{"$f":"IF(NOT(ISBLANK(PROGRAMACION!O174)),PROGRAMACION!O174,\"\")","v":""}]
[{"$f":"IF(NOT(ISBLANK(PROGRAMACION!A175)),PROGRAMACION!A175,\"\")","v":""},{"$f":"IF(NOT(ISBLANK(PROGRAMACION!B175)),PROGRAMACION!B175,\"\")","v":""},{"$f":"IF(NOT(ISBLANK(PROGRAMACION!C175)),PROGRAMACION!C175,\"\")","v":""},null,{"$f":"IF(NOT(ISBLANK(PROGRAMACION!E175)),PROGRAMACION!E175,\"\")","v":""},null,{"$f":"IF(NOT(ISBLANK(PROGRAMACION!G175)),PROGRAMACION!G175,\"\")","v":""},{"$f":"IF(NOT(ISBLANK(PROGRAMACION!H175)),PROGRAMACION!H175,\"\")","v":""},{"$f":"IF(NOT(ISBLANK(PROGRAMACION!I175)),PROGRAMACION!I175,\"\")","v":""},{"$f":"IF(NOT(ISBLANK(PROGRAMACION!J175)),IF(PROGRAMACION!I175=\"Transformador\",MID(PROGRAMACION!J175,1,2),PROGRAMACION!J175),\"\")","v":""},{"$f":"IF(NOT(ISBLANK(PROGRAMACION!K175)),PROGRAMACION!K175,\"\")","v":""},{"$f":"IF(NOT(ISBLANK(PROGRAMACION!L175)),PROGRAMACION!L175,\"\")","v":""},{"$f":"IF(NOT(ISBLANK(PROGRAMACION!M175)),PROGRAMACION!M175,\"\")","v":""},{"$f":"IF(NOT(ISBLANK(PROGRAMACION!N175)),PROGRAMACION!N175,\"\")","v":""},{"$f":"IF(NOT(ISBLANK(PROGRAMACION!O175)),PROGRAMACION!O175,\"\")","v":""}]
[{"$f":"IF(NOT(ISBLANK(PROGRAMACION!A176)),PROGRAMACION!A176,\"\")","v":""},{"$f":"IF(NOT(ISBLANK(PROGRAMACION!B176)),PROGRAMACION!B176,\"\")","v":""},{"$f":"IF(NOT(ISBLANK(PROGRAMACION!C176)),PROGRAMACION!C176,\"\")","v":""},null,{"$f":"IF(NOT(ISBLANK(PROGRAMACION!E176)),PROGRAMACION!E176,\"\")","v":""},null,{"$f":"IF(NOT(ISBLANK(PROGRAMACION!G176)),PROGRAMACION!G176,\"\")","v":""},{"$f":"IF(NOT(ISBLANK(PROGRAMACION!H176)),PROGRAMACION!H176,\"\")","v":""},{"$f":"IF(NOT(ISBLANK(PROGRAMACION!I176)),PROGRAMACION!I176,\"\")","v":""},{"$f":"IF(NOT(ISBLANK(PROGRAMACION!J176)),IF(PROGRAMACION!I176=\"Transformador\",MID(PROGRAMACION!J176,1,2),PROGRAMACION!J176),\"\")","v":""},{"$f":"IF(NOT(ISBLANK(PROGRAMACION!K176)),PROGRAMACION!K176,\"\")","v":""},{"$f":"IF(NOT(ISBLANK(PROGRAMACION!L176)),PROGRAMACION!L176,\"\")","v":""},{"$f":"IF(NOT(ISBLANK(PROGRAMACION!M176)),PROGRAMACION!M176,\"\")","v":""},{"$f":"IF(NOT(ISBLANK(PROGRAMACION!N176)),PROGRAMACION!N176,\"\")","v":""},{"$f":"IF(NOT(ISBLANK(PROGRAMACION!O176)),PROGRAMACION!O176,\"\")","v":""}]
[{"$f":"IF(NOT(ISBLANK(PROGRAMACION!A177)),PROGRAMACION!A177,\"\")","v":""},{"$f":"IF(NOT(ISBLANK(PROGRAMACION!B177)),PROGRAMACION!B177,\"\")","v":""},{"$f":"IF(NOT(ISBLANK(PROGRAMACION!C177)),PROGRAMACION!C177,\"\")","v":""},null,{"$f":"IF(NOT(ISBLANK(PROGRAMACION!E177)),PROGRAMACION!E177,\"\")","v":""},null,{"$f":"IF(NOT(ISBLANK(PROGRAMACION!G177)),PROGRAMACION!G177,\"\")","v":""},{"$f":"IF(NOT(ISBLANK(PROGRAMACION!H177)),PROGRAMACION!H177,\"\")","v":""},{"$f":"IF(NOT(ISBLANK(PROGRAMACION!I177)),PROGRAMACION!I177,\"\")","v":""},{"$f":"IF(NOT(ISBLANK(PROGRAMACION!J177)),IF(PROGRAMACION!I177=\"Transformador\",MID(PROGRAMACION!J177,1,2),PROGRAMACION!J177),\"\")","v":""},{"$f":"IF(NOT(ISBLANK(PROGRAMACION!K177)),PROGRAMACION!K177,\"\")","v":""},{"$f":"IF(NOT(ISBLANK(PROGRAMACION!L177)),PROGRAMACION!L177,\"\")","v":""},{"$f":"IF(NOT(ISBLANK(PROGRAMACION!M177)),PROGRAMACION!M177,\"\")","v":""},{"$f":"IF(NOT(ISBLANK(PROGRAMACION!N177)),PROGRAMACION!N177,\"\")","v":""},{"$f":"IF(NOT(ISBLANK(PROGRAMACION!O177)),PROGRAMACION!O177,\"\")","v":""}]
[{"$f":"IF(NOT(ISBLANK(PROGRAMACION!A178)),PROGRAMACION!A178,\"\")","v":""},{"$f":"IF(NOT(ISBLANK(PROGRAMACION!B178)),PROGRAMACION!B178,\"\")","v":""},{"$f":"IF(NOT(ISBLANK(PROGRAMACION!C178)),PROGRAMACION!C178,\"\")","v":""},null,{"$f":"IF(NOT(ISBLANK(PROGRAMACION!E178)),PROGRAMACION!E178,\"\")","v":""},null,{"$f":"IF(NOT(ISBLANK(PROGRAMACION!G178)),PROGRAMACION!G178,\"\")","v":""},{"$f":"IF(NOT(ISBLANK(PROGRAMACION!H178)),PROGRAMACION!H178,\"\")","v":""},{"$f":"IF(NOT(ISBLANK(PROGRAMACION!I178)),PROGRAMACION!I178,\"\")","v":""},{"$f":"IF(NOT(ISBLANK(PROGRAMACION!J178)),IF(PROGRAMACION!I178=\"Transformador\",MID(PROGRAMACION!J178,1,2),PROGRAMACION!J178),\"\")","v":""},{"$f":"IF(NOT(ISBLANK(PROGRAMACION!K178)),PROGRAMACION!K178,\"\")","v":""},{"$f":"IF(NOT(ISBLANK(PROGRAMACION!L178)),PROGRAMACION!L178,\"\")","v":""},{"$f":"IF(NOT(ISBLANK(PROGRAMACION!M178)),PROGRAMACION!M178,\"\")","v":""},{"$f":"IF(NOT(ISBLANK(PROGRAMACION!N178)),PROGRAMACION!N178,\"\")","v":""},{"$f":"IF(NOT(ISBLANK(PROGRAMACION!O178)),PROGRAMACION!O178,\"\")","v":""}]
[{"$f":"IF(NOT(ISBLANK(PROGRAMACION!A179)),PROGRAMACION!A179,\"\")","v":""},{"$f":"IF(NOT(ISBLANK(PROGRAMACION!B179)),PROGRAMACION!B179,\"\")","v":""},{"$f":"IF(NOT(ISBLANK(PROGRAMACION!C179)),PROGRAMACION!C179,\"\")","v":""},null,{"$f":"IF(NOT(ISBLANK(PROGRAMACION!E179)),PROGRAMACION!E179,\"\")","v":""},null,{"$f":"IF(NOT(ISBLANK(PROGRAMACION!G179)),PROGRAMACION!G179,\"\")","v":""},{"$f":"IF(NOT(ISBLANK(PROGRAMACION!H179)),PROGRAMACION!H179,\"\")","v":""},{"$f":"IF(NOT(ISBLANK(PROGRAMACION!I179)),PROGRAMACION!I179,\"\")","v":""},{"$f":"IF(NOT(ISBLANK(PROGRAMACION!J179)),IF(PROGRAMACION!I179=\"Transformador\",MID(PROGRAMACION!J179,1,2),PROGRAMACION!J179),\"\")","v":""},{"$f":"IF(NOT(ISBLANK(PROGRAMACION!K179)),PROGRAMACION!K179,\"\")","v":""},{"$f":"IF(NOT(ISBLANK(PROGRAMACION!L179)),PROGRAMACION!L179,\"\")","v":""},{"$f":"IF(NOT(ISBLANK(PROGRAMACION!M179)),PROGRAMACION!M179,\"\")","v":""},{"$f":"IF(NOT(ISBLANK(PROGRAMACION!N179)),PROGRAMACION!N179,\"\")","v":""},{"$f":"IF(NOT(ISBLANK(PROGRAMACION!O179)),PROGRAMACION!O179,\"\")","v":""}]
[{"$f":"IF(NOT(ISBLANK(PROGRAMACION!A180)),PROGRAMACION!A180,\"\")","v":""},{"$f":"IF(NOT(ISBLANK(PROGRAMACION!B180)),PROGRAMACION!B180,\"\")","v":""},{"$f":"IF(NOT(ISBLANK(PROGRAMACION!C180)),PROGRAMACION!C180,\"\")","v":""},null,{"$f":"IF(NOT(ISBLANK(PROGRAMACION!E180)),PROGRAMACION!E180,\"\")","v":""},null,{"$f":"IF(NOT(ISBLANK(PROGRAMACION!G180)),PROGRAMACION!G180,\"\")","v":""},{"$f":"IF(NOT(ISBLANK(PROGRAMACION!H180)),PROGRAMACION!H180,\"\")","v":""},{"$f":"IF(NOT(ISBLANK(PROGRAMACION!I180)),PROGRAMACION!I180,\"\")","v":""},{"$f":"IF(NOT(ISBLANK(PROGRAMACION!J180)),IF(PROGRAMACION!I180=\"Transformador\",MID(PROGRAMACION!J180,1,2),PROGRAMACION!J180),\"\")","v":""},{"$f":"IF(NOT(ISBLANK(PROGRAMACION!K180)),PROGRAMACION!K180,\"\")","v":""},{"$f":"IF(NOT(ISBLANK(PROGRAMACION!L180)),PROGRAMACION!L180,\"\")","v":""},{"$f":"IF(NOT(ISBLANK(PROGRAMACION!M180)),PROGRAMACION!M180,\"\")","v":""},{"$f":"IF(NOT(ISBLANK(PROGRAMACION!N180)),PROGRAMACION!N180,\"\")","v":""},{"$f":"IF(NOT(ISBLANK(PROGRAMACION!O180)),PROGRAMACION!O180,\"\")","v":""}]
[{"$f":"IF(NOT(ISBLANK(PROGRAMACION!A181)),PROGRAMACION!A181,\"\")","v":""},{"$f":"IF(NOT(ISBLANK(PROGRAMACION!B181)),PROGRAMACION!B181,\"\")","v":""},{"$f":"IF(NOT(ISBLANK(PROGRAMACION!C181)),PROGRAMACION!C181,\"\")","v":""},null,{"$f":"IF(NOT(ISBLANK(PROGRAMACION!E181)),PROGRAMACION!E181,\"\")","v":""},null,{"$f":"IF(NOT(ISBLANK(PROGRAMACION!G181)),PROGRAMACION!G181,\"\")","v":""},{"$f":"IF(NOT(ISBLANK(PROGRAMACION!H181)),PROGRAMACION!H181,\"\")","v":""},{"$f":"IF(NOT(ISBLANK(PROGRAMACION!I181)),PROGRAMACION!I181,\"\")","v":""},{"$f":"IF(NOT(ISBLANK(PROGRAMACION!J181)),IF(PROGRAMACION!I181=\"Transformador\",MID(PROGRAMACION!J181,1,2),PROGRAMACION!J181),\"\")","v":""},{"$f":"IF(NOT(ISBLANK(PROGRAMACION!K181)),PROGRAMACION!K181,\"\")","v":""},{"$f":"IF(NOT(ISBLANK(PROGRAMACION!L181)),PROGRAMACION!L181,\"\")","v":""},{"$f":"IF(NOT(ISBLANK(PROGRAMACION!M181)),PROGRAMACION!M181,\"\")","v":""},{"$f":"IF(NOT(ISBLANK(PROGRAMACION!N181)),PROGRAMACION!N181,\"\")","v":""},{"$f":"IF(NOT(ISBLANK(PROGRAMACION!O181)),PROGRAMACION!O181,\"\")","v":""}]
[{"$f":"IF(NOT(ISBLANK(PROGRAMACION!A182)),PROGRAMACION!A182,\"\")","v":""},{"$f":"IF(NOT(ISBLANK(PROGRAMACION!B182)),PROGRAMACION!B182,\"\")","v":""},{"$f":"IF(NOT(ISBLANK(PROGRAMACION!C182)),PROGRAMACION!C182,\"\")","v":""},null,{"$f":"IF(NOT(ISBLANK(PROGRAMACION!E182)),PROGRAMACION!E182,\"\")","v":""},null,{"$f":"IF(NOT(ISBLANK(PROGRAMACION!G182)),PROGRAMACION!G182,\"\")","v":""},{"$f":"IF(NOT(ISBLANK(PROGRAMACION!H182)),PROGRAMACION!H182,\"\")","v":""},{"$f":"IF(NOT(ISBLANK(PROGRAMACION!I182)),PROGRAMACION!I182,\"\")","v":""},{"$f":"IF(NOT(ISBLANK(PROGRAMACION!J182)),IF(PROGRAMACION!I182=\"Transformador\",MID(PROGRAMACION!J182,1,2),PROGRAMACION!J182),\"\")","v":""},{"$f":"IF(NOT(ISBLANK(PROGRAMACION!K182)),PROGRAMACION!K182,\"\")","v":""},{"$f":"IF(NOT(ISBLANK(PROGRAMACION!L182)),PROGRAMACION!L182,\"\")","v":""},{"$f":"IF(NOT(ISBLANK(PROGRAMACION!M182)),PROGRAMACION!M182,\"\")","v":""},{"$f":"IF(NOT(ISBLANK(PROGRAMACION!N182)),PROGRAMACION!N182,\"\")","v":""},{"$f":"IF(NOT(ISBLANK(PROGRAMACION!O182)),PROGRAMACION!O182,\"\")","v":""}]
[{"$f":"IF(NOT(ISBLANK(PROGRAMACION!A183)),PROGRAMACION!A183,\"\")","v":""},{"$f":"IF(NOT(ISBLANK(PROGRAMACION!B183)),PROGRAMACION!B183,\"\")","v":""},{"$f":"IF(NOT(ISBLANK(PROGRAMACION!C183)),PROGRAMACION!C183,\"\")","v":""},null,{"$f":"IF(NOT(ISBLANK(PROGRAMACION!E183)),PROGRAMACION!E183,\"\")","v":""},null,{"$f":"IF(NOT(ISBLANK(PROGRAMACION!G183)),PROGRAMACION!G183,\"\")","v":""},{"$f":"IF(NOT(ISBLANK(PROGRAMACION!H183)),PROGRAMACION!H183,\"\")","v":""},{"$f":"IF(NOT(ISBLANK(PROGRAMACION!I183)),PROGRAMACION!I183,\"\")","v":""},{"$f":"IF(NOT(ISBLANK(PROGRAMACION!J183)),IF(PROGRAMACION!I183=\"Transformador\",MID(PROGRAMACION!J183,1,2),PROGRAMACION!J183),\"\")","v":""},{"$f":"IF(NOT(ISBLANK(PROGRAMACION!K183)),PROGRAMACION!K183,\"\")","v":""},{"$f":"IF(NOT(ISBLANK(PROGRAMACION!L183)),PROGRAMACION!L183,\"\")","v":""},{"$f":"IF(NOT(ISBLANK(PROGRAMACION!M183)),PROGRAMACION!M183,\"\")","v":""},{"$f":"IF(NOT(ISBLANK(PROGRAMACION!N183)),PROGRAMACION!N183,\"\")","v":""},{"$f":"IF(NOT(ISBLANK(PROGRAMACION!O183)),PROGRAMACION!O183,\"\")","v":""}]
[{"$f":"IF(NOT(ISBLANK(PROGRAMACION!A184)),PROGRAMACION!A184,\"\")","v":""},{"$f":"IF(NOT(ISBLANK(PROGRAMACION!B184)),PROGRAMACION!B184,\"\")","v":""},{"$f":"IF(NOT(ISBLANK(PROGRAMACION!C184)),PROGRAMACION!C184,\"\")","v":""},null,{"$f":"IF(NOT(ISBLANK(PROGRAMACION!E184)),PROGRAMACION!E184,\"\")","v":""},null,{"$f":"IF(NOT(ISBLANK(PROGRAMACION!G184)),PROGRAMACION!G184,\"\")","v":""},{"$f":"IF(NOT(ISBLANK(PROGRAMACION!H184)),PROGRAMACION!H184,\"\")","v":""},{"$f":"IF(NOT(ISBLANK(PROGRAMACION!I184)),PROGRAMACION!I184,\"\")","v":""},{"$f":"IF(NOT(ISBLANK(PROGRAMACION!J184)),IF(PROGRAMACION!I184=\"Transformador\",MID(PROGRAMACION!J184,1,2),PROGRAMACION!J184),\"\")","v":""},{"$f":"IF(NOT(ISBLANK(PROGRAMACION!K184)),PROGRAMACION!K184,\"\")","v":""},{"$f":"IF(NOT(ISBLANK(PROGRAMACION!L184)),PROGRAMACION!L184,\"\")","v":""},{"$f":"IF(NOT(ISBLANK(PROGRAMACION!M184)),PROGRAMACION!M184,\"\")","v":""},{"$f":"IF(NOT(ISBLANK(PROGRAMACION!N184)),PROGRAMACION!N184,\"\")","v":""},{"$f":"IF(NOT(ISBLANK(PROGRAMACION!O184)),PROGRAMACION!O184,\"\")","v":""}]
[{"$f":"IF(NOT(ISBLANK(PROGRAMACION!A185)),PROGRAMACION!A185,\"\")","v":""},{"$f":"IF(NOT(ISBLANK(PROGRAMACION!B185)),PROGRAMACION!B185,\"\")","v":""},{"$f":"IF(NOT(ISBLANK(PROGRAMACION!C185)),PROGRAMACION!C185,\"\")","v":""},null,{"$f":"IF(NOT(ISBLANK(PROGRAMACION!E185)),PROGRAMACION!E185,\"\")","v":""},null,{"$f":"IF(NOT(ISBLANK(PROGRAMACION!G185)),PROGRAMACION!G185,\"\")","v":""},{"$f":"IF(NOT(ISBLANK(PROGRAMACION!H185)),PROGRAMACION!H185,\"\")","v":""},{"$f":"IF(NOT(ISBLANK(PROGRAMACION!I185)),PROGRAMACION!I185,\"\")","v":""},{"$f":"IF(NOT(ISBLANK(PROGRAMACION!J185)),IF(PROGRAMACION!I185=\"Transformador\",MID(PROGRAMACION!J185,1,2),PROGRAMACION!J185),\"\")","v":""},{"$f":"IF(NOT(ISBLANK(PROGRAMACION!K185)),PROGRAMACION!K185,\"\")","v":""},{"$f":"IF(NOT(ISBLANK(PROGRAMACION!L185)),PROGRAMACION!L185,\"\")","v":""},{"$f":"IF(NOT(ISBLANK(PROGRAMACION!M185)),PROGRAMACION!M185,\"\")","v":""},{"$f":"IF(NOT(ISBLANK(PROGRAMACION!N185)),PROGRAMACION!N185,\"\")","v":""},{"$f":"IF(NOT(ISBLANK(PROGRAMACION!O185)),PROGRAMACION!O185,\"\")","v":""}]
[{"$f":"IF(NOT(ISBLANK(PROGRAMACION!A186)),PROGRAMACION!A186,\"\")","v":""},{"$f":"IF(NOT(ISBLANK(PROGRAMACION!B186)),PROGRAMACION!B186,\"\")","v":""},{"$f":"IF(NOT(ISBLANK(PROGRAMACION!C186)),PROGRAMACION!C186,\"\")","v":""},null,{"$f":"IF(NOT(ISBLANK(PROGRAMACION!E186)),PROGRAMACION!E186,\"\")","v":""},null,{"$f":"IF(NOT(ISBLANK(PROGRAMACION!G186)),PROGRAMACION!G186,\"\")","v":""},{"$f":"IF(NOT(ISBLANK(PROGRAMACION!H186)),PROGRAMACION!H186,\"\")","v":""},{"$f":"IF(NOT(ISBLANK(PROGRAMACION!I186)),PROGRAMACION!I186,\"\")","v":""},{"$f":"IF(NOT(ISBLANK(PROGRAMACION!J186)),IF(PROGRAMACION!I186=\"Transformador\",MID(PROGRAMACION!J186,1,2),PROGRAMACION!J186),\"\")","v":""},{"$f":"IF(NOT(ISBLANK(PROGRAMACION!K186)),PROGRAMACION!K186,\"\")","v":""},{"$f":"IF(NOT(ISBLANK(PROGRAMACION!L186)),PROGRAMACION!L186,\"\")","v":""},{"$f":"IF(NOT(ISBLANK(PROGRAMACION!M186)),PROGRAMACION!M186,\"\")","v":""},{"$f":"IF(NOT(ISBLANK(PROGRAMACION!N186)),PROGRAMACION!N186,\"\")","v":""},{"$f":"IF(NOT(ISBLANK(PROGRAMACION!O186)),PROGRAMACION!O186,\"\")","v":""}]
[{"$f":"IF(NOT(ISBLANK(PROGRAMACION!A187)),PROGRAMACION!A187,\"\")","v":""},{"$f":"IF(NOT(ISBLANK(PROGRAMACION!B187)),PROGRAMACION!B187,\"\")","v":""},{"$f":"IF(NOT(ISBLANK(PROGRAMACION!C187)),PROGRAMACION!C187,\"\")","v":""},null,{"$f":"IF(NOT(ISBLANK(PROGRAMACION!E187)),PROGRAMACION!E187,\"\")","v":""},null,{"$f":"IF(NOT(ISBLANK(PROGRAMACION!G187)),PROGRAMACION!G187,\"\")","v":""},{"$f":"IF(NOT(ISBLANK(PROGRAMACION!H187)),PROGRAMACION!H187,\"\")","v":""},{"$f":"IF(NOT(ISBLANK(PROGRAMACION!I187)),PROGRAMACION!I187,\"\")","v":""},{"$f":"IF(NOT(ISBLANK(PROGRAMACION!J187)),IF(PROGRAMACION!I187=\"Transformador\",MID(PROGRAMACION!J187,1,2),PROGRAMACION!J187),\"\")","v":""},{"$f":"IF(NOT(ISBLANK(PROGRAMACION!K187)),PROGRAMACION!K187,\"\")","v":""},{"$f":"IF(NOT(ISBLANK(PROGRAMACION!L187)),PROGRAMACION!L187,\"\")","v":""},{"$f":"IF(NOT(ISBLANK(PROGRAMACION!M187)),PROGRAMACION!M187,\"\")","v":""},{"$f":"IF(NOT(ISBLANK(PROGRAMACION!N187)),PROGRAMACION!N187,\"\")","v":""},{"$f":"IF(NOT(ISBLANK(PROGRAMACION!O187)),PROGRAMACION!O187,\"\")","v":""}]
[{"$f":"IF(NOT(ISBLANK(PROGRAMACION!A188)),PROGRAMACION!A188,\"\")","v":""},{"$f":"IF(NOT(ISBLANK(PROGRAMACION!B188)),PROGRAMACION!B188,\"\")","v":""},{"$f":"IF(NOT(ISBLANK(PROGRAMACION!C188)),PROGRAMACION!C188,\"\")","v":""},null,{"$f":"IF(NOT(ISBLANK(PROGRAMACION!E188)),PROGRAMACION!E188,\"\")","v":""},null,{"$f":"IF(NOT(ISBLANK(PROGRAMACION!G188)),PROGRAMACION!G188,\"\")","v":""},{"$f":"IF(NOT(ISBLANK(PROGRAMACION!H188)),PROGRAMACION!H188,\"\")","v":""},{"$f":"IF(NOT(ISBLANK(PROGRAMACION!I188)),PROGRAMACION!I188,\"\")","v":""},{"$f":"IF(NOT(ISBLANK(PROGRAMACION!J188)),IF(PROGRAMACION!I188=\"Transformador\",MID(PROGRAMACION!J188,1,2),PROGRAMACION!J188),\"\")","v":""},{"$f":"IF(NOT(ISBLANK(PROGRAMACION!K188)),PROGRAMACION!K188,\"\")","v":""},{"$f":"IF(NOT(ISBLANK(PROGRAMACION!L188)),PROGRAMACION!L188,\"\")","v":""},{"$f":"IF(NOT(ISBLANK(PROGRAMACION!M188)),PROGRAMACION!M188,\"\")","v":""},{"$f":"IF(NOT(ISBLANK(PROGRAMACION!N188)),PROGRAMACION!N188,\"\")","v":""},{"$f":"IF(NOT(ISBLANK(PROGRAMACION!O188)),PROGRAMACION!O188,\"\")","v":""}]
[{"$f":"IF(NOT(ISBLANK(PROGRAMACION!A189)),PROGRAMACION!A189,\"\")","v":""},{"$f":"IF(NOT(ISBLANK(PROGRAMACION!B189)),PROGRAMACION!B189,\"\")","v":""},{"$f":"IF(NOT(ISBLANK(PROGRAMACION!C189)),PROGRAMACION!C189,\"\")","v":""},null,{"$f":"IF(NOT(ISBLANK(PROGRAMACION!E189)),PROGRAMACION!E189,\"\")","v":""},null,{"$f":"IF(NOT(ISBLANK(PROGRAMACION!G189)),PROGRAMACION!G189,\"\")","v":""},{"$f":"IF(NOT(ISBLANK(PROGRAMACION!H189)),PROGRAMACION!H189,\"\")","v":""},{"$f":"IF(NOT(ISBLANK(PROGRAMACION!I189)),PROGRAMACION!I189,\"\")","v":""},{"$f":"IF(NOT(ISBLANK(PROGRAMACION!J189)),IF(PROGRAMACION!I189=\"Transformador\",MID(PROGRAMACION!J189,1,2),PROGRAMACION!J189),\"\")","v":""},{"$f":"IF(NOT(ISBLANK(PROGRAMACION!K189)),PROGRAMACION!K189,\"\")","v":""},{"$f":"IF(NOT(ISBLANK(PROGRAMACION!L189)),PROGRAMACION!L189,\"\")","v":""},{"$f":"IF(NOT(ISBLANK(PROGRAMACION!M189)),PROGRAMACION!M189,\"\")","v":""},{"$f":"IF(NOT(ISBLANK(PROGRAMACION!N189)),PROGRAMACION!N189,\"\")","v":""},{"$f":"IF(NOT(ISBLANK(PROGRAMACION!O189)),PROGRAMACION!O189,\"\")","v":""}]
[{"$f":"IF(NOT(ISBLANK(PROGRAMACION!A190)),PROGRAMACION!A190,\"\")","v":""},{"$f":"IF(NOT(ISBLANK(PROGRAMACION!B190)),PROGRAMACION!B190,\"\")","v":""},{"$f":"IF(NOT(ISBLANK(PROGRAMACION!C190)),PROGRAMACION!C190,\"\")","v":""},null,{"$f":"IF(NOT(ISBLANK(PROGRAMACION!E190)),PROGRAMACION!E190,\"\")","v":""},null,{"$f":"IF(NOT(ISBLANK(PROGRAMACION!G190)),PROGRAMACION!G190,\"\")","v":""},{"$f":"IF(NOT(ISBLANK(PROGRAMACION!H190)),PROGRAMACION!H190,\"\")","v":""},{"$f":"IF(NOT(ISBLANK(PROGRAMACION!I190)),PROGRAMACION!I190,\"\")","v":""},{"$f":"IF(NOT(ISBLANK(PROGRAMACION!J190)),IF(PROGRAMACION!I190=\"Transformador\",MID(PROGRAMACION!J190,1,2),PROGRAMACION!J190),\"\")","v":""},{"$f":"IF(NOT(ISBLANK(PROGRAMACION!K190)),PROGRAMACION!K190,\"\")","v":""},{"$f":"IF(NOT(ISBLANK(PROGRAMACION!L190)),PROGRAMACION!L190,\"\")","v":""},{"$f":"IF(NOT(ISBLANK(PROGRAMACION!M190)),PROGRAMACION!M190,\"\")","v":""},{"$f":"IF(NOT(ISBLANK(PROGRAMACION!N190)),PROGRAMACION!N190,\"\")","v":""},{"$f":"IF(NOT(ISBLANK(PROGRAMACION!O190)),PROGRAMACION!O190,\"\")","v":""}]
[{"$f":"IF(NOT(ISBLANK(PROGRAMACION!A191)),PROGRAMACION!A191,\"\")","v":""},{"$f":"IF(NOT(ISBLANK(PROGRAMACION!B191)),PROGRAMACION!B191,\"\")","v":""},{"$f":"IF(NOT(ISBLANK(PROGRAMACION!C191)),PROGRAMACION!C191,\"\")","v":""},null,{"$f":"IF(NOT(ISBLANK(PROGRAMACION!E191)),PROGRAMACION!E191,\"\")","v":""},null,{"$f":"IF(NOT(ISBLANK(PROGRAMACION!G191)),PROGRAMACION!G191,\"\")","v":""},{"$f":"IF(NOT(ISBLANK(PROGRAMACION!H191)),PROGRAMACION!H191,\"\")","v":""},{"$f":"IF(NOT(ISBLANK(PROGRAMACION!I191)),PROGRAMACION!I191,\"\")","v":""},{"$f":"IF(NOT(ISBLANK(PROGRAMACION!J191)),IF(PROGRAMACION!I191=\"Transformador\",MID(PROGRAMACION!J191,1,2),PROGRAMACION!J191),\"\")","v":""},{"$f":"IF(NOT(ISBLANK(PROGRAMACION!K191)),PROGRAMACION!K191,\"\")","v":""},{"$f":"IF(NOT(ISBLANK(PROGRAMACION!L191)),PROGRAMACION!L191,\"\")","v":""},{"$f":"IF(NOT(ISBLANK(PROGRAMACION!M191)),PROGRAMACION!M191,\"\")","v":""},{"$f":"IF(NOT(ISBLANK(PROGRAMACION!N191)),PROGRAMACION!N191,\"\")","v":""},{"$f":"IF(NOT(ISBLANK(PROGRAMACION!O191)),PROGRAMACION!O191,\"\")","v":""}]
[{"$f":"IF(NOT(ISBLANK(PROGRAMACION!A192)),PROGRAMACION!A192,\"\")","v":""},{"$f":"IF(NOT(ISBLANK(PROGRAMACION!B192)),PROGRAMACION!B192,\"\")","v":""},{"$f":"IF(NOT(ISBLANK(PROGRAMACION!C192)),PROGRAMACION!C192,\"\")","v":""},null,{"$f":"IF(NOT(ISBLANK(PROGRAMACION!E192)),PROGRAMACION!E192,\"\")","v":""},null,{"$f":"IF(NOT(ISBLANK(PROGRAMACION!G192)),PROGRAMACION!G192,\"\")","v":""},{"$f":"IF(NOT(ISBLANK(PROGRAMACION!H192)),PROGRAMACION!H192,\"\")","v":""},{"$f":"IF(NOT(ISBLANK(PROGRAMACION!I192)),PROGRAMACION!I192,\"\")","v":""},{"$f":"IF(NOT(ISBLANK(PROGRAMACION!J192)),IF(PROGRAMACION!I192=\"Transformador\",MID(PROGRAMACION!J192,1,2),PROGRAMACION!J192),\"\")","v":""},{"$f":"IF(NOT(ISBLANK(PROGRAMACION!K192)),PROGRAMACION!K192,\"\")","v":""},{"$f":"IF(NOT(ISBLANK(PROGRAMACION!L192)),PROGRAMACION!L192,\"\")","v":""},{"$f":"IF(NOT(ISBLANK(PROGRAMACION!M192)),PROGRAMACION!M192,\"\")","v":""},{"$f":"IF(NOT(ISBLANK(PROGRAMACION!N192)),PROGRAMACION!N192,\"\")","v":""},{"$f":"IF(NOT(ISBLANK(PROGRAMACION!O192)),PROGRAMACION!O192,\"\")","v":""}]
[{"$f":"IF(NOT(ISBLANK(PROGRAMACION!A193)),PROGRAMACION!A193,\"\")","v":""},{"$f":"IF(NOT(ISBLANK(PROGRAMACION!B193)),PROGRAMACION!B193,\"\")","v":""},{"$f":"IF(NOT(ISBLANK(PROGRAMACION!C193)),PROGRAMACION!C193,\"\")","v":""},null,{"$f":"IF(NOT(ISBLANK(PROGRAMACION!E193)),PROGRAMACION!E193,\"\")","v":""},null,{"$f":"IF(NOT(ISBLANK(PROGRAMACION!G193)),PROGRAMACION!G193,\"\")","v":""},{"$f":"IF(NOT(ISBLANK(PROGRAMACION!H193)),PROGRAMACION!H193,\"\")","v":""},{"$f":"IF(NOT(ISBLANK(PROGRAMACION!I193)),PROGRAMACION!I193,\"\")","v":""},{"$f":"IF(NOT(ISBLANK(PROGRAMACION!J193)),IF(PROGRAMACION!I193=\"Transformador\",MID(PROGRAMACION!J193,1,2),PROGRAMACION!J193),\"\")","v":""},{"$f":"IF(NOT(ISBLANK(PROGRAMACION!K193)),PROGRAMACION!K193,\"\")","v":""},{"$f":"IF(NOT(ISBLANK(PROGRAMACION!L193)),PROGRAMACION!L193,\"\")","v":""},{"$f":"IF(NOT(ISBLANK(PROGRAMACION!M193)),PROGRAMACION!M193,\"\")","v":""},{"$f":"IF(NOT(ISBLANK(PROGRAMACION!N193)),PROGRAMACION!N193,\"\")","v":""},{"$f":"IF(NOT(ISBLANK(PROGRAMACION!O193)),PROGRAMACION!O193,\"\")","v":""}]
[{"$f":"IF(NOT(ISBLANK(PROGRAMACION!A194)),PROGRAMACION!A194,\"\")","v":""},{"$f":"IF(NOT(ISBLANK(PROGRAMACION!B194)),PROGRAMACION!B194,\"\")","v":""},{"$f":"IF(NOT(ISBLANK(PROGRAMACION!C194)),PROGRAMACION!C194,\"\")","v":""},null,{"$f":"IF(NOT(ISBLANK(PROGRAMACION!E194)),PROGRAMACION!E194,\"\")","v":""},null,{"$f":"IF(NOT(ISBLANK(PROGRAMACION!G194)),PROGRAMACION!G194,\"\")","v":""},{"$f":"IF(NOT(ISBLANK(PROGRAMACION!H194)),PROGRAMACION!H194,\"\")","v":""},{"$f":"IF(NOT(ISBLANK(PROGRAMACION!I194)),PROGRAMACION!I194,\"\")","v":""},{"$f":"IF(NOT(ISBLANK(PROGRAMACION!J194)),IF(PROGRAMACION!I194=\"Transformador\",MID(PROGRAMACION!J194,1,2),PROGRAMACION!J194),\"\")","v":""},{"$f":"IF(NOT(ISBLANK(PROGRAMACION!K194)),PROGRAMACION!K194,\"\")","v":""},{"$f":"IF(NOT(ISBLANK(PROGRAMACION!L194)),PROGRAMACION!L194,\"\")","v":""},{"$f":"IF(NOT(ISBLANK(PROGRAMACION!M194)),PROGRAMACION!M194,\"\")","v":""},{"$f":"IF(NOT(ISBLANK(PROGRAMACION!N194)),PROGRAMACION!N194,\"\")","v":""},{"$f":"IF(NOT(ISBLANK(PROGRAMACION!O194)),PROGRAMACION!O194,\"\")","v":""}]
[{"$f":"IF(NOT(ISBLANK(PROGRAMACION!A195)),PROGRAMACION!A195,\"\")","v":""},{"$f":"IF(NOT(ISBLANK(PROGRAMACION!B195)),PROGRAMACION!B195,\"\")","v":""},{"$f":"IF(NOT(ISBLANK(PROGRAMACION!C195)),PROGRAMACION!C195,\"\")","v":""},null,{"$f":"IF(NOT(ISBLANK(PROGRAMACION!E195)),PROGRAMACION!E195,\"\")","v":""},null,{"$f":"IF(NOT(ISBLANK(PROGRAMACION!G195)),PROGRAMACION!G195,\"\")","v":""},{"$f":"IF(NOT(ISBLANK(PROGRAMACION!H195)),PROGRAMACION!H195,\"\")","v":""},{"$f":"IF(NOT(ISBLANK(PROGRAMACION!I195)),PROGRAMACION!I195,\"\")","v":""},{"$f":"IF(NOT(ISBLANK(PROGRAMACION!J195)),IF(PROGRAMACION!I195=\"Transformador\",MID(PROGRAMACION!J195,1,2),PROGRAMACION!J195),\"\")","v":""},{"$f":"IF(NOT(ISBLANK(PROGRAMACION!K195)),PROGRAMACION!K195,\"\")","v":""},{"$f":"IF(NOT(ISBLANK(PROGRAMACION!L195)),PROGRAMACION!L195,\"\")","v":""},{"$f":"IF(NOT(ISBLANK(PROGRAMACION!M195)),PROGRAMACION!M195,\"\")","v":""},{"$f":"IF(NOT(ISBLANK(PROGRAMACION!N195)),PROGRAMACION!N195,\"\")","v":""},{"$f":"IF(NOT(ISBLANK(PROGRAMACION!O195)),PROGRAMACION!O195,\"\")","v":""}]
[{"$f":"IF(NOT(ISBLANK(PROGRAMACION!A196)),PROGRAMACION!A196,\"\")","v":""},{"$f":"IF(NOT(ISBLANK(PROGRAMACION!B196)),PROGRAMACION!B196,\"\")","v":""},{"$f":"IF(NOT(ISBLANK(PROGRAMACION!C196)),PROGRAMACION!C196,\"\")","v":""},null,{"$f":"IF(NOT(ISBLANK(PROGRAMACION!E196)),PROGRAMACION!E196,\"\")","v":""},null,{"$f":"IF(NOT(ISBLANK(PROGRAMACION!G196)),PROGRAMACION!G196,\"\")","v":""},{"$f":"IF(NOT(ISBLANK(PROGRAMACION!H196)),PROGRAMACION!H196,\"\")","v":""},{"$f":"IF(NOT(ISBLANK(PROGRAMACION!I196)),PROGRAMACION!I196,\"\")","v":""},{"$f":"IF(NOT(ISBLANK(PROGRAMACION!J196)),IF(PROGRAMACION!I196=\"Transformador\",MID(PROGRAMACION!J196,1,2),PROGRAMACION!J196),\"\")","v":""},{"$f":"IF(NOT(ISBLANK(PROGRAMACION!K196)),PROGRAMACION!K196,\"\")","v":""},{"$f":"IF(NOT(ISBLANK(PROGRAMACION!L196)),PROGRAMACION!L196,\"\")","v":""},{"$f":"IF(NOT(ISBLANK(PROGRAMACION!M196)),PROGRAMACION!M196,\"\")","v":""},{"$f":"IF(NOT(ISBLANK(PROGRAMACION!N196)),PROGRAMACION!N196,\"\")","v":""},{"$f":"IF(NOT(ISBLANK(PROGRAMACION!O196)),PROGRAMACION!O196,\"\")","v":""}]
[{"$f":"IF(NOT(ISBLANK(PROGRAMACION!A197)),PROGRAMACION!A197,\"\")","v":""},{"$f":"IF(NOT(ISBLANK(PROGRAMACION!B197)),PROGRAMACION!B197,\"\")","v":""},{"$f":"IF(NOT(ISBLANK(PROGRAMACION!C197)),PROGRAMACION!C197,\"\")","v":""},null,{"$f":"IF(NOT(ISBLANK(PROGRAMACION!E197)),PROGRAMACION!E197,\"\")","v":""},null,{"$f":"IF(NOT(ISBLANK(PROGRAMACION!G197)),PROGRAMACION!G197,\"\")","v":""},{"$f":"IF(NOT(ISBLANK(PROGRAMACION!H197)),PROGRAMACION!H197,\"\")","v":""},{"$f":"IF(NOT(ISBLANK(PROGRAMACION!I197)),PROGRAMACION!I197,\"\")","v":""},{"$f":"IF(NOT(ISBLANK(PROGRAMACION!J197)),IF(PROGRAMACION!I197=\"Transformador\",MID(PROGRAMACION!J197,1,2),PROGRAMACION!J197),\"\")","v":""},{"$f":"IF(NOT(ISBLANK(PROGRAMACION!K197)),PROGRAMACION!K197,\"\")","v":""},{"$f":"IF(NOT(ISBLANK(PROGRAMACION!L197)),PROGRAMACION!L197,\"\")","v":""},{"$f":"IF(NOT(ISBLANK(PROGRAMACION!M197)),PROGRAMACION!M197,\"\")","v":""},{"$f":"IF(NOT(ISBLANK(PROGRAMACION!N197)),PROGRAMACION!N197,\"\")","v":""},{"$f":"IF(NOT(ISBLANK(PROGRAMACION!O197)),PROGRAMACION!O197,\"\")","v":""}]
[{"$f":"IF(NOT(ISBLANK(PROGRAMACION!A198)),PROGRAMACION!A198,\"\")","v":""},{"$f":"IF(NOT(ISBLANK(PROGRAMACION!B198)),PROGRAMACION!B198,\"\")","v":""},{"$f":"IF(NOT(ISBLANK(PROGRAMACION!C198)),PROGRAMACION!C198,\"\")","v":""},null,{"$f":"IF(NOT(ISBLANK(PROGRAMACION!E198)),PROGRAMACION!E198,\"\")","v":""},null,{"$f":"IF(NOT(ISBLANK(PROGRAMACION!G198)),PROGRAMACION!G198,\"\")","v":""},{"$f":"IF(NOT(ISBLANK(PROGRAMACION!H198)),PROGRAMACION!H198,\"\")","v":""},{"$f":"IF(NOT(ISBLANK(PROGRAMACION!I198)),PROGRAMACION!I198,\"\")","v":""},{"$f":"IF(NOT(ISBLANK(PROGRAMACION!J198)),IF(PROGRAMACION!I198=\"Transformador\",MID(PROGRAMACION!J198,1,2),PROGRAMACION!J198),\"\")","v":""},{"$f":"IF(NOT(ISBLANK(PROGRAMACION!K198)),PROGRAMACION!K198,\"\")","v":""},{"$f":"IF(NOT(ISBLANK(PROGRAMACION!L198)),PROGRAMACION!L198,\"\")","v":""},{"$f":"IF(NOT(ISBLANK(PROGRAMACION!M198)),PROGRAMACION!M198,\"\")","v":""},{"$f":"IF(NOT(ISBLANK(PROGRAMACION!N198)),PROGRAMACION!N198,\"\")","v":""},{"$f":"IF(NOT(ISBLANK(PROGRAMACION!O198)),PROGRAMACION!O198,\"\")","v":""}]
[{"$f":"IF(NOT(ISBLANK(PROGRAMACION!A199)),PROGRAMACION!A199,\"\")","v":""},{"$f":"IF(NOT(ISBLANK(PROGRAMACION!B199)),PROGRAMACION!B199,\"\")","v":""},{"$f":"IF(NOT(ISBLANK(PROGRAMACION!C199)),PROGRAMACION!C199,\"\")","v":""},null,{"$f":"IF(NOT(ISBLANK(PROGRAMACION!E199)),PROGRAMACION!E199,\"\")","v":""},null,{"$f":"IF(NOT(ISBLANK(PROGRAMACION!G199)),PROGRAMACION!G199,\"\")","v":""},{"$f":"IF(NOT(ISBLANK(PROGRAMACION!H199)),PROGRAMACION!H199,\"\")","v":""},{"$f":"IF(NOT(ISBLANK(PROGRAMACION!I199)),PROGRAMACION!I199,\"\")","v":""},{"$f":"IF(NOT(ISBLANK(PROGRAMACION!J199)),IF(PROGRAMACION!I199=\"Transformador\",MID(PROGRAMACION!J199,1,2),PROGRAMACION!J199),\"\")","v":""},{"$f":"IF(NOT(ISBLANK(PROGRAMACION!K199)),PROGRAMACION!K199,\"\")","v":""},{"$f":"IF(NOT(ISBLANK(PROGRAMACION!L199)),PROGRAMACION!L199,\"\")","v":""},{"$f":"IF(NOT(ISBLANK(PROGRAMACION!M199)),PROGRAMACION!M199,\"\")","v":""},{"$f":"IF(NOT(ISBLANK(PROGRAMACION!N199)),PROGRAMACION!N199,\"\")","v":""},{"$f":"IF(NOT(ISBLANK(PROGRAMACION!O199)),PROGRAMACION!O199,\"\")","v":""}]
[{"$f":"IF(NOT(ISBLANK(PROGRAMACION!A200)),PROGRAMACION!A200,\"\")","v":""},{"$f":"IF(NOT(ISBLANK(PROGRAMACION!B200)),PROGRAMACION!B200,\"\")","v":""},{"$f":"IF(NOT(ISBLANK(PROGRAMACION!C200)),PROGRAMACION!C200,\"\")","v":""},null,{"$f":"IF(NOT(ISBLANK(PROGRAMACION!E200)),PROGRAMACION!E200,\"\")","v":""},null,{"$f":"IF(NOT(ISBLANK(PROGRAMACION!G200)),PROGRAMACION!G200,\"\")","v":""},{"$f":"IF(NOT(ISBLANK(PROGRAMACION!H200)),PROGRAMACION!H200,\"\")","v":""},{"$f":"IF(NOT(ISBLANK(PROGRAMACION!I200)),PROGRAMACION!I200,\"\")","v":""},{"$f":"IF(NOT(ISBLANK(PROGRAMACION!J200)),IF(PROGRAMACION!I200=\"Transformador\",MID(PROGRAMACION!J200,1,2),PROGRAMACION!J200),\"\")","v":""},{"$f":"IF(NOT(ISBLANK(PROGRAMACION!K200)),PROGRAMACION!K200,\"\")","v":""},{"$f":"IF(NOT(ISBLANK(PROGRAMACION!L200)),PROGRAMACION!L200,\"\")","v":""},{"$f":"IF(NOT(ISBLANK(PROGRAMACION!M200)),PROGRAMACION!M200,\"\")","v":""},{"$f":"IF(NOT(ISBLANK(PROGRAMACION!N200)),PROGRAMACION!N200,\"\")","v":""},{"$f":"IF(NOT(ISBLANK(PROGRAMACION!O200)),PROGRAMACION!O200,\"\")","v":""}]
[{"$f":"IF(NOT(ISBLANK(PROGRAMACION!A201)),PROGRAMACION!A201,\"\")","v":""},{"$f":"IF(NOT(ISBLANK(PROGRAMACION!B201)),PROGRAMACION!B201,\"\")","v":""},{"$f":"IF(NOT(ISBLANK(PROGRAMACION!C201)),PROGRAMACION!C201,\"\")","v":""},null,{"$f":"IF(NOT(ISBLANK(PROGRAMACION!E201)),PROGRAMACION!E201,\"\")","v":""},null,{"$f":"IF(NOT(ISBLANK(PROGRAMACION!G201)),PROGRAMACION!G201,\"\")","v":""},{"$f":"IF(NOT(ISBLANK(PROGRAMACION!H201)),PROGRAMACION!H201,\"\")","v":""},{"$f":"IF(NOT(ISBLANK(PROGRAMACION!I201)),PROGRAMACION!I201,\"\")","v":""},{"$f":"IF(NOT(ISBLANK(PROGRAMACION!J201)),IF(PROGRAMACION!I201=\"Transformador\",MID(PROGRAMACION!J201,1,2),PROGRAMACION!J201),\"\")","v":""},{"$f":"IF(NOT(ISBLANK(PROGRAMACION!K201)),PROGRAMACION!K201,\"\")","v":""},{"$f":"IF(NOT(ISBLANK(PROGRAMACION!L201)),PROGRAMACION!L201,\"\")","v":""},{"$f":"IF(NOT(ISBLANK(PROGRAMACION!M201)),PROGRAMACION!M201,\"\")","v":""},{"$f":"IF(NOT(ISBLANK(PROGRAMACION!N201)),PROGRAMACION!N201,\"\")","v":""},{"$f":"IF(NOT(ISBLANK(PROGRAMACION!O201)),PROGRAMACION!O201,\"\")","v":""}]
[{"$f":"IF(NOT(ISBLANK(PROGRAMACION!A202)),PROGRAMACION!A202,\"\")","v":""},{"$f":"IF(NOT(ISBLANK(PROGRAMACION!B202)),PROGRAMACION!B202,\"\")","v":""},{"$f":"IF(NOT(ISBLANK(PROGRAMACION!C202)),PROGRAMACION!C202,\"\")","v":""},null,{"$f":"IF(NOT(ISBLANK(PROGRAMACION!E202)),PROGRAMACION!E202,\"\")","v":""},null,{"$f":"IF(NOT(ISBLANK(PROGRAMACION!G202)),PROGRAMACION!G202,\"\")","v":""},{"$f":"IF(NOT(ISBLANK(PROGRAMACION!H202)),PROGRAMACION!H202,\"\")","v":""},{"$f":"IF(NOT(ISBLANK(PROGRAMACION!I202)),PROGRAMACION!I202,\"\")","v":""},{"$f":"IF(NOT(ISBLANK(PROGRAMACION!J202)),IF(PROGRAMACION!I202=\"Transformador\",MID(PROGRAMACION!J202,1,2),PROGRAMACION!J202),\"\")","v":""},{"$f":"IF(NOT(ISBLANK(PROGRAMACION!K202)),PROGRAMACION!K202,\"\")","v":""},{"$f":"IF(NOT(ISBLANK(PROGRAMACION!L202)),PROGRAMACION!L202,\"\")","v":""},{"$f":"IF(NOT(ISBLANK(PROGRAMACION!M202)),PROGRAMACION!M202,\"\")","v":""},{"$f":"IF(NOT(ISBLANK(PROGRAMACION!N202)),PROGRAMACION!N202,\"\")","v":""},{"$f":"IF(NOT(ISBLANK(PROGRAMACION!O202)),PROGRAMACION!O202,\"\")","v":""}]
[{"$f":"IF(NOT(ISBLANK(PROGRAMACION!A203)),PROGRAMACION!A203,\"\")","v":""},{"$f":"IF(NOT(ISBLANK(PROGRAMACION!B203)),PROGRAMACION!B203,\"\")","v":""},{"$f":"IF(NOT(ISBLANK(PROGRAMACION!C203)),PROGRAMACION!C203,\"\")","v":""},null,{"$f":"IF(NOT(ISBLANK(PROGRAMACION!E203)),PROGRAMACION!E203,\"\")","v":""},null,{"$f":"IF(NOT(ISBLANK(PROGRAMACION!G203)),PROGRAMACION!G203,\"\")","v":""},{"$f":"IF(NOT(ISBLANK(PROGRAMACION!H203)),PROGRAMACION!H203,\"\")","v":""},{"$f":"IF(NOT(ISBLANK(PROGRAMACION!I203)),PROGRAMACION!I203,\"\")","v":""},{"$f":"IF(NOT(ISBLANK(PROGRAMACION!J203)),IF(PROGRAMACION!I203=\"Transformador\",MID(PROGRAMACION!J203,1,2),PROGRAMACION!J203),\"\")","v":""},{"$f":"IF(NOT(ISBLANK(PROGRAMACION!K203)),PROGRAMACION!K203,\"\")","v":""},{"$f":"IF(NOT(ISBLANK(PROGRAMACION!L203)),PROGRAMACION!L203,\"\")","v":""},{"$f":"IF(NOT(ISBLANK(PROGRAMACION!M203)),PROGRAMACION!M203,\"\")","v":""},{"$f":"IF(NOT(ISBLANK(PROGRAMACION!N203)),PROGRAMACION!N203,\"\")","v":""},{"$f":"IF(NOT(ISBLANK(PROGRAMACION!O203)),PROGRAMACION!O203,\"\")","v":""}]
[{"$f":"IF(NOT(ISBLANK(PROGRAMACION!A204)),PROGRAMACION!A204,\"\")","v":""},{"$f":"IF(NOT(ISBLANK(PROGRAMACION!B204)),PROGRAMACION!B204,\"\")","v":""},{"$f":"IF(NOT(ISBLANK(PROGRAMACION!C204)),PROGRAMACION!C204,\"\")","v":""},null,{"$f":"IF(NOT(ISBLANK(PROGRAMACION!E204)),PROGRAMACION!E204,\"\")","v":""},null,{"$f":"IF(NOT(ISBLANK(PROGRAMACION!G204)),PROGRAMACION!G204,\"\")","v":""},{"$f":"IF(NOT(ISBLANK(PROGRAMACION!H204)),PROGRAMACION!H204,\"\")","v":""},{"$f":"IF(NOT(ISBLANK(PROGRAMACION!I204)),PROGRAMACION!I204,\"\")","v":""},{"$f":"IF(NOT(ISBLANK(PROGRAMACION!J204)),IF(PROGRAMACION!I204=\"Transformador\",MID(PROGRAMACION!J204,1,2),PROGRAMACION!J204),\"\")","v":""},{"$f":"IF(NOT(ISBLANK(PROGRAMACION!K204)),PROGRAMACION!K204,\"\")","v":""},{"$f":"IF(NOT(ISBLANK(PROGRAMACION!L204)),PROGRAMACION!L204,\"\")","v":""},{"$f":"IF(NOT(ISBLANK(PROGRAMACION!M204)),PROGRAMACION!M204,\"\")","v":""},{"$f":"IF(NOT(ISBLANK(PROGRAMACION!N204)),PROGRAMACION!N204,\"\")","v":""},{"$f":"IF(NOT(ISBLANK(PROGRAMACION!O204)),PROGRAMACION!O204,\"\")","v":""}]
[{"$f":"IF(NOT(ISBLANK(PROGRAMACION!A205)),PROGRAMACION!A205,\"\")","v":""},{"$f":"IF(NOT(ISBLANK(PROGRAMACION!B205)),PROGRAMACION!B205,\"\")","v":""},{"$f":"IF(NOT(ISBLANK(PROGRAMACION!C205)),PROGRAMACION!C205,\"\")","v":""},null,{"$f":"IF(NOT(ISBLANK(PROGRAMACION!E205)),PROGRAMACION!E205,\"\")","v":""},null,{"$f":"IF(NOT(ISBLANK(PROGRAMACION!G205)),PROGRAMACION!G205,\"\")","v":""},{"$f":"IF(NOT(ISBLANK(PROGRAMACION!H205)),PROGRAMACION!H205,\"\")","v":""},{"$f":"IF(NOT(ISBLANK(PROGRAMACION!I205)),PROGRAMACION!I205,\"\")","v":""},{"$f":"IF(NOT(ISBLANK(PROGRAMACION!J205)),IF(PROGRAMACION!I205=\"Transformador\",MID(PROGRAMACION!J205,1,2),PROGRAMACION!J205),\"\")","v":""},{"$f":"IF(NOT(ISBLANK(PROGRAMACION!K205)),PROGRAMACION!K205,\"\")","v":""},{"$f":"IF(NOT(ISBLANK(PROGRAMACION!L205)),PROGRAMACION!L205,\"\")","v":""},{"$f":"IF(NOT(ISBLANK(PROGRAMACION!M205)),PROGRAMACION!M205,\"\")","v":""},{"$f":"IF(NOT(ISBLANK(PROGRAMACION!N205)),PROGRAMACION!N205,\"\")","v":""},{"$f":"IF(NOT(ISBLANK(PROGRAMACION!O205)),PROGRAMACION!O205,\"\")","v":""}]
[{"$f":"IF(NOT(ISBLANK(PROGRAMACION!A206)),PROGRAMACION!A206,\"\")","v":""},{"$f":"IF(NOT(ISBLANK(PROGRAMACION!B206)),PROGRAMACION!B206,\"\")","v":""},{"$f":"IF(NOT(ISBLANK(PROGRAMACION!C206)),PROGRAMACION!C206,\"\")","v":""},null,{"$f":"IF(NOT(ISBLANK(PROGRAMACION!E206)),PROGRAMACION!E206,\"\")","v":""},null,{"$f":"IF(NOT(ISBLANK(PROGRAMACION!G206)),PROGRAMACION!G206,\"\")","v":""},{"$f":"IF(NOT(ISBLANK(PROGRAMACION!H206)),PROGRAMACION!H206,\"\")","v":""},{"$f":"IF(NOT(ISBLANK(PROGRAMACION!I206)),PROGRAMACION!I206,\"\")","v":""},{"$f":"IF(NOT(ISBLANK(PROGRAMACION!J206)),IF(PROGRAMACION!I206=\"Transformador\",MID(PROGRAMACION!J206,1,2),PROGRAMACION!J206),\"\")","v":""},{"$f":"IF(NOT(ISBLANK(PROGRAMACION!K206)),PROGRAMACION!K206,\"\")","v":""},{"$f":"IF(NOT(ISBLANK(PROGRAMACION!L206)),PROGRAMACION!L206,\"\")","v":""},{"$f":"IF(NOT(ISBLANK(PROGRAMACION!M206)),PROGRAMACION!M206,\"\")","v":""},{"$f":"IF(NOT(ISBLANK(PROGRAMACION!N206)),PROGRAMACION!N206,\"\")","v":""},{"$f":"IF(NOT(ISBLANK(PROGRAMACION!O206)),PROGRAMACION!O206,\"\")","v":""}]
[{"$f":"IF(NOT(ISBLANK(PROGRAMACION!A207)),PROGRAMACION!A207,\"\")","v":""},{"$f":"IF(NOT(ISBLANK(PROGRAMACION!B207)),PROGRAMACION!B207,\"\")","v":""},{"$f":"IF(NOT(ISBLANK(PROGRAMACION!C207)),PROGRAMACION!C207,\"\")","v":""},null,{"$f":"IF(NOT(ISBLANK(PROGRAMACION!E207)),PROGRAMACION!E207,\"\")","v":""},null,{"$f":"IF(NOT(ISBLANK(PROGRAMACION!G207)),PROGRAMACION!G207,\"\")","v":""},{"$f":"IF(NOT(ISBLANK(PROGRAMACION!H207)),PROGRAMACION!H207,\"\")","v":""},{"$f":"IF(NOT(ISBLANK(PROGRAMACION!I207)),PROGRAMACION!I207,\"\")","v":""},{"$f":"IF(NOT(ISBLANK(PROGRAMACION!J207)),IF(PROGRAMACION!I207=\"Transformador\",MID(PROGRAMACION!J207,1,2),PROGRAMACION!J207),\"\")","v":""},{"$f":"IF(NOT(ISBLANK(PROGRAMACION!K207)),PROGRAMACION!K207,\"\")","v":""},{"$f":"IF(NOT(ISBLANK(PROGRAMACION!L207)),PROGRAMACION!L207,\"\")","v":""},{"$f":"IF(NOT(ISBLANK(PROGRAMACION!M207)),PROGRAMACION!M207,\"\")","v":""},{"$f":"IF(NOT(ISBLANK(PROGRAMACION!N207)),PROGRAMACION!N207,\"\")","v":""},{"$f":"IF(NOT(ISBLANK(PROGRAMACION!O207)),PROGRAMACION!O207,\"\")","v":""}]
[{"$f":"IF(NOT(ISBLANK(PROGRAMACION!A208)),PROGRAMACION!A208,\"\")","v":""},{"$f":"IF(NOT(ISBLANK(PROGRAMACION!B208)),PROGRAMACION!B208,\"\")","v":""},{"$f":"IF(NOT(ISBLANK(PROGRAMACION!C208)),PROGRAMACION!C208,\"\")","v":""},null,{"$f":"IF(NOT(ISBLANK(PROGRAMACION!E208)),PROGRAMACION!E208,\"\")","v":""},null,{"$f":"IF(NOT(ISBLANK(PROGRAMACION!G208)),PROGRAMACION!G208,\"\")","v":""},{"$f":"IF(NOT(ISBLANK(PROGRAMACION!H208)),PROGRAMACION!H208,\"\")","v":""},{"$f":"IF(NOT(ISBLANK(PROGRAMACION!I208)),PROGRAMACION!I208,\"\")","v":""},{"$f":"IF(NOT(ISBLANK(PROGRAMACION!J208)),IF(PROGRAMACION!I208=\"Transformador\",MID(PROGRAMACION!J208,1,2),PROGRAMACION!J208),\"\")","v":""},{"$f":"IF(NOT(ISBLANK(PROGRAMACION!K208)),PROGRAMACION!K208,\"\")","v":""},{"$f":"IF(NOT(ISBLANK(PROGRAMACION!L208)),PROGRAMACION!L208,\"\")","v":""},{"$f":"IF(NOT(ISBLANK(PROGRAMACION!M208)),PROGRAMACION!M208,\"\")","v":""},{"$f":"IF(NOT(ISBLANK(PROGRAMACION!N208)),PROGRAMACION!N208,\"\")","v":""},{"$f":"IF(NOT(ISBLANK(PROGRAMACION!O208)),PROGRAMACION!O208,\"\")","v":""}]
[{"$f":"IF(NOT(ISBLANK(PROGRAMACION!A209)),PROGRAMACION!A209,\"\")","v":""},{"$f":"IF(NOT(ISBLANK(PROGRAMACION!B209)),PROGRAMACION!B209,\"\")","v":""},{"$f":"IF(NOT(ISBLANK(PROGRAMACION!C209)),PROGRAMACION!C209,\"\")","v":""},null,{"$f":"IF(NOT(ISBLANK(PROGRAMACION!E209)),PROGRAMACION!E209,\"\")","v":""},null,{"$f":"IF(NOT(ISBLANK(PROGRAMACION!G209)),PROGRAMACION!G209,\"\")","v":""},{"$f":"IF(NOT(ISBLANK(PROGRAMACION!H209)),PROGRAMACION!H209,\"\")","v":""},{"$f":"IF(NOT(ISBLANK(PROGRAMACION!I209)),PROGRAMACION!I209,\"\")","v":""},{"$f":"IF(NOT(ISBLANK(PROGRAMACION!J209)),IF(PROGRAMACION!I209=\"Transformador\",MID(PROGRAMACION!J209,1,2),PROGRAMACION!J209),\"\")","v":""},{"$f":"IF(NOT(ISBLANK(PROGRAMACION!K209)),PROGRAMACION!K209,\"\")","v":""},{"$f":"IF(NOT(ISBLANK(PROGRAMACION!L209)),PROGRAMACION!L209,\"\")","v":""},{"$f":"IF(NOT(ISBLANK(PROGRAMACION!M209)),PROGRAMACION!M209,\"\")","v":""},{"$f":"IF(NOT(ISBLANK(PROGRAMACION!N209)),PROGRAMACION!N209,\"\")","v":""},{"$f":"IF(NOT(ISBLANK(PROGRAMACION!O209)),PROGRAMACION!O209,\"\")","v":""}]
[{"$f":"IF(NOT(ISBLANK(PROGRAMACION!A210)),PROGRAMACION!A210,\"\")","v":""},{"$f":"IF(NOT(ISBLANK(PROGRAMACION!B210)),PROGRAMACION!B210,\"\")","v":""},{"$f":"IF(NOT(ISBLANK(PROGRAMACION!C210)),PROGRAMACION!C210,\"\")","v":""},null,{"$f":"IF(NOT(ISBLANK(PROGRAMACION!E210)),PROGRAMACION!E210,\"\")","v":""},null,{"$f":"IF(NOT(ISBLANK(PROGRAMACION!G210)),PROGRAMACION!G210,\"\")","v":""},{"$f":"IF(NOT(ISBLANK(PROGRAMACION!H210)),PROGRAMACION!H210,\"\")","v":""},{"$f":"IF(NOT(ISBLANK(PROGRAMACION!I210)),PROGRAMACION!I210,\"\")","v":""},{"$f":"IF(NOT(ISBLANK(PROGRAMACION!J210)),IF(PROGRAMACION!I210=\"Transformador\",MID(PROGRAMACION!J210,1,2),PROGRAMACION!J210),\"\")","v":""},{"$f":"IF(NOT(ISBLANK(PROGRAMACION!K210)),PROGRAMACION!K210,\"\")","v":""},{"$f":"IF(NOT(ISBLANK(PROGRAMACION!L210)),PROGRAMACION!L210,\"\")","v":""},{"$f":"IF(NOT(ISBLANK(PROGRAMACION!M210)),PROGRAMACION!M210,\"\")","v":""},{"$f":"IF(NOT(ISBLANK(PROGRAMACION!N210)),PROGRAMACION!N210,\"\")","v":""},{"$f":"IF(NOT(ISBLANK(PROGRAMACION!O210)),PROGRAMACION!O210,\"\")","v":""}]
[{"$f":"IF(NOT(ISBLANK(PROGRAMACION!A211)),PROGRAMACION!A211,\"\")","v":""},{"$f":"IF(NOT(ISBLANK(PROGRAMACION!B211)),PROGRAMACION!B211,\"\")","v":""},{"$f":"IF(NOT(ISBLANK(PROGRAMACION!C211)),PROGRAMACION!C211,\"\")","v":""},null,{"$f":"IF(NOT(ISBLANK(PROGRAMACION!E211)),PROGRAMACION!E211,\"\")","v":""},null,{"$f":"IF(NOT(ISBLANK(PROGRAMACION!G211)),PROGRAMACION!G211,\"\")","v":""},{"$f":"IF(NOT(ISBLANK(PROGRAMACION!H211)),PROGRAMACION!H211,\"\")","v":""},{"$f":"IF(NOT(ISBLANK(PROGRAMACION!I211)),PROGRAMACION!I211,\"\")","v":""},{"$f":"IF(NOT(ISBLANK(PROGRAMACION!J211)),IF(PROGRAMACION!I211=\"Transformador\",MID(PROGRAMACION!J211,1,2),PROGRAMACION!J211),\"\")","v":""},{"$f":"IF(NOT(ISBLANK(PROGRAMACION!K211)),PROGRAMACION!K211,\"\")","v":""},{"$f":"IF(NOT(ISBLANK(PROGRAMACION!L211)),PROGRAMACION!L211,\"\")","v":""},{"$f":"IF(NOT(ISBLANK(PROGRAMACION!M211)),PROGRAMACION!M211,\"\")","v":""},{"$f":"IF(NOT(ISBLANK(PROGRAMACION!N211)),PROGRAMACION!N211,\"\")","v":""},{"$f":"IF(NOT(ISBLANK(PROGRAMACION!O211)),PROGRAMACION!O211,\"\")","v":""}]
[{"$f":"IF(NOT(ISBLANK(PROGRAMACION!A212)),PROGRAMACION!A212,\"\")","v":""},{"$f":"IF(NOT(ISBLANK(PROGRAMACION!B212)),PROGRAMACION!B212,\"\")","v":""},{"$f":"IF(NOT(ISBLANK(PROGRAMACION!C212)),PROGRAMACION!C212,\"\")","v":""},null,{"$f":"IF(NOT(ISBLANK(PROGRAMACION!E212)),PROGRAMACION!E212,\"\")","v":""},null,{"$f":"IF(NOT(ISBLANK(PROGRAMACION!G212)),PROGRAMACION!G212,\"\")","v":""},{"$f":"IF(NOT(ISBLANK(PROGRAMACION!H212)),PROGRAMACION!H212,\"\")","v":""},{"$f":"IF(NOT(ISBLANK(PROGRAMACION!I212)),PROGRAMACION!I212,\"\")","v":""},{"$f":"IF(NOT(ISBLANK(PROGRAMACION!J212)),IF(PROGRAMACION!I212=\"Transformador\",MID(PROGRAMACION!J212,1,2),PROGRAMACION!J212),\"\")","v":""},{"$f":"IF(NOT(ISBLANK(PROGRAMACION!K212)),PROGRAMACION!K212,\"\")","v":""},{"$f":"IF(NOT(ISBLANK(PROGRAMACION!L212)),PROGRAMACION!L212,\"\")","v":""},{"$f":"IF(NOT(ISBLANK(PROGRAMACION!M212)),PROGRAMACION!M212,\"\")","v":""},{"$f":"IF(NOT(ISBLANK(PROGRAMACION!N212)),PROGRAMACION!N212,\"\")","v":""},{"$f":"IF(NOT(ISBLANK(PROGRAMACION!O212)),PROGRAMACION!O212,\"\")","v":""}]
[{"$f":"IF(NOT(ISBLANK(PROGRAMACION!A213)),PROGRAMACION!A213,\"\")","v":""},{"$f":"IF(NOT(ISBLANK(PROGRAMACION!B213)),PROGRAMACION!B213,\"\")","v":""},{"$f":"IF(NOT(ISBLANK(PROGRAMACION!C213)),PROGRAMACION!C213,\"\")","v":""},null,{"$f":"IF(NOT(ISBLANK(PROGRAMACION!E213)),PROGRAMACION!E213,\"\")","v":""},null,{"$f":"IF(NOT(ISBLANK(PROGRAMACION!G213)),PROGRAMACION!G213,\"\")","v":""},{"$f":"IF(NOT(ISBLANK(PROGRAMACION!H213)),PROGRAMACION!H213,\"\")","v":""},{"$f":"IF(NOT(ISBLANK(PROGRAMACION!I213)),PROGRAMACION!I213,\"\")","v":""},{"$f":"IF(NOT(ISBLANK(PROGRAMACION!J213)),IF(PROGRAMACION!I213=\"Transformador\",MID(PROGRAMACION!J213,1,2),PROGRAMACION!J213),\"\")","v":""},{"$f":"IF(NOT(ISBLANK(PROGRAMACION!K213)),PROGRAMACION!K213,\"\")","v":""},{"$f":"IF(NOT(ISBLANK(PROGRAMACION!L213)),PROGRAMACION!L213,\"\")","v":""},{"$f":"IF(NOT(ISBLANK(PROGRAMACION!M213)),PROGRAMACION!M213,\"\")","v":""},{"$f":"IF(NOT(ISBLANK(PROGRAMACION!N213)),PROGRAMACION!N213,\"\")","v":""},{"$f":"IF(NOT(ISBLANK(PROGRAMACION!O213)),PROGRAMACION!O213,\"\")","v":""}]
[{"$f":"IF(NOT(ISBLANK(PROGRAMACION!A214)),PROGRAMACION!A214,\"\")","v":""},{"$f":"IF(NOT(ISBLANK(PROGRAMACION!B214)),PROGRAMACION!B214,\"\")","v":""},{"$f":"IF(NOT(ISBLANK(PROGRAMACION!C214)),PROGRAMACION!C214,\"\")","v":""},null,{"$f":"IF(NOT(ISBLANK(PROGRAMACION!E214)),PROGRAMACION!E214,\"\")","v":""},null,{"$f":"IF(NOT(ISBLANK(PROGRAMACION!G214)),PROGRAMACION!G214,\"\")","v":""},{"$f":"IF(NOT(ISBLANK(PROGRAMACION!H214)),PROGRAMACION!H214,\"\")","v":""},{"$f":"IF(NOT(ISBLANK(PROGRAMACION!I214)),PROGRAMACION!I214,\"\")","v":""},{"$f":"IF(NOT(ISBLANK(PROGRAMACION!J214)),IF(PROGRAMACION!I214=\"Transformador\",MID(PROGRAMACION!J214,1,2),PROGRAMACION!J214),\"\")","v":""},{"$f":"IF(NOT(ISBLANK(PROGRAMACION!K214)),PROGRAMACION!K214,\"\")","v":""},{"$f":"IF(NOT(ISBLANK(PROGRAMACION!L214)),PROGRAMACION!L214,\"\")","v":""},{"$f":"IF(NOT(ISBLANK(PROGRAMACION!M214)),PROGRAMACION!M214,\"\")","v":""},{"$f":"IF(NOT(ISBLANK(PROGRAMACION!N214)),PROGRAMACION!N214,\"\")","v":""},{"$f":"IF(NOT(ISBLANK(PROGRAMACION!O214)),PROGRAMACION!O214,\"\")","v":""}]
[{"$f":"IF(NOT(ISBLANK(PROGRAMACION!A215)),PROGRAMACION!A215,\"\")","v":""},{"$f":"IF(NOT(ISBLANK(PROGRAMACION!B215)),PROGRAMACION!B215,\"\")","v":""},{"$f":"IF(NOT(ISBLANK(PROGRAMACION!C215)),PROGRAMACION!C215,\"\")","v":""},null,{"$f":"IF(NOT(ISBLANK(PROGRAMACION!E215)),PROGRAMACION!E215,\"\")","v":""},null,{"$f":"IF(NOT(ISBLANK(PROGRAMACION!G215)),PROGRAMACION!G215,\"\")","v":""},{"$f":"IF(NOT(ISBLANK(PROGRAMACION!H215)),PROGRAMACION!H215,\"\")","v":""},{"$f":"IF(NOT(ISBLANK(PROGRAMACION!I215)),PROGRAMACION!I215,\"\")","v":""},{"$f":"IF(NOT(ISBLANK(PROGRAMACION!J215)),IF(PROGRAMACION!I215=\"Transformador\",MID(PROGRAMACION!J215,1,2),PROGRAMACION!J215),\"\")","v":""},{"$f":"IF(NOT(ISBLANK(PROGRAMACION!K215)),PROGRAMACION!K215,\"\")","v":""},{"$f":"IF(NOT(ISBLANK(PROGRAMACION!L215)),PROGRAMACION!L215,\"\")","v":""},{"$f":"IF(NOT(ISBLANK(PROGRAMACION!M215)),PROGRAMACION!M215,\"\")","v":""},{"$f":"IF(NOT(ISBLANK(PROGRAMACION!N215)),PROGRAMACION!N215,\"\")","v":""},{"$f":"IF(NOT(ISBLANK(PROGRAMACION!O215)),PROGRAMACION!O215,\"\")","v":""}]
[{"$f":"IF(NOT(ISBLANK(PROGRAMACION!A216)),PROGRAMACION!A216,\"\")","v":""},{"$f":"IF(NOT(ISBLANK(PROGRAMACION!B216)),PROGRAMACION!B216,\"\")","v":""},{"$f":"IF(NOT(ISBLANK(PROGRAMACION!C216)),PROGRAMACION!C216,\"\")","v":""},null,{"$f":"IF(NOT(ISBLANK(PROGRAMACION!E216)),PROGRAMACION!E216,\"\")","v":""},null,{"$f":"IF(NOT(ISBLANK(PROGRAMACION!G216)),PROGRAMACION!G216,\"\")","v":""},{"$f":"IF(NOT(ISBLANK(PROGRAMACION!H216)),PROGRAMACION!H216,\"\")","v":""},{"$f":"IF(NOT(ISBLANK(PROGRAMACION!I216)),PROGRAMACION!I216,\"\")","v":""},{"$f":"IF(NOT(ISBLANK(PROGRAMACION!J216)),IF(PROGRAMACION!I216=\"Transformador\",MID(PROGRAMACION!J216,1,2),PROGRAMACION!J216),\"\")","v":""},{"$f":"IF(NOT(ISBLANK(PROGRAMACION!K216)),PROGRAMACION!K216,\"\")","v":""},{"$f":"IF(NOT(ISBLANK(PROGRAMACION!L216)),PROGRAMACION!L216,\"\")","v":""},{"$f":"IF(NOT(ISBLANK(PROGRAMACION!M216)),PROGRAMACION!M216,\"\")","v":""},{"$f":"IF(NOT(ISBLANK(PROGRAMACION!N216)),PROGRAMACION!N216,\"\")","v":""},{"$f":"IF(NOT(ISBLANK(PROGRAMACION!O216)),PROGRAMACION!O216,\"\")","v":""}]
[{"$f":"IF(NOT(ISBLANK(PROGRAMACION!A217)),PROGRAMACION!A217,\"\")","v":""},{"$f":"IF(NOT(ISBLANK(PROGRAMACION!B217)),PROGRAMACION!B217,\"\")","v":""},{"$f":"IF(NOT(ISBLANK(PROGRAMACION!C217)),PROGRAMACION!C217,\"\")","v":""},null,{"$f":"IF(NOT(ISBLANK(PROGRAMACION!E217)),PROGRAMACION!E217,\"\")","v":""},null,{"$f":"IF(NOT(ISBLANK(PROGRAMACION!G217)),PROGRAMACION!G217,\"\")","v":""},{"$f":"IF(NOT(ISBLANK(PROGRAMACION!H217)),PROGRAMACION!H217,\"\")","v":""},{"$f":"IF(NOT(ISBLANK(PROGRAMACION!I217)),PROGRAMACION!I217,\"\")","v":""},{"$f":"IF(NOT(ISBLANK(PROGRAMACION!J217)),IF(PROGRAMACION!I217=\"Transformador\",MID(PROGRAMACION!J217,1,2),PROGRAMACION!J217),\"\")","v":""},{"$f":"IF(NOT(ISBLANK(PROGRAMACION!K217)),PROGRAMACION!K217,\"\")","v":""},{"$f":"IF(NOT(ISBLANK(PROGRAMACION!L217)),PROGRAMACION!L217,\"\")","v":""},{"$f":"IF(NOT(ISBLANK(PROGRAMACION!M217)),PROGRAMACION!M217,\"\")","v":""},{"$f":"IF(NOT(ISBLANK(PROGRAMACION!N217)),PROGRAMACION!N217,\"\")","v":""},{"$f":"IF(NOT(ISBLANK(PROGRAMACION!O217)),PROGRAMACION!O217,\"\")","v":""}]
[{"$f":"IF(NOT(ISBLANK(PROGRAMACION!A218)),PROGRAMACION!A218,\"\")","v":""},{"$f":"IF(NOT(ISBLANK(PROGRAMACION!B218)),PROGRAMACION!B218,\"\")","v":""},{"$f":"IF(NOT(ISBLANK(PROGRAMACION!C218)),PROGRAMACION!C218,\"\")","v":""},null,{"$f":"IF(NOT(ISBLANK(PROGRAMACION!E218)),PROGRAMACION!E218,\"\")","v":""},null,{"$f":"IF(NOT(ISBLANK(PROGRAMACION!G218)),PROGRAMACION!G218,\"\")","v":""},{"$f":"IF(NOT(ISBLANK(PROGRAMACION!H218)),PROGRAMACION!H218,\"\")","v":""},{"$f":"IF(NOT(ISBLANK(PROGRAMACION!I218)),PROGRAMACION!I218,\"\")","v":""},{"$f":"IF(NOT(ISBLANK(PROGRAMACION!J218)),IF(PROGRAMACION!I218=\"Transformador\",MID(PROGRAMACION!J218,1,2),PROGRAMACION!J218),\"\")","v":""},{"$f":"IF(NOT(ISBLANK(PROGRAMACION!K218)),PROGRAMACION!K218,\"\")","v":""},{"$f":"IF(NOT(ISBLANK(PROGRAMACION!L218)),PROGRAMACION!L218,\"\")","v":""},{"$f":"IF(NOT(ISBLANK(PROGRAMACION!M218)),PROGRAMACION!M218,\"\")","v":""},{"$f":"IF(NOT(ISBLANK(PROGRAMACION!N218)),PROGRAMACION!N218,\"\")","v":""},{"$f":"IF(NOT(ISBLANK(PROGRAMACION!O218)),PROGRAMACION!O218,\"\")","v":""}]
[{"$f":"IF(NOT(ISBLANK(PROGRAMACION!A219)),PROGRAMACION!A219,\"\")","v":""},{"$f":"IF(NOT(ISBLANK(PROGRAMACION!B219)),PROGRAMACION!B219,\"\")","v":""},{"$f":"IF(NOT(ISBLANK(PROGRAMACION!C219)),PROGRAMACION!C219,\"\")","v":""},null,{"$f":"IF(NOT(ISBLANK(PROGRAMACION!E219)),PROGRAMACION!E219,\"\")","v":""},null,{"$f":"IF(NOT(ISBLANK(PROGRAMACION!G219)),PROGRAMACION!G219,\"\")","v":""},{"$f":"IF(NOT(ISBLANK(PROGRAMACION!H219)),PROGRAMACION!H219,\"\")","v":""},{"$f":"IF(NOT(ISBLANK(PROGRAMACION!I219)),PROGRAMACION!I219,\"\")","v":""},{"$f":"IF(NOT(ISBLANK(PROGRAMACION!J219)),IF(PROGRAMACION!I219=\"Transformador\",MID(PROGRAMACION!J219,1,2),PROGRAMACION!J219),\"\")","v":""},{"$f":"IF(NOT(ISBLANK(PROGRAMACION!K219)),PROGRAMACION!K219,\"\")","v":""},{"$f":"IF(NOT(ISBLANK(PROGRAMACION!L219)),PROGRAMACION!L219,\"\")","v":""},{"$f":"IF(NOT(ISBLANK(PROGRAMACION!M219)),PROGRAMACION!M219,\"\")","v":""},{"$f":"IF(NOT(ISBLANK(PROGRAMACION!N219)),PROGRAMACION!N219,\"\")","v":""},{"$f":"IF(NOT(ISBLANK(PROGRAMACION!O219)),PROGRAMACION!O219,\"\")","v":""}]
[{"$f":"IF(NOT(ISBLANK(PROGRAMACION!A220)),PROGRAMACION!A220,\"\")","v":""},{"$f":"IF(NOT(ISBLANK(PROGRAMACION!B220)),PROGRAMACION!B220,\"\")","v":""},{"$f":"IF(NOT(ISBLANK(PROGRAMACION!C220)),PROGRAMACION!C220,\"\")","v":""},null,{"$f":"IF(NOT(ISBLANK(PROGRAMACION!E220)),PROGRAMACION!E220,\"\")","v":""},null,{"$f":"IF(NOT(ISBLANK(PROGRAMACION!G220)),PROGRAMACION!G220,\"\")","v":""},{"$f":"IF(NOT(ISBLANK(PROGRAMACION!H220)),PROGRAMACION!H220,\"\")","v":""},{"$f":"IF(NOT(ISBLANK(PROGRAMACION!I220)),PROGRAMACION!I220,\"\")","v":""},{"$f":"IF(NOT(ISBLANK(PROGRAMACION!J220)),IF(PROGRAMACION!I220=\"Transformador\",MID(PROGRAMACION!J220,1,2),PROGRAMACION!J220),\"\")","v":""},{"$f":"IF(NOT(ISBLANK(PROGRAMACION!K220)),PROGRAMACION!K220,\"\")","v":""},{"$f":"IF(NOT(ISBLANK(PROGRAMACION!L220)),PROGRAMACION!L220,\"\")","v":""},{"$f":"IF(NOT(ISBLANK(PROGRAMACION!M220)),PROGRAMACION!M220,\"\")","v":""},{"$f":"IF(NOT(ISBLANK(PROGRAMACION!N220)),PROGRAMACION!N220,\"\")","v":""},{"$f":"IF(NOT(ISBLANK(PROGRAMACION!O220)),PROGRAMACION!O220,\"\")","v":""}]
[{"$f":"IF(NOT(ISBLANK(PROGRAMACION!A221)),PROGRAMACION!A221,\"\")","v":""},{"$f":"IF(NOT(ISBLANK(PROGRAMACION!B221)),PROGRAMACION!B221,\"\")","v":""},{"$f":"IF(NOT(ISBLANK(PROGRAMACION!C221)),PROGRAMACION!C221,\"\")","v":""},null,{"$f":"IF(NOT(ISBLANK(PROGRAMACION!E221)),PROGRAMACION!E221,\"\")","v":""},null,{"$f":"IF(NOT(ISBLANK(PROGRAMACION!G221)),PROGRAMACION!G221,\"\")","v":""},{"$f":"IF(NOT(ISBLANK(PROGRAMACION!H221)),PROGRAMACION!H221,\"\")","v":""},{"$f":"IF(NOT(ISBLANK(PROGRAMACION!I221)),PROGRAMACION!I221,\"\")","v":""},{"$f":"IF(NOT(ISBLANK(PROGRAMACION!J221)),IF(PROGRAMACION!I221=\"Transformador\",MID(PROGRAMACION!J221,1,2),PROGRAMACION!J221),\"\")","v":""},{"$f":"IF(NOT(ISBLANK(PROGRAMACION!K221)),PROGRAMACION!K221,\"\")","v":""},{"$f":"IF(NOT(ISBLANK(PROGRAMACION!L221)),PROGRAMACION!L221,\"\")","v":""},{"$f":"IF(NOT(ISBLANK(PROGRAMACION!M221)),PROGRAMACION!M221,\"\")","v":""},{"$f":"IF(NOT(ISBLANK(PROGRAMACION!N221)),PROGRAMACION!N221,\"\")","v":""},{"$f":"IF(NOT(ISBLANK(PROGRAMACION!O221)),PROGRAMACION!O221,\"\")","v":""}]
[{"$f":"IF(NOT(ISBLANK(PROGRAMACION!A222)),PROGRAMACION!A222,\"\")","v":""},{"$f":"IF(NOT(ISBLANK(PROGRAMACION!B222)),PROGRAMACION!B222,\"\")","v":""},{"$f":"IF(NOT(ISBLANK(PROGRAMACION!C222)),PROGRAMACION!C222,\"\")","v":""},null,{"$f":"IF(NOT(ISBLANK(PROGRAMACION!E222)),PROGRAMACION!E222,\"\")","v":""},null,{"$f":"IF(NOT(ISBLANK(PROGRAMACION!G222)),PROGRAMACION!G222,\"\")","v":""},{"$f":"IF(NOT(ISBLANK(PROGRAMACION!H222)),PROGRAMACION!H222,\"\")","v":""},{"$f":"IF(NOT(ISBLANK(PROGRAMACION!I222)),PROGRAMACION!I222,\"\")","v":""},{"$f":"IF(NOT(ISBLANK(PROGRAMACION!J222)),IF(PROGRAMACION!I222=\"Transformador\",MID(PROGRAMACION!J222,1,2),PROGRAMACION!J222),\"\")","v":""},{"$f":"IF(NOT(ISBLANK(PROGRAMACION!K222)),PROGRAMACION!K222,\"\")","v":""},{"$f":"IF(NOT(ISBLANK(PROGRAMACION!L222)),PROGRAMACION!L222,\"\")","v":""},{"$f":"IF(NOT(ISBLANK(PROGRAMACION!M222)),PROGRAMACION!M222,\"\")","v":""},{"$f":"IF(NOT(ISBLANK(PROGRAMACION!N222)),PROGRAMACION!N222,\"\")","v":""},{"$f":"IF(NOT(ISBLANK(PROGRAMACION!O222)),PROGRAMACION!O222,\"\")","v":""}]
[{"$f":"IF(NOT(ISBLANK(PROGRAMACION!A223)),PROGRAMACION!A223,\"\")","v":""},{"$f":"IF(NOT(ISBLANK(PROGRAMACION!B223)),PROGRAMACION!B223,\"\")","v":""},{"$f":"IF(NOT(ISBLANK(PROGRAMACION!C223)),PROGRAMACION!C223,\"\")","v":""},null,{"$f":"IF(NOT(ISBLANK(PROGRAMACION!E223)),PROGRAMACION!E223,\"\")","v":""},null,{"$f":"IF(NOT(ISBLANK(PROGRAMACION!G223)),PROGRAMACION!G223,\"\")","v":""},{"$f":"IF(NOT(ISBLANK(PROGRAMACION!H223)),PROGRAMACION!H223,\"\")","v":""},{"$f":"IF(NOT(ISBLANK(PROGRAMACION!I223)),PROGRAMACION!I223,\"\")","v":""},{"$f":"IF(NOT(ISBLANK(PROGRAMACION!J223)),IF(PROGRAMACION!I223=\"Transformador\",MID(PROGRAMACION!J223,1,2),PROGRAMACION!J223),\"\")","v":""},{"$f":"IF(NOT(ISBLANK(PROGRAMACION!K223)),PROGRAMACION!K223,\"\")","v":""},{"$f":"IF(NOT(ISBLANK(PROGRAMACION!L223)),PROGRAMACION!L223,\"\")","v":""},{"$f":"IF(NOT(ISBLANK(PROGRAMACION!M223)),PROGRAMACION!M223,\"\")","v":""},{"$f":"IF(NOT(ISBLANK(PROGRAMACION!N223)),PROGRAMACION!N223,\"\")","v":""},{"$f":"IF(NOT(ISBLANK(PROGRAMACION!O223)),PROGRAMACION!O223,\"\")","v":""}]
[{"$f":"IF(NOT(ISBLANK(PROGRAMACION!A224)),PROGRAMACION!A224,\"\")","v":""},{"$f":"IF(NOT(ISBLANK(PROGRAMACION!B224)),PROGRAMACION!B224,\"\")","v":""},{"$f":"IF(NOT(ISBLANK(PROGRAMACION!C224)),PROGRAMACION!C224,\"\")","v":""},null,{"$f":"IF(NOT(ISBLANK(PROGRAMACION!E224)),PROGRAMACION!E224,\"\")","v":""},null,{"$f":"IF(NOT(ISBLANK(PROGRAMACION!G224)),PROGRAMACION!G224,\"\")","v":""},{"$f":"IF(NOT(ISBLANK(PROGRAMACION!H224)),PROGRAMACION!H224,\"\")","v":""},{"$f":"IF(NOT(ISBLANK(PROGRAMACION!I224)),PROGRAMACION!I224,\"\")","v":""},{"$f":"IF(NOT(ISBLANK(PROGRAMACION!J224)),IF(PROGRAMACION!I224=\"Transformador\",MID(PROGRAMACION!J224,1,2),PROGRAMACION!J224),\"\")","v":""},{"$f":"IF(NOT(ISBLANK(PROGRAMACION!K224)),PROGRAMACION!K224,\"\")","v":""},{"$f":"IF(NOT(ISBLANK(PROGRAMACION!L224)),PROGRAMACION!L224,\"\")","v":""},{"$f":"IF(NOT(ISBLANK(PROGRAMACION!M224)),PROGRAMACION!M224,\"\")","v":""},{"$f":"IF(NOT(ISBLANK(PROGRAMACION!N224)),PROGRAMACION!N224,\"\")","v":""},{"$f":"IF(NOT(ISBLANK(PROGRAMACION!O224)),PROGRAMACION!O224,\"\")","v":""}]
[{"$f":"IF(NOT(ISBLANK(PROGRAMACION!A225)),PROGRAMACION!A225,\"\")","v":""},{"$f":"IF(NOT(ISBLANK(PROGRAMACION!B225)),PROGRAMACION!B225,\"\")","v":""},{"$f":"IF(NOT(ISBLANK(PROGRAMACION!C225)),PROGRAMACION!C225,\"\")","v":""},null,{"$f":"IF(NOT(ISBLANK(PROGRAMACION!E225)),PROGRAMACION!E225,\"\")","v":""},null,{"$f":"IF(NOT(ISBLANK(PROGRAMACION!G225)),PROGRAMACION!G225,\"\")","v":""},{"$f":"IF(NOT(ISBLANK(PROGRAMACION!H225)),PROGRAMACION!H225,\"\")","v":""},{"$f":"IF(NOT(ISBLANK(PROGRAMACION!I225)),PROGRAMACION!I225,\"\")","v":""},{"$f":"IF(NOT(ISBLANK(PROGRAMACION!J225)),IF(PROGRAMACION!I225=\"Transformador\",MID(PROGRAMACION!J225,1,2),PROGRAMACION!J225),\"\")","v":""},{"$f":"IF(NOT(ISBLANK(PROGRAMACION!K225)),PROGRAMACION!K225,\"\")","v":""},{"$f":"IF(NOT(ISBLANK(PROGRAMACION!L225)),PROGRAMACION!L225,\"\")","v":""},{"$f":"IF(NOT(ISBLANK(PROGRAMACION!M225)),PROGRAMACION!M225,\"\")","v":""},{"$f":"IF(NOT(ISBLANK(PROGRAMACION!N225)),PROGRAMACION!N225,\"\")","v":""},{"$f":"IF(NOT(ISBLANK(PROGRAMACION!O225)),PROGRAMACION!O225,\"\")","v":""}]
[{"$f":"IF(NOT(ISBLANK(PROGRAMACION!A226)),PROGRAMACION!A226,\"\")","v":""},{"$f":"IF(NOT(ISBLANK(PROGRAMACION!B226)),PROGRAMACION!B226,\"\")","v":""},{"$f":"IF(NOT(ISBLANK(PROGRAMACION!C226)),PROGRAMACION!C226,\"\")","v":""},null,{"$f":"IF(NOT(ISBLANK(PROGRAMACION!E226)),PROGRAMACION!E226,\"\")","v":""},null,{"$f":"IF(NOT(ISBLANK(PROGRAMACION!G226)),PROGRAMACION!G226,\"\")","v":""},{"$f":"IF(NOT(ISBLANK(PROGRAMACION!H226)),PROGRAMACION!H226,\"\")","v":""},{"$f":"IF(NOT(ISBLANK(PROGRAMACION!I226)),PROGRAMACION!I226,\"\")","v":""},{"$f":"IF(NOT(ISBLANK(PROGRAMACION!J226)),IF(PROGRAMACION!I226=\"Transformador\",MID(PROGRAMACION!J226,1,2),PROGRAMACION!J226),\"\")","v":""},{"$f":"IF(NOT(ISBLANK(PROGRAMACION!K226)),PROGRAMACION!K226,\"\")","v":""},{"$f":"IF(NOT(ISBLANK(PROGRAMACION!L226)),PROGRAMACION!L226,\"\")","v":""},{"$f":"IF(NOT(ISBLANK(PROGRAMACION!M226)),PROGRAMACION!M226,\"\")","v":""},{"$f":"IF(NOT(ISBLANK(PROGRAMACION!N226)),PROGRAMACION!N226,\"\")","v":""},{"$f":"IF(NOT(ISBLANK(PROGRAMACION!O226)),PROGRAMACION!O226,\"\")","v":""}]
[{"$f":"IF(NOT(ISBLANK(PROGRAMACION!A227)),PROGRAMACION!A227,\"\")","v":""},{"$f":"IF(NOT(ISBLANK(PROGRAMACION!B227)),PROGRAMACION!B227,\"\")","v":""},{"$f":"IF(NOT(ISBLANK(PROGRAMACION!C227)),PROGRAMACION!C227,\"\")","v":""},null,{"$f":"IF(NOT(ISBLANK(PROGRAMACION!E227)),PROGRAMACION!E227,\"\")","v":""},null,{"$f":"IF(NOT(ISBLANK(PROGRAMACION!G227)),PROGRAMACION!G227,\"\")","v":""},{"$f":"IF(NOT(ISBLANK(PROGRAMACION!H227)),PROGRAMACION!H227,\"\")","v":""},{"$f":"IF(NOT(ISBLANK(PROGRAMACION!I227)),PROGRAMACION!I227,\"\")","v":""},{"$f":"IF(NOT(ISBLANK(PROGRAMACION!J227)),IF(PROGRAMACION!I227=\"Transformador\",MID(PROGRAMACION!J227,1,2),PROGRAMACION!J227),\"\")","v":""},{"$f":"IF(NOT(ISBLANK(PROGRAMACION!K227)),PROGRAMACION!K227,\"\")","v":""},{"$f":"IF(NOT(ISBLANK(PROGRAMACION!L227)),PROGRAMACION!L227,\"\")","v":""},{"$f":"IF(NOT(ISBLANK(PROGRAMACION!M227)),PROGRAMACION!M227,\"\")","v":""},{"$f":"IF(NOT(ISBLANK(PROGRAMACION!N227)),PROGRAMACION!N227,\"\")","v":""},{"$f":"IF(NOT(ISBLANK(PROGRAMACION!O227)),PROGRAMACION!O227,\"\")","v":""}]
[{"$f":"IF(NOT(ISBLANK(PROGRAMACION!A228)),PROGRAMACION!A228,\"\")","v":""},{"$f":"IF(NOT(ISBLANK(PROGRAMACION!B228)),PROGRAMACION!B228,\"\")","v":""},{"$f":"IF(NOT(ISBLANK(PROGRAMACION!C228)),PROGRAMACION!C228,\"\")","v":""},null,{"$f":"IF(NOT(ISBLANK(PROGRAMACION!E228)),PROGRAMACION!E228,\"\")","v":""},null,{"$f":"IF(NOT(ISBLANK(PROGRAMACION!G228)),PROGRAMACION!G228,\"\")","v":""},{"$f":"IF(NOT(ISBLANK(PROGRAMACION!H228)),PROGRAMACION!H228,\"\")","v":""},{"$f":"IF(NOT(ISBLANK(PROGRAMACION!I228)),PROGRAMACION!I228,\"\")","v":""},{"$f":"IF(NOT(ISBLANK(PROGRAMACION!J228)),IF(PROGRAMACION!I228=\"Transformador\",MID(PROGRAMACION!J228,1,2),PROGRAMACION!J228),\"\")","v":""},{"$f":"IF(NOT(ISBLANK(PROGRAMACION!K228)),PROGRAMACION!K228,\"\")","v":""},{"$f":"IF(NOT(ISBLANK(PROGRAMACION!L228)),PROGRAMACION!L228,\"\")","v":""},{"$f":"IF(NOT(ISBLANK(PROGRAMACION!M228)),PROGRAMACION!M228,\"\")","v":""},{"$f":"IF(NOT(ISBLANK(PROGRAMACION!N228)),PROGRAMACION!N228,\"\")","v":""},{"$f":"IF(NOT(ISBLANK(PROGRAMACION!O228)),PROGRAMACION!O228,\"\")","v":""}]
[{"$f":"IF(NOT(ISBLANK(PROGRAMACION!A229)),PROGRAMACION!A229,\"\")","v":""},{"$f":"IF(NOT(ISBLANK(PROGRAMACION!B229)),PROGRAMACION!B229,\"\")","v":""},{"$f":"IF(NOT(ISBLANK(PROGRAMACION!C229)),PROGRAMACION!C229,\"\")","v":""},null,{"$f":"IF(NOT(ISBLANK(PROGRAMACION!E229)),PROGRAMACION!E229,\"\")","v":""},null,{"$f":"IF(NOT(ISBLANK(PROGRAMACION!G229)),PROGRAMACION!G229,\"\")","v":""},{"$f":"IF(NOT(ISBLANK(PROGRAMACION!H229)),PROGRAMACION!H229,\"\")","v":""},{"$f":"IF(NOT(ISBLANK(PROGRAMACION!I229)),PROGRAMACION!I229,\"\")","v":""},{"$f":"IF(NOT(ISBLANK(PROGRAMACION!J229)),IF(PROGRAMACION!I229=\"Transformador\",MID(PROGRAMACION!J229,1,2),PROGRAMACION!J229),\"\")","v":""},{"$f":"IF(NOT(ISBLANK(PROGRAMACION!K229)),PROGRAMACION!K229,\"\")","v":""},{"$f":"IF(NOT(ISBLANK(PROGRAMACION!L229)),PROGRAMACION!L229,\"\")","v":""},{"$f":"IF(NOT(ISBLANK(PROGRAMACION!M229)),PROGRAMACION!M229,\"\")","v":""},{"$f":"IF(NOT(ISBLANK(PROGRAMACION!N229)),PROGRAMACION!N229,\"\")","v":""},{"$f":"IF(NOT(ISBLANK(PROGRAMACION!O229)),PROGRAMACION!O229,\"\")","v":""}]
[{"$f":"IF(NOT(ISBLANK(PROGRAMACION!A230)),PROGRAMACION!A230,\"\")","v":""},{"$f":"IF(NOT(ISBLANK(PROGRAMACION!B230)),PROGRAMACION!B230,\"\")","v":""},{"$f":"IF(NOT(ISBLANK(PROGRAMACION!C230)),PROGRAMACION!C230,\"\")","v":""},null,{"$f":"IF(NOT(ISBLANK(PROGRAMACION!E230)),PROGRAMACION!E230,\"\")","v":""},null,{"$f":"IF(NOT(ISBLANK(PROGRAMACION!G230)),PROGRAMACION!G230,\"\")","v":""},{"$f":"IF(NOT(ISBLANK(PROGRAMACION!H230)),PROGRAMACION!H230,\"\")","v":""},{"$f":"IF(NOT(ISBLANK(PROGRAMACION!I230)),PROGRAMACION!I230,\"\")","v":""},{"$f":"IF(NOT(ISBLANK(PROGRAMACION!J230)),IF(PROGRAMACION!I230=\"Transformador\",MID(PROGRAMACION!J230,1,2),PROGRAMACION!J230),\"\")","v":""},{"$f":"IF(NOT(ISBLANK(PROGRAMACION!K230)),PROGRAMACION!K230,\"\")","v":""},{"$f":"IF(NOT(ISBLANK(PROGRAMACION!L230)),PROGRAMACION!L230,\"\")","v":""},{"$f":"IF(NOT(ISBLANK(PROGRAMACION!M230)),PROGRAMACION!M230,\"\")","v":""},{"$f":"IF(NOT(ISBLANK(PROGRAMACION!N230)),PROGRAMACION!N230,\"\")","v":""},{"$f":"IF(NOT(ISBLANK(PROGRAMACION!O230)),PROGRAMACION!O230,\"\")","v":""}]
[{"$f":"IF(NOT(ISBLANK(PROGRAMACION!A231)),PROGRAMACION!A231,\"\")","v":""},{"$f":"IF(NOT(ISBLANK(PROGRAMACION!B231)),PROGRAMACION!B231,\"\")","v":""},{"$f":"IF(NOT(ISBLANK(PROGRAMACION!C231)),PROGRAMACION!C231,\"\")","v":""},null,{"$f":"IF(NOT(ISBLANK(PROGRAMACION!E231)),PROGRAMACION!E231,\"\")","v":""},null,{"$f":"IF(NOT(ISBLANK(PROGRAMACION!G231)),PROGRAMACION!G231,\"\")","v":""},{"$f":"IF(NOT(ISBLANK(PROGRAMACION!H231)),PROGRAMACION!H231,\"\")","v":""},{"$f":"IF(NOT(ISBLANK(PROGRAMACION!I231)),PROGRAMACION!I231,\"\")","v":""},{"$f":"IF(NOT(ISBLANK(PROGRAMACION!J231)),IF(PROGRAMACION!I231=\"Transformador\",MID(PROGRAMACION!J231,1,2),PROGRAMACION!J231),\"\")","v":""},{"$f":"IF(NOT(ISBLANK(PROGRAMACION!K231)),PROGRAMACION!K231,\"\")","v":""},{"$f":"IF(NOT(ISBLANK(PROGRAMACION!L231)),PROGRAMACION!L231,\"\")","v":""},{"$f":"IF(NOT(ISBLANK(PROGRAMACION!M231)),PROGRAMACION!M231,\"\")","v":""},{"$f":"IF(NOT(ISBLANK(PROGRAMACION!N231)),PROGRAMACION!N231,\"\")","v":""},{"$f":"IF(NOT(ISBLANK(PROGRAMACION!O231)),PROGRAMACION!O231,\"\")","v":""}]
[{"$f":"IF(NOT(ISBLANK(PROGRAMACION!A232)),PROGRAMACION!A232,\"\")","v":""},{"$f":"IF(NOT(ISBLANK(PROGRAMACION!B232)),PROGRAMACION!B232,\"\")","v":""},{"$f":"IF(NOT(ISBLANK(PROGRAMACION!C232)),PROGRAMACION!C232,\"\")","v":""},null,{"$f":"IF(NOT(ISBLANK(PROGRAMACION!E232)),PROGRAMACION!E232,\"\")","v":""},null,{"$f":"IF(NOT(ISBLANK(PROGRAMACION!G232)),PROGRAMACION!G232,\"\")","v":""},{"$f":"IF(NOT(ISBLANK(PROGRAMACION!H232)),PROGRAMACION!H232,\"\")","v":""},{"$f":"IF(NOT(ISBLANK(PROGRAMACION!I232)),PROGRAMACION!I232,\"\")","v":""},{"$f":"IF(NOT(ISBLANK(PROGRAMACION!J232)),IF(PROGRAMACION!I232=\"Transformador\",MID(PROGRAMACION!J232,1,2),PROGRAMACION!J232),\"\")","v":""},{"$f":"IF(NOT(ISBLANK(PROGRAMACION!K232)),PROGRAMACION!K232,\"\")","v":""},{"$f":"IF(NOT(ISBLANK(PROGRAMACION!L232)),PROGRAMACION!L232,\"\")","v":""},{"$f":"IF(NOT(ISBLANK(PROGRAMACION!M232)),PROGRAMACION!M232,\"\")","v":""},{"$f":"IF(NOT(ISBLANK(PROGRAMACION!N232)),PROGRAMACION!N232,\"\")","v":""},{"$f":"IF(NOT(ISBLANK(PROGRAMACION!O232)),PROGRAMACION!O232,\"\")","v":""}]
[{"$f":"IF(NOT(ISBLANK(PROGRAMACION!A233)),PROGRAMACION!A233,\"\")","v":""},{"$f":"IF(NOT(ISBLANK(PROGRAMACION!B233)),PROGRAMACION!B233,\"\")","v":""},{"$f":"IF(NOT(ISBLANK(PROGRAMACION!C233)),PROGRAMACION!C233,\"\")","v":""},null,{"$f":"IF(NOT(ISBLANK(PROGRAMACION!E233)),PROGRAMACION!E233,\"\")","v":""},null,{"$f":"IF(NOT(ISBLANK(PROGRAMACION!G233)),PROGRAMACION!G233,\"\")","v":""},{"$f":"IF(NOT(ISBLANK(PROGRAMACION!H233)),PROGRAMACION!H233,\"\")","v":""},{"$f":"IF(NOT(ISBLANK(PROGRAMACION!I233)),PROGRAMACION!I233,\"\")","v":""},{"$f":"IF(NOT(ISBLANK(PROGRAMACION!J233)),IF(PROGRAMACION!I233=\"Transformador\",MID(PROGRAMACION!J233,1,2),PROGRAMACION!J233),\"\")","v":""},{"$f":"IF(NOT(ISBLANK(PROGRAMACION!K233)),PROGRAMACION!K233,\"\")","v":""},{"$f":"IF(NOT(ISBLANK(PROGRAMACION!L233)),PROGRAMACION!L233,\"\")","v":""},{"$f":"IF(NOT(ISBLANK(PROGRAMACION!M233)),PROGRAMACION!M233,\"\")","v":""},{"$f":"IF(NOT(ISBLANK(PROGRAMACION!N233)),PROGRAMACION!N233,\"\")","v":""},{"$f":"IF(NOT(ISBLANK(PROGRAMACION!O233)),PROGRAMACION!O233,\"\")","v":""}]
[{"$f":"IF(NOT(ISBLANK(PROGRAMACION!A234)),PROGRAMACION!A234,\"\")","v":""},{"$f":"IF(NOT(ISBLANK(PROGRAMACION!B234)),PROGRAMACION!B234,\"\")","v":""},{"$f":"IF(NOT(ISBLANK(PROGRAMACION!C234)),PROGRAMACION!C234,\"\")","v":""},null,{"$f":"IF(NOT(ISBLANK(PROGRAMACION!E234)),PROGRAMACION!E234,\"\")","v":""},null,{"$f":"IF(NOT(ISBLANK(PROGRAMACION!G234)),PROGRAMACION!G234,\"\")","v":""},{"$f":"IF(NOT(ISBLANK(PROGRAMACION!H234)),PROGRAMACION!H234,\"\")","v":""},{"$f":"IF(NOT(ISBLANK(PROGRAMACION!I234)),PROGRAMACION!I234,\"\")","v":""},{"$f":"IF(NOT(ISBLANK(PROGRAMACION!J234)),IF(PROGRAMACION!I234=\"Transformador\",MID(PROGRAMACION!J234,1,2),PROGRAMACION!J234),\"\")","v":""},{"$f":"IF(NOT(ISBLANK(PROGRAMACION!K234)),PROGRAMACION!K234,\"\")","v":""},{"$f":"IF(NOT(ISBLANK(PROGRAMACION!L234)),PROGRAMACION!L234,\"\")","v":""},{"$f":"IF(NOT(ISBLANK(PROGRAMACION!M234)),PROGRAMACION!M234,\"\")","v":""},{"$f":"IF(NOT(ISBLANK(PROGRAMACION!N234)),PROGRAMACION!N234,\"\")","v":""},{"$f":"IF(NOT(ISBLANK(PROGRAMACION!O234)),PROGRAMACION!O234,\"\")","v":""}]
[{"$f":"IF(NOT(ISBLANK(PROGRAMACION!A235)),PROGRAMACION!A235,\"\")","v":""},{"$f":"IF(NOT(ISBLANK(PROGRAMACION!B235)),PROGRAMACION!B235,\"\")","v":""},{"$f":"IF(NOT(ISBLANK(PROGRAMACION!C235)),PROGRAMACION!C235,\"\")","v":""},null,{"$f":"IF(NOT(ISBLANK(PROGRAMACION!E235)),PROGRAMACION!E235,\"\")","v":""},null,{"$f":"IF(NOT(ISBLANK(PROGRAMACION!G235)),PROGRAMACION!G235,\"\")","v":""},{"$f":"IF(NOT(ISBLANK(PROGRAMACION!H235)),PROGRAMACION!H235,\"\")","v":""},{"$f":"IF(NOT(ISBLANK(PROGRAMACION!I235)),PROGRAMACION!I235,\"\")","v":""},{"$f":"IF(NOT(ISBLANK(PROGRAMACION!J235)),IF(PROGRAMACION!I235=\"Transformador\",MID(PROGRAMACION!J235,1,2),PROGRAMACION!J235),\"\")","v":""},{"$f":"IF(NOT(ISBLANK(PROGRAMACION!K235)),PROGRAMACION!K235,\"\")","v":""},{"$f":"IF(NOT(ISBLANK(PROGRAMACION!L235)),PROGRAMACION!L235,\"\")","v":""},{"$f":"IF(NOT(ISBLANK(PROGRAMACION!M235)),PROGRAMACION!M235,\"\")","v":""},{"$f":"IF(NOT(ISBLANK(PROGRAMACION!N235)),PROGRAMACION!N235,\"\")","v":""},{"$f":"IF(NOT(ISBLANK(PROGRAMACION!O235)),PROGRAMACION!O235,\"\")","v":""}]
[{"$f":"IF(NOT(ISBLANK(PROGRAMACION!A236)),PROGRAMACION!A236,\"\")","v":""},{"$f":"IF(NOT(ISBLANK(PROGRAMACION!B236)),PROGRAMACION!B236,\"\")","v":""},{"$f":"IF(NOT(ISBLANK(PROGRAMACION!C236)),PROGRAMACION!C236,\"\")","v":""},null,{"$f":"IF(NOT(ISBLANK(PROGRAMACION!E236)),PROGRAMACION!E236,\"\")","v":""},null,{"$f":"IF(NOT(ISBLANK(PROGRAMACION!G236)),PROGRAMACION!G236,\"\")","v":""},{"$f":"IF(NOT(ISBLANK(PROGRAMACION!H236)),PROGRAMACION!H236,\"\")","v":""},{"$f":"IF(NOT(ISBLANK(PROGRAMACION!I236)),PROGRAMACION!I236,\"\")","v":""},{"$f":"IF(NOT(ISBLANK(PROGRAMACION!J236)),IF(PROGRAMACION!I236=\"Transformador\",MID(PROGRAMACION!J236,1,2),PROGRAMACION!J236),\"\")","v":""},{"$f":"IF(NOT(ISBLANK(PROGRAMACION!K236)),PROGRAMACION!K236,\"\")","v":""},{"$f":"IF(NOT(ISBLANK(PROGRAMACION!L236)),PROGRAMACION!L236,\"\")","v":""},{"$f":"IF(NOT(ISBLANK(PROGRAMACION!M236)),PROGRAMACION!M236,\"\")","v":""},{"$f":"IF(NOT(ISBLANK(PROGRAMACION!N236)),PROGRAMACION!N236,\"\")","v":""},{"$f":"IF(NOT(ISBLANK(PROGRAMACION!O236)),PROGRAMACION!O236,\"\")","v":""}]
[{"$f":"IF(NOT(ISBLANK(PROGRAMACION!A237)),PROGRAMACION!A237,\"\")","v":""},{"$f":"IF(NOT(ISBLANK(PROGRAMACION!B237)),PROGRAMACION!B237,\"\")","v":""},{"$f":"IF(NOT(ISBLANK(PROGRAMACION!C237)),PROGRAMACION!C237,\"\")","v":""},null,{"$f":"IF(NOT(ISBLANK(PROGRAMACION!E237)),PROGRAMACION!E237,\"\")","v":""},null,{"$f":"IF(NOT(ISBLANK(PROGRAMACION!G237)),PROGRAMACION!G237,\"\")","v":""},{"$f":"IF(NOT(ISBLANK(PROGRAMACION!H237)),PROGRAMACION!H237,\"\")","v":""},{"$f":"IF(NOT(ISBLANK(PROGRAMACION!I237)),PROGRAMACION!I237,\"\")","v":""},{"$f":"IF(NOT(ISBLANK(PROGRAMACION!J237)),IF(PROGRAMACION!I237=\"Transformador\",MID(PROGRAMACION!J237,1,2),PROGRAMACION!J237),\"\")","v":""},{"$f":"IF(NOT(ISBLANK(PROGRAMACION!K237)),PROGRAMACION!K237,\"\")","v":""},{"$f":"IF(NOT(ISBLANK(PROGRAMACION!L237)),PROGRAMACION!L237,\"\")","v":""},{"$f":"IF(NOT(ISBLANK(PROGRAMACION!M237)),PROGRAMACION!M237,\"\")","v":""},{"$f":"IF(NOT(ISBLANK(PROGRAMACION!N237)),PROGRAMACION!N237,\"\")","v":""},{"$f":"IF(NOT(ISBLANK(PROGRAMACION!O237)),PROGRAMACION!O237,\"\")","v":""}]
[{"$f":"IF(NOT(ISBLANK(PROGRAMACION!A238)),PROGRAMACION!A238,\"\")","v":""},{"$f":"IF(NOT(ISBLANK(PROGRAMACION!B238)),PROGRAMACION!B238,\"\")","v":""},{"$f":"IF(NOT(ISBLANK(PROGRAMACION!C238)),PROGRAMACION!C238,\"\")","v":""},null,{"$f":"IF(NOT(ISBLANK(PROGRAMACION!E238)),PROGRAMACION!E238,\"\")","v":""},null,{"$f":"IF(NOT(ISBLANK(PROGRAMACION!G238)),PROGRAMACION!G238,\"\")","v":""},{"$f":"IF(NOT(ISBLANK(PROGRAMACION!H238)),PROGRAMACION!H238,\"\")","v":""},{"$f":"IF(NOT(ISBLANK(PROGRAMACION!I238)),PROGRAMACION!I238,\"\")","v":""},{"$f":"IF(NOT(ISBLANK(PROGRAMACION!J238)),IF(PROGRAMACION!I238=\"Transformador\",MID(PROGRAMACION!J238,1,2),PROGRAMACION!J238),\"\")","v":""},{"$f":"IF(NOT(ISBLANK(PROGRAMACION!K238)),PROGRAMACION!K238,\"\")","v":""},{"$f":"IF(NOT(ISBLANK(PROGRAMACION!L238)),PROGRAMACION!L238,\"\")","v":""},{"$f":"IF(NOT(ISBLANK(PROGRAMACION!M238)),PROGRAMACION!M238,\"\")","v":""},{"$f":"IF(NOT(ISBLANK(PROGRAMACION!N238)),PROGRAMACION!N238,\"\")","v":""},{"$f":"IF(NOT(ISBLANK(PROGRAMACION!O238)),PROGRAMACION!O238,\"\")","v":""}]
[{"$f":"IF(NOT(ISBLANK(PROGRAMACION!A239)),PROGRAMACION!A239,\"\")","v":""},{"$f":"IF(NOT(ISBLANK(PROGRAMACION!B239)),PROGRAMACION!B239,\"\")","v":""},{"$f":"IF(NOT(ISBLANK(PROGRAMACION!C239)),PROGRAMACION!C239,\"\")","v":""},null,{"$f":"IF(NOT(ISBLANK(PROGRAMACION!E239)),PROGRAMACION!E239,\"\")","v":""},null,{"$f":"IF(NOT(ISBLANK(PROGRAMACION!G239)),PROGRAMACION!G239,\"\")","v":""},{"$f":"IF(NOT(ISBLANK(PROGRAMACION!H239)),PROGRAMACION!H239,\"\")","v":""},{"$f":"IF(NOT(ISBLANK(PROGRAMACION!I239)),PROGRAMACION!I239,\"\")","v":""},{"$f":"IF(NOT(ISBLANK(PROGRAMACION!J239)),IF(PROGRAMACION!I239=\"Transformador\",MID(PROGRAMACION!J239,1,2),PROGRAMACION!J239),\"\")","v":""},{"$f":"IF(NOT(ISBLANK(PROGRAMACION!K239)),PROGRAMACION!K239,\"\")","v":""},{"$f":"IF(NOT(ISBLANK(PROGRAMACION!L239)),PROGRAMACION!L239,\"\")","v":""},{"$f":"IF(NOT(ISBLANK(PROGRAMACION!M239)),PROGRAMACION!M239,\"\")","v":""},{"$f":"IF(NOT(ISBLANK(PROGRAMACION!N239)),PROGRAMACION!N239,\"\")","v":""},{"$f":"IF(NOT(ISBLANK(PROGRAMACION!O239)),PROGRAMACION!O239,\"\")","v":""}]
[{"$f":"IF(NOT(ISBLANK(PROGRAMACION!A240)),PROGRAMACION!A240,\"\")","v":""},{"$f":"IF(NOT(ISBLANK(PROGRAMACION!B240)),PROGRAMACION!B240,\"\")","v":""},{"$f":"IF(NOT(ISBLANK(PROGRAMACION!C240)),PROGRAMACION!C240,\"\")","v":""},null,{"$f":"IF(NOT(ISBLANK(PROGRAMACION!E240)),PROGRAMACION!E240,\"\")","v":""},null,{"$f":"IF(NOT(ISBLANK(PROGRAMACION!G240)),PROGRAMACION!G240,\"\")","v":""},{"$f":"IF(NOT(ISBLANK(PROGRAMACION!H240)),PROGRAMACION!H240,\"\")","v":""},{"$f":"IF(NOT(ISBLANK(PROGRAMACION!I240)),PROGRAMACION!I240,\"\")","v":""},{"$f":"IF(NOT(ISBLANK(PROGRAMACION!J240)),IF(PROGRAMACION!I240=\"Transformador\",MID(PROGRAMACION!J240,1,2),PROGRAMACION!J240),\"\")","v":""},{"$f":"IF(NOT(ISBLANK(PROGRAMACION!K240)),PROGRAMACION!K240,\"\")","v":""},{"$f":"IF(NOT(ISBLANK(PROGRAMACION!L240)),PROGRAMACION!L240,\"\")","v":""},{"$f":"IF(NOT(ISBLANK(PROGRAMACION!M240)),PROGRAMACION!M240,\"\")","v":""},{"$f":"IF(NOT(ISBLANK(PROGRAMACION!N240)),PROGRAMACION!N240,\"\")","v":""},{"$f":"IF(NOT(ISBLANK(PROGRAMACION!O240)),PROGRAMACION!O240,\"\")","v":""}]
[{"$f":"IF(NOT(ISBLANK(PROGRAMACION!A241)),PROGRAMACION!A241,\"\")","v":""},{"$f":"IF(NOT(ISBLANK(PROGRAMACION!B241)),PROGRAMACION!B241,\"\")","v":""},{"$f":"IF(NOT(ISBLANK(PROGRAMACION!C241)),PROGRAMACION!C241,\"\")","v":""},null,{"$f":"IF(NOT(ISBLANK(PROGRAMACION!E241)),PROGRAMACION!E241,\"\")","v":""},null,{"$f":"IF(NOT(ISBLANK(PROGRAMACION!G241)),PROGRAMACION!G241,\"\")","v":""},{"$f":"IF(NOT(ISBLANK(PROGRAMACION!H241)),PROGRAMACION!H241,\"\")","v":""},{"$f":"IF(NOT(ISBLANK(PROGRAMACION!I241)),PROGRAMACION!I241,\"\")","v":""},{"$f":"IF(NOT(ISBLANK(PROGRAMACION!J241)),IF(PROGRAMACION!I241=\"Transformador\",MID(PROGRAMACION!J241,1,2),PROGRAMACION!J241),\"\")","v":""},{"$f":"IF(NOT(ISBLANK(PROGRAMACION!K241)),PROGRAMACION!K241,\"\")","v":""},{"$f":"IF(NOT(ISBLANK(PROGRAMACION!L241)),PROGRAMACION!L241,\"\")","v":""},{"$f":"IF(NOT(ISBLANK(PROGRAMACION!M241)),PROGRAMACION!M241,\"\")","v":""},{"$f":"IF(NOT(ISBLANK(PROGRAMACION!N241)),PROGRAMACION!N241,\"\")","v":""},{"$f":"IF(NOT(ISBLANK(PROGRAMACION!O241)),PROGRAMACION!O241,\"\")","v":""}]
[{"$f":"IF(NOT(ISBLANK(PROGRAMACION!A242)),PROGRAMACION!A242,\"\")","v":""},{"$f":"IF(NOT(ISBLANK(PROGRAMACION!B242)),PROGRAMACION!B242,\"\")","v":""},{"$f":"IF(NOT(ISBLANK(PROGRAMACION!C242)),PROGRAMACION!C242,\"\")","v":""},null,{"$f":"IF(NOT(ISBLANK(PROGRAMACION!E242)),PROGRAMACION!E242,\"\")","v":""},null,{"$f":"IF(NOT(ISBLANK(PROGRAMACION!G242)),PROGRAMACION!G242,\"\")","v":""},{"$f":"IF(NOT(ISBLANK(PROGRAMACION!H242)),PROGRAMACION!H242,\"\")","v":""},{"$f":"IF(NOT(ISBLANK(PROGRAMACION!I242)),PROGRAMACION!I242,\"\")","v":""},{"$f":"IF(NOT(ISBLANK(PROGRAMACION!J242)),IF(PROGRAMACION!I242=\"Transformador\",MID(PROGRAMACION!J242,1,2),PROGRAMACION!J242),\"\")","v":""},{"$f":"IF(NOT(ISBLANK(PROGRAMACION!K242)),PROGRAMACION!K242,\"\")","v":""},{"$f":"IF(NOT(ISBLANK(PROGRAMACION!L242)),PROGRAMACION!L242,\"\")","v":""},{"$f":"IF(NOT(ISBLANK(PROGRAMACION!M242)),PROGRAMACION!M242,\"\")","v":""},{"$f":"IF(NOT(ISBLANK(PROGRAMACION!N242)),PROGRAMACION!N242,\"\")","v":""},{"$f":"IF(NOT(ISBLANK(PROGRAMACION!O242)),PROGRAMACION!O242,\"\")","v":""}]
[{"$f":"IF(NOT(ISBLANK(PROGRAMACION!A243)),PROGRAMACION!A243,\"\")","v":""},{"$f":"IF(NOT(ISBLANK(PROGRAMACION!B243)),PROGRAMACION!B243,\"\")","v":""},{"$f":"IF(NOT(ISBLANK(PROGRAMACION!C243)),PROGRAMACION!C243,\"\")","v":""},null,{"$f":"IF(NOT(ISBLANK(PROGRAMACION!E243)),PROGRAMACION!E243,\"\")","v":""},null,{"$f":"IF(NOT(ISBLANK(PROGRAMACION!G243)),PROGRAMACION!G243,\"\")","v":""},{"$f":"IF(NOT(ISBLANK(PROGRAMACION!H243)),PROGRAMACION!H243,\"\")","v":""},{"$f":"IF(NOT(ISBLANK(PROGRAMACION!I243)),PROGRAMACION!I243,\"\")","v":""},{"$f":"IF(NOT(ISBLANK(PROGRAMACION!J243)),IF(PROGRAMACION!I243=\"Transformador\",MID(PROGRAMACION!J243,1,2),PROGRAMACION!J243),\"\")","v":""},{"$f":"IF(NOT(ISBLANK(PROGRAMACION!K243)),PROGRAMACION!K243,\"\")","v":""},{"$f":"IF(NOT(ISBLANK(PROGRAMACION!L243)),PROGRAMACION!L243,\"\")","v":""},{"$f":"IF(NOT(ISBLANK(PROGRAMACION!M243)),PROGRAMACION!M243,\"\")","v":""},{"$f":"IF(NOT(ISBLANK(PROGRAMACION!N243)),PROGRAMACION!N243,\"\")","v":""},{"$f":"IF(NOT(ISBLANK(PROGRAMACION!O243)),PROGRAMACION!O243,\"\")","v":""}]
[{"$f":"IF(NOT(ISBLANK(PROGRAMACION!A244)),PROGRAMACION!A244,\"\")","v":""},{"$f":"IF(NOT(ISBLANK(PROGRAMACION!B244)),PROGRAMACION!B244,\"\")","v":""},{"$f":"IF(NOT(ISBLANK(PROGRAMACION!C244)),PROGRAMACION!C244,\"\")","v":""},null,{"$f":"IF(NOT(ISBLANK(PROGRAMACION!E244)),PROGRAMACION!E244,\"\")","v":""},null,{"$f":"IF(NOT(ISBLANK(PROGRAMACION!G244)),PROGRAMACION!G244,\"\")","v":""},{"$f":"IF(NOT(ISBLANK(PROGRAMACION!H244)),PROGRAMACION!H244,\"\")","v":""},{"$f":"IF(NOT(ISBLANK(PROGRAMACION!I244)),PROGRAMACION!I244,\"\")","v":""},{"$f":"IF(NOT(ISBLANK(PROGRAMACION!J244)),IF(PROGRAMACION!I244=\"Transformador\",MID(PROGRAMACION!J244,1,2),PROGRAMACION!J244),\"\")","v":""},{"$f":"IF(NOT(ISBLANK(PROGRAMACION!K244)),PROGRAMACION!K244,\"\")","v":""},{"$f":"IF(NOT(ISBLANK(PROGRAMACION!L244)),PROGRAMACION!L244,\"\")","v":""},{"$f":"IF(NOT(ISBLANK(PROGRAMACION!M244)),PROGRAMACION!M244,\"\")","v":""},{"$f":"IF(NOT(ISBLANK(PROGRAMACION!N244)),PROGRAMACION!N244,\"\")","v":""},{"$f":"IF(NOT(ISBLANK(PROGRAMACION!O244)),PROGRAMACION!O244,\"\")","v":""}]
[{"$f":"IF(NOT(ISBLANK(PROGRAMACION!A245)),PROGRAMACION!A245,\"\")","v":""},{"$f":"IF(NOT(ISBLANK(PROGRAMACION!B245)),PROGRAMACION!B245,\"\")","v":""},{"$f":"IF(NOT(ISBLANK(PROGRAMACION!C245)),PROGRAMACION!C245,\"\")","v":""},null,{"$f":"IF(NOT(ISBLANK(PROGRAMACION!E245)),PROGRAMACION!E245,\"\")","v":""},null,{"$f":"IF(NOT(ISBLANK(PROGRAMACION!G245)),PROGRAMACION!G245,\"\")","v":""},{"$f":"IF(NOT(ISBLANK(PROGRAMACION!H245)),PROGRAMACION!H245,\"\")","v":""},{"$f":"IF(NOT(ISBLANK(PROGRAMACION!I245)),PROGRAMACION!I245,\"\")","v":""},{"$f":"IF(NOT(ISBLANK(PROGRAMACION!J245)),IF(PROGRAMACION!I245=\"Transformador\",MID(PROGRAMACION!J245,1,2),PROGRAMACION!J245),\"\")","v":""},{"$f":"IF(NOT(ISBLANK(PROGRAMACION!K245)),PROGRAMACION!K245,\"\")","v":""},{"$f":"IF(NOT(ISBLANK(PROGRAMACION!L245)),PROGRAMACION!L245,\"\")","v":""},{"$f":"IF(NOT(ISBLANK(PROGRAMACION!M245)),PROGRAMACION!M245,\"\")","v":""},{"$f":"IF(NOT(ISBLANK(PROGRAMACION!N245)),PROGRAMACION!N245,\"\")","v":""},{"$f":"IF(NOT(ISBLANK(PROGRAMACION!O245)),PROGRAMACION!O245,\"\")","v":""}]
[{"$f":"IF(NOT(ISBLANK(PROGRAMACION!A246)),PROGRAMACION!A246,\"\")","v":""},{"$f":"IF(NOT(ISBLANK(PROGRAMACION!B246)),PROGRAMACION!B246,\"\")","v":""},{"$f":"IF(NOT(ISBLANK(PROGRAMACION!C246)),PROGRAMACION!C246,\"\")","v":""},null,{"$f":"IF(NOT(ISBLANK(PROGRAMACION!E246)),PROGRAMACION!E246,\"\")","v":""},null,{"$f":"IF(NOT(ISBLANK(PROGRAMACION!G246)),PROGRAMACION!G246,\"\")","v":""},{"$f":"IF(NOT(ISBLANK(PROGRAMACION!H246)),PROGRAMACION!H246,\"\")","v":""},{"$f":"IF(NOT(ISBLANK(PROGRAMACION!I246)),PROGRAMACION!I246,\"\")","v":""},{"$f":"IF(NOT(ISBLANK(PROGRAMACION!J246)),IF(PROGRAMACION!I246=\"Transformador\",MID(PROGRAMACION!J246,1,2),PROGRAMACION!J246),\"\")","v":""},{"$f":"IF(NOT(ISBLANK(PROGRAMACION!K246)),PROGRAMACION!K246,\"\")","v":""},{"$f":"IF(NOT(ISBLANK(PROGRAMACION!L246)),PROGRAMACION!L246,\"\")","v":""},{"$f":"IF(NOT(ISBLANK(PROGRAMACION!M246)),PROGRAMACION!M246,\"\")","v":""},{"$f":"IF(NOT(ISBLANK(PROGRAMACION!N246)),PROGRAMACION!N246,\"\")","v":""},{"$f":"IF(NOT(ISBLANK(PROGRAMACION!O246)),PROGRAMACION!O246,\"\")","v":""}]
[{"$f":"IF(NOT(ISBLANK(PROGRAMACION!A247)),PROGRAMACION!A247,\"\")","v":""},{"$f":"IF(NOT(ISBLANK(PROGRAMACION!B247)),PROGRAMACION!B247,\"\")","v":""},{"$f":"IF(NOT(ISBLANK(PROGRAMACION!C247)),PROGRAMACION!C247,\"\")","v":""},null,{"$f":"IF(NOT(ISBLANK(PROGRAMACION!E247)),PROGRAMACION!E247,\"\")","v":""},null,{"$f":"IF(NOT(ISBLANK(PROGRAMACION!G247)),PROGRAMACION!G247,\"\")","v":""},{"$f":"IF(NOT(ISBLANK(PROGRAMACION!H247)),PROGRAMACION!H247,\"\")","v":""},{"$f":"IF(NOT(ISBLANK(PROGRAMACION!I247)),PROGRAMACION!I247,\"\")","v":""},{"$f":"IF(NOT(ISBLANK(PROGRAMACION!J247)),IF(PROGRAMACION!I247=\"Transformador\",MID(PROGRAMACION!J247,1,2),PROGRAMACION!J247),\"\")","v":""},{"$f":"IF(NOT(ISBLANK(PROGRAMACION!K247)),PROGRAMACION!K247,\"\")","v":""},{"$f":"IF(NOT(ISBLANK(PROGRAMACION!L247)),PROGRAMACION!L247,\"\")","v":""},{"$f":"IF(NOT(ISBLANK(PROGRAMACION!M247)),PROGRAMACION!M247,\"\")","v":""},{"$f":"IF(NOT(ISBLANK(PROGRAMACION!N247)),PROGRAMACION!N247,\"\")","v":""},{"$f":"IF(NOT(ISBLANK(PROGRAMACION!O247)),PROGRAMACION!O247,\"\")","v":""}]
[{"$f":"IF(NOT(ISBLANK(PROGRAMACION!A248)),PROGRAMACION!A248,\"\")","v":""},{"$f":"IF(NOT(ISBLANK(PROGRAMACION!B248)),PROGRAMACION!B248,\"\")","v":""},{"$f":"IF(NOT(ISBLANK(PROGRAMACION!C248)),PROGRAMACION!C248,\"\")","v":""},null,{"$f":"IF(NOT(ISBLANK(PROGRAMACION!E248)),PROGRAMACION!E248,\"\")","v":""},null,{"$f":"IF(NOT(ISBLANK(PROGRAMACION!G248)),PROGRAMACION!G248,\"\")","v":""},{"$f":"IF(NOT(ISBLANK(PROGRAMACION!H248)),PROGRAMACION!H248,\"\")","v":""},{"$f":"IF(NOT(ISBLANK(PROGRAMACION!I248)),PROGRAMACION!I248,\"\")","v":""},{"$f":"IF(NOT(ISBLANK(PROGRAMACION!J248)),IF(PROGRAMACION!I248=\"Transformador\",MID(PROGRAMACION!J248,1,2),PROGRAMACION!J248),\"\")","v":""},{"$f":"IF(NOT(ISBLANK(PROGRAMACION!K248)),PROGRAMACION!K248,\"\")","v":""},{"$f":"IF(NOT(ISBLANK(PROGRAMACION!L248)),PROGRAMACION!L248,\"\")","v":""},{"$f":"IF(NOT(ISBLANK(PROGRAMACION!M248)),PROGRAMACION!M248,\"\")","v":""},{"$f":"IF(NOT(ISBLANK(PROGRAMACION!N248)),PROGRAMACION!N248,\"\")","v":""},{"$f":"IF(NOT(ISBLANK(PROGRAMACION!O248)),PROGRAMACION!O248,\"\")","v":""}]
[{"$f":"IF(NOT(ISBLANK(PROGRAMACION!A249)),PROGRAMACION!A249,\"\")","v":""},{"$f":"IF(NOT(ISBLANK(PROGRAMACION!B249)),PROGRAMACION!B249,\"\")","v":""},{"$f":"IF(NOT(ISBLANK(PROGRAMACION!C249)),PROGRAMACION!C249,\"\")","v":""},null,{"$f":"IF(NOT(ISBLANK(PROGRAMACION!E249)),PROGRAMACION!E249,\"\")","v":""},null,{"$f":"IF(NOT(ISBLANK(PROGRAMACION!G249)),PROGRAMACION!G249,\"\")","v":""},{"$f":"IF(NOT(ISBLANK(PROGRAMACION!H249)),PROGRAMACION!H249,\"\")","v":""},{"$f":"IF(NOT(ISBLANK(PROGRAMACION!I249)),PROGRAMACION!I249,\"\")","v":""},{"$f":"IF(NOT(ISBLANK(PROGRAMACION!J249)),IF(PROGRAMACION!I249=\"Transformador\",MID(PROGRAMACION!J249,1,2),PROGRAMACION!J249),\"\")","v":""},{"$f":"IF(NOT(ISBLANK(PROGRAMACION!K249)),PROGRAMACION!K249,\"\")","v":""},{"$f":"IF(NOT(ISBLANK(PROGRAMACION!L249)),PROGRAMACION!L249,\"\")","v":""},{"$f":"IF(NOT(ISBLANK(PROGRAMACION!M249)),PROGRAMACION!M249,\"\")","v":""},{"$f":"IF(NOT(ISBLANK(PROGRAMACION!N249)),PROGRAMACION!N249,\"\")","v":""},{"$f":"IF(NOT(ISBLANK(PROGRAMACION!O249)),PROGRAMACION!O249,\"\")","v":""}]
[{"$f":"IF(NOT(ISBLANK(PROGRAMACION!A250)),PROGRAMACION!A250,\"\")","v":""},{"$f":"IF(NOT(ISBLANK(PROGRAMACION!B250)),PROGRAMACION!B250,\"\")","v":""},{"$f":"IF(NOT(ISBLANK(PROGRAMACION!C250)),PROGRAMACION!C250,\"\")","v":""},null,{"$f":"IF(NOT(ISBLANK(PROGRAMACION!E250)),PROGRAMACION!E250,\"\")","v":""},null,{"$f":"IF(NOT(ISBLANK(PROGRAMACION!G250)),PROGRAMACION!G250,\"\")","v":""},{"$f":"IF(NOT(ISBLANK(PROGRAMACION!H250)),PROGRAMACION!H250,\"\")","v":""},{"$f":"IF(NOT(ISBLANK(PROGRAMACION!I250)),PROGRAMACION!I250,\"\")","v":""},{"$f":"IF(NOT(ISBLANK(PROGRAMACION!J250)),IF(PROGRAMACION!I250=\"Transformador\",MID(PROGRAMACION!J250,1,2),PROGRAMACION!J250),\"\")","v":""},{"$f":"IF(NOT(ISBLANK(PROGRAMACION!K250)),PROGRAMACION!K250,\"\")","v":""},{"$f":"IF(NOT(ISBLANK(PROGRAMACION!L250)),PROGRAMACION!L250,\"\")","v":""},{"$f":"IF(NOT(ISBLANK(PROGRAMACION!M250)),PROGRAMACION!M250,\"\")","v":""},{"$f":"IF(NOT(ISBLANK(PROGRAMACION!N250)),PROGRAMACION!N250,\"\")","v":""},{"$f":"IF(NOT(ISBLANK(PROGRAMACION!O250)),PROGRAMACION!O250,\"\")","v":""}]
[{"$f":"IF(NOT(ISBLANK(PROGRAMACION!A251)),PROGRAMACION!A251,\"\")","v":""},{"$f":"IF(NOT(ISBLANK(PROGRAMACION!B251)),PROGRAMACION!B251,\"\")","v":""},{"$f":"IF(NOT(ISBLANK(PROGRAMACION!C251)),PROGRAMACION!C251,\"\")","v":""},null,{"$f":"IF(NOT(ISBLANK(PROGRAMACION!E251)),PROGRAMACION!E251,\"\")","v":""},null,{"$f":"IF(NOT(ISBLANK(PROGRAMACION!G251)),PROGRAMACION!G251,\"\")","v":""},{"$f":"IF(NOT(ISBLANK(PROGRAMACION!H251)),PROGRAMACION!H251,\"\")","v":""},{"$f":"IF(NOT(ISBLANK(PROGRAMACION!I251)),PROGRAMACION!I251,\"\")","v":""},{"$f":"IF(NOT(ISBLANK(PROGRAMACION!J251)),IF(PROGRAMACION!I251=\"Transformador\",MID(PROGRAMACION!J251,1,2),PROGRAMACION!J251),\"\")","v":""},{"$f":"IF(NOT(ISBLANK(PROGRAMACION!K251)),PROGRAMACION!K251,\"\")","v":""},{"$f":"IF(NOT(ISBLANK(PROGRAMACION!L251)),PROGRAMACION!L251,\"\")","v":""},{"$f":"IF(NOT(ISBLANK(PROGRAMACION!M251)),PROGRAMACION!M251,\"\")","v":""},{"$f":"IF(NOT(ISBLANK(PROGRAMACION!N251)),PROGRAMACION!N251,\"\")","v":""},{"$f":"IF(NOT(ISBLANK(PROGRAMACION!O251)),PROGRAMACION!O251,\"\")","v":""}]
[{"$f":"IF(NOT(ISBLANK(PROGRAMACION!A252)),PROGRAMACION!A252,\"\")","v":""},{"$f":"IF(NOT(ISBLANK(PROGRAMACION!B252)),PROGRAMACION!B252,\"\")","v":""},{"$f":"IF(NOT(ISBLANK(PROGRAMACION!C252)),PROGRAMACION!C252,\"\")","v":""},null,{"$f":"IF(NOT(ISBLANK(PROGRAMACION!E252)),PROGRAMACION!E252,\"\")","v":""},null,{"$f":"IF(NOT(ISBLANK(PROGRAMACION!G252)),PROGRAMACION!G252,\"\")","v":""},{"$f":"IF(NOT(ISBLANK(PROGRAMACION!H252)),PROGRAMACION!H252,\"\")","v":""},{"$f":"IF(NOT(ISBLANK(PROGRAMACION!I252)),PROGRAMACION!I252,\"\")","v":""},{"$f":"IF(NOT(ISBLANK(PROGRAMACION!J252)),IF(PROGRAMACION!I252=\"Transformador\",MID(PROGRAMACION!J252,1,2),PROGRAMACION!J252),\"\")","v":""},{"$f":"IF(NOT(ISBLANK(PROGRAMACION!K252)),PROGRAMACION!K252,\"\")","v":""},{"$f":"IF(NOT(ISBLANK(PROGRAMACION!L252)),PROGRAMACION!L252,\"\")","v":""},{"$f":"IF(NOT(ISBLANK(PROGRAMACION!M252)),PROGRAMACION!M252,\"\")","v":""},{"$f":"IF(NOT(ISBLANK(PROGRAMACION!N252)),PROGRAMACION!N252,\"\")","v":""},{"$f":"IF(NOT(ISBLANK(PROGRAMACION!O252)),PROGRAMACION!O252,\"\")","v":""}]
[{"$f":"IF(NOT(ISBLANK(PROGRAMACION!A253)),PROGRAMACION!A253,\"\")","v":""},{"$f":"IF(NOT(ISBLANK(PROGRAMACION!B253)),PROGRAMACION!B253,\"\")","v":""},{"$f":"IF(NOT(ISBLANK(PROGRAMACION!C253)),PROGRAMACION!C253,\"\")","v":""},null,{"$f":"IF(NOT(ISBLANK(PROGRAMACION!E253)),PROGRAMACION!E253,\"\")","v":""},null,{"$f":"IF(NOT(ISBLANK(PROGRAMACION!G253)),PROGRAMACION!G253,\"\")","v":""},{"$f":"IF(NOT(ISBLANK(PROGRAMACION!H253)),PROGRAMACION!H253,\"\")","v":""},{"$f":"IF(NOT(ISBLANK(PROGRAMACION!I253)),PROGRAMACION!I253,\"\")","v":""},{"$f":"IF(NOT(ISBLANK(PROGRAMACION!J253)),IF(PROGRAMACION!I253=\"Transformador\",MID(PROGRAMACION!J253,1,2),PROGRAMACION!J253),\"\")","v":""},{"$f":"IF(NOT(ISBLANK(PROGRAMACION!K253)),PROGRAMACION!K253,\"\")","v":""},{"$f":"IF(NOT(ISBLANK(PROGRAMACION!L253)),PROGRAMACION!L253,\"\")","v":""},{"$f":"IF(NOT(ISBLANK(PROGRAMACION!M253)),PROGRAMACION!M253,\"\")","v":""},{"$f":"IF(NOT(ISBLANK(PROGRAMACION!N253)),PROGRAMACION!N253,\"\")","v":""},{"$f":"IF(NOT(ISBLANK(PROGRAMACION!O253)),PROGRAMACION!O253,\"\")","v":""}]
[{"$f":"IF(NOT(ISBLANK(PROGRAMACION!A254)),PROGRAMACION!A254,\"\")","v":""},{"$f":"IF(NOT(ISBLANK(PROGRAMACION!B254)),PROGRAMACION!B254,\"\")","v":""},{"$f":"IF(NOT(ISBLANK(PROGRAMACION!C254)),PROGRAMACION!C254,\"\")","v":""},null,{"$f":"IF(NOT(ISBLANK(PROGRAMACION!E254)),PROGRAMACION!E254,\"\")","v":""},null,{"$f":"IF(NOT(ISBLANK(PROGRAMACION!G254)),PROGRAMACION!G254,\"\")","v":""},{"$f":"IF(NOT(ISBLANK(PROGRAMACION!H254)),PROGRAMACION!H254,\"\")","v":""},{"$f":"IF(NOT(ISBLANK(PROGRAMACION!I254)),PROGRAMACION!I254,\"\")","v":""},{"$f":"IF(NOT(ISBLANK(PROGRAMACION!J254)),IF(PROGRAMACION!I254=\"Transformador\",MID(PROGRAMACION!J254,1,2),PROGRAMACION!J254),\"\")","v":""},{"$f":"IF(NOT(ISBLANK(PROGRAMACION!K254)),PROGRAMACION!K254,\"\")","v":""},{"$f":"IF(NOT(ISBLANK(PROGRAMACION!L254)),PROGRAMACION!L254,\"\")","v":""},{"$f":"IF(NOT(ISBLANK(PROGRAMACION!M254)),PROGRAMACION!M254,\"\")","v":""},{"$f":"IF(NOT(ISBLANK(PROGRAMACION!N254)),PROGRAMACION!N254,\"\")","v":""},{"$f":"IF(NOT(ISBLANK(PROGRAMACION!O254)),PROGRAMACION!O254,\"\")","v":""}]
[{"$f":"IF(NOT(ISBLANK(PROGRAMACION!A255)),PROGRAMACION!A255,\"\")","v":""},{"$f":"IF(NOT(ISBLANK(PROGRAMACION!B255)),PROGRAMACION!B255,\"\")","v":""},{"$f":"IF(NOT(ISBLANK(PROGRAMACION!C255)),PROGRAMACION!C255,\"\")","v":""},null,{"$f":"IF(NOT(ISBLANK(PROGRAMACION!E255)),PROGRAMACION!E255,\"\")","v":""},null,{"$f":"IF(NOT(ISBLANK(PROGRAMACION!G255)),PROGRAMACION!G255,\"\")","v":""},{"$f":"IF(NOT(ISBLANK(PROGRAMACION!H255)),PROGRAMACION!H255,\"\")","v":""},{"$f":"IF(NOT(ISBLANK(PROGRAMACION!I255)),PROGRAMACION!I255,\"\")","v":""},{"$f":"IF(NOT(ISBLANK(PROGRAMACION!J255)),IF(PROGRAMACION!I255=\"Transformador\",MID(PROGRAMACION!J255,1,2),PROGRAMACION!J255),\"\")","v":""},{"$f":"IF(NOT(ISBLANK(PROGRAMACION!K255)),PROGRAMACION!K255,\"\")","v":""},{"$f":"IF(NOT(ISBLANK(PROGRAMACION!L255)),PROGRAMACION!L255,\"\")","v":""},{"$f":"IF(NOT(ISBLANK(PROGRAMACION!M255)),PROGRAMACION!M255,\"\")","v":""},{"$f":"IF(NOT(ISBLANK(PROGRAMACION!N255)),PROGRAMACION!N255,\"\")","v":""},{"$f":"IF(NOT(ISBLANK(PROGRAMACION!O255)),PROGRAMACION!O255,\"\")","v":""}]
[{"$f":"IF(NOT(ISBLANK(PROGRAMACION!A256)),PROGRAMACION!A256,\"\")","v":""},{"$f":"IF(NOT(ISBLANK(PROGRAMACION!B256)),PROGRAMACION!B256,\"\")","v":""},{"$f":"IF(NOT(ISBLANK(PROGRAMACION!C256)),PROGRAMACION!C256,\"\")","v":""},null,{"$f":"IF(NOT(ISBLANK(PROGRAMACION!E256)),PROGRAMACION!E256,\"\")","v":""},null,{"$f":"IF(NOT(ISBLANK(PROGRAMACION!G256)),PROGRAMACION!G256,\"\")","v":""},{"$f":"IF(NOT(ISBLANK(PROGRAMACION!H256)),PROGRAMACION!H256,\"\")","v":""},{"$f":"IF(NOT(ISBLANK(PROGRAMACION!I256)),PROGRAMACION!I256,\"\")","v":""},{"$f":"IF(NOT(ISBLANK(PROGRAMACION!J256)),IF(PROGRAMACION!I256=\"Transformador\",MID(PROGRAMACION!J256,1,2),PROGRAMACION!J256),\"\")","v":""},{"$f":"IF(NOT(ISBLANK(PROGRAMACION!K256)),PROGRAMACION!K256,\"\")","v":""},{"$f":"IF(NOT(ISBLANK(PROGRAMACION!L256)),PROGRAMACION!L256,\"\")","v":""},{"$f":"IF(NOT(ISBLANK(PROGRAMACION!M256)),PROGRAMACION!M256,\"\")","v":""},{"$f":"IF(NOT(ISBLANK(PROGRAMACION!N256)),PROGRAMACION!N256,\"\")","v":""},{"$f":"IF(NOT(ISBLANK(PROGRAMACION!O256)),PROGRAMACION!O256,\"\")","v":""}]
[{"$f":"IF(NOT(ISBLANK(PROGRAMACION!A257)),PROGRAMACION!A257,\"\")","v":""},{"$f":"IF(NOT(ISBLANK(PROGRAMACION!B257)),PROGRAMACION!B257,\"\")","v":""},{"$f":"IF(NOT(ISBLANK(PROGRAMACION!C257)),PROGRAMACION!C257,\"\")","v":""},null,{"$f":"IF(NOT(ISBLANK(PROGRAMACION!E257)),PROGRAMACION!E257,\"\")","v":""},null,{"$f":"IF(NOT(ISBLANK(PROGRAMACION!G257)),PROGRAMACION!G257,\"\")","v":""},{"$f":"IF(NOT(ISBLANK(PROGRAMACION!H257)),PROGRAMACION!H257,\"\")","v":""},{"$f":"IF(NOT(ISBLANK(PROGRAMACION!I257)),PROGRAMACION!I257,\"\")","v":""},{"$f":"IF(NOT(ISBLANK(PROGRAMACION!J257)),IF(PROGRAMACION!I257=\"Transformador\",MID(PROGRAMACION!J257,1,2),PROGRAMACION!J257),\"\")","v":""},{"$f":"IF(NOT(ISBLANK(PROGRAMACION!K257)),PROGRAMACION!K257,\"\")","v":""},{"$f":"IF(NOT(ISBLANK(PROGRAMACION!L257)),PROGRAMACION!L257,\"\")","v":""},{"$f":"IF(NOT(ISBLANK(PROGRAMACION!M257)),PROGRAMACION!M257,\"\")","v":""},{"$f":"IF(NOT(ISBLANK(PROGRAMACION!N257)),PROGRAMACION!N257,\"\")","v":""},{"$f":"IF(NOT(ISBLANK(PROGRAMACION!O257)),PROGRAMACION!O257,\"\")","v":""}]
[{"$f":"IF(NOT(ISBLANK(PROGRAMACION!A258)),PROGRAMACION!A258,\"\")","v":""},{"$f":"IF(NOT(ISBLANK(PROGRAMACION!B258)),PROGRAMACION!B258,\"\")","v":""},{"$f":"IF(NOT(ISBLANK(PROGRAMACION!C258)),PROGRAMACION!C258,\"\")","v":""},null,{"$f":"IF(NOT(ISBLANK(PROGRAMACION!E258)),PROGRAMACION!E258,\"\")","v":""},null,{"$f":"IF(NOT(ISBLANK(PROGRAMACION!G258)),PROGRAMACION!G258,\"\")","v":""},{"$f":"IF(NOT(ISBLANK(PROGRAMACION!H258)),PROGRAMACION!H258,\"\")","v":""},{"$f":"IF(NOT(ISBLANK(PROGRAMACION!I258)),PROGRAMACION!I258,\"\")","v":""},{"$f":"IF(NOT(ISBLANK(PROGRAMACION!J258)),IF(PROGRAMACION!I258=\"Transformador\",MID(PROGRAMACION!J258,1,2),PROGRAMACION!J258),\"\")","v":""},{"$f":"IF(NOT(ISBLANK(PROGRAMACION!K258)),PROGRAMACION!K258,\"\")","v":""},{"$f":"IF(NOT(ISBLANK(PROGRAMACION!L258)),PROGRAMACION!L258,\"\")","v":""},{"$f":"IF(NOT(ISBLANK(PROGRAMACION!M258)),PROGRAMACION!M258,\"\")","v":""},{"$f":"IF(NOT(ISBLANK(PROGRAMACION!N258)),PROGRAMACION!N258,\"\")","v":""},{"$f":"IF(NOT(ISBLANK(PROGRAMACION!O258)),PROGRAMACION!O258,\"\")","v":""}]
[{"$f":"IF(NOT(ISBLANK(PROGRAMACION!A259)),PROGRAMACION!A259,\"\")","v":""},{"$f":"IF(NOT(ISBLANK(PROGRAMACION!B259)),PROGRAMACION!B259,\"\")","v":""},{"$f":"IF(NOT(ISBLANK(PROGRAMACION!C259)),PROGRAMACION!C259,\"\")","v":""},null,{"$f":"IF(NOT(ISBLANK(PROGRAMACION!E259)),PROGRAMACION!E259,\"\")","v":""},null,{"$f":"IF(NOT(ISBLANK(PROGRAMACION!G259)),PROGRAMACION!G259,\"\")","v":""},{"$f":"IF(NOT(ISBLANK(PROGRAMACION!H259)),PROGRAMACION!H259,\"\")","v":""},{"$f":"IF(NOT(ISBLANK(PROGRAMACION!I259)),PROGRAMACION!I259,\"\")","v":""},{"$f":"IF(NOT(ISBLANK(PROGRAMACION!J259)),IF(PROGRAMACION!I259=\"Transformador\",MID(PROGRAMACION!J259,1,2),PROGRAMACION!J259),\"\")","v":""},{"$f":"IF(NOT(ISBLANK(PROGRAMACION!K259)),PROGRAMACION!K259,\"\")","v":""},{"$f":"IF(NOT(ISBLANK(PROGRAMACION!L259)),PROGRAMACION!L259,\"\")","v":""},{"$f":"IF(NOT(ISBLANK(PROGRAMACION!M259)),PROGRAMACION!M259,\"\")","v":""},{"$f":"IF(NOT(ISBLANK(PROGRAMACION!N259)),PROGRAMACION!N259,\"\")","v":""},{"$f":"IF(NOT(ISBLANK(PROGRAMACION!O259)),PROGRAMACION!O259,\"\")","v":""}]
[{"$f":"IF(NOT(ISBLANK(PROGRAMACION!A260)),PROGRAMACION!A260,\"\")","v":""},{"$f":"IF(NOT(ISBLANK(PROGRAMACION!B260)),PROGRAMACION!B260,\"\")","v":""},{"$f":"IF(NOT(ISBLANK(PROGRAMACION!C260)),PROGRAMACION!C260,\"\")","v":""},null,{"$f":"IF(NOT(ISBLANK(PROGRAMACION!E260)),PROGRAMACION!E260,\"\")","v":""},null,{"$f":"IF(NOT(ISBLANK(PROGRAMACION!G260)),PROGRAMACION!G260,\"\")","v":""},{"$f":"IF(NOT(ISBLANK(PROGRAMACION!H260)),PROGRAMACION!H260,\"\")","v":""},{"$f":"IF(NOT(ISBLANK(PROGRAMACION!I260)),PROGRAMACION!I260,\"\")","v":""},{"$f":"IF(NOT(ISBLANK(PROGRAMACION!J260)),IF(PROGRAMACION!I260=\"Transformador\",MID(PROGRAMACION!J260,1,2),PROGRAMACION!J260),\"\")","v":""},{"$f":"IF(NOT(ISBLANK(PROGRAMACION!K260)),PROGRAMACION!K260,\"\")","v":""},{"$f":"IF(NOT(ISBLANK(PROGRAMACION!L260)),PROGRAMACION!L260,\"\")","v":""},{"$f":"IF(NOT(ISBLANK(PROGRAMACION!M260)),PROGRAMACION!M260,\"\")","v":""},{"$f":"IF(NOT(ISBLANK(PROGRAMACION!N260)),PROGRAMACION!N260,\"\")","v":""},{"$f":"IF(NOT(ISBLANK(PROGRAMACION!O260)),PROGRAMACION!O260,\"\")","v":""}]
[{"$f":"IF(NOT(ISBLANK(PROGRAMACION!A261)),PROGRAMACION!A261,\"\")","v":""},{"$f":"IF(NOT(ISBLANK(PROGRAMACION!B261)),PROGRAMACION!B261,\"\")","v":""},{"$f":"IF(NOT(ISBLANK(PROGRAMACION!C261)),PROGRAMACION!C261,\"\")","v":""},null,{"$f":"IF(NOT(ISBLANK(PROGRAMACION!E261)),PROGRAMACION!E261,\"\")","v":""},null,{"$f":"IF(NOT(ISBLANK(PROGRAMACION!G261)),PROGRAMACION!G261,\"\")","v":""},{"$f":"IF(NOT(ISBLANK(PROGRAMACION!H261)),PROGRAMACION!H261,\"\")","v":""},{"$f":"IF(NOT(ISBLANK(PROGRAMACION!I261)),PROGRAMACION!I261,\"\")","v":""},{"$f":"IF(NOT(ISBLANK(PROGRAMACION!J261)),IF(PROGRAMACION!I261=\"Transformador\",MID(PROGRAMACION!J261,1,2),PROGRAMACION!J261),\"\")","v":""},{"$f":"IF(NOT(ISBLANK(PROGRAMACION!K261)),PROGRAMACION!K261,\"\")","v":""},{"$f":"IF(NOT(ISBLANK(PROGRAMACION!L261)),PROGRAMACION!L261,\"\")","v":""},{"$f":"IF(NOT(ISBLANK(PROGRAMACION!M261)),PROGRAMACION!M261,\"\")","v":""},{"$f":"IF(NOT(ISBLANK(PROGRAMACION!N261)),PROGRAMACION!N261,\"\")","v":""},{"$f":"IF(NOT(ISBLANK(PROGRAMACION!O261)),PROGRAMACION!O261,\"\")","v":""}]
[{"$f":"IF(NOT(ISBLANK(PROGRAMACION!A262)),PROGRAMACION!A262,\"\")","v":""},{"$f":"IF(NOT(ISBLANK(PROGRAMACION!B262)),PROGRAMACION!B262,\"\")","v":""},{"$f":"IF(NOT(ISBLANK(PROGRAMACION!C262)),PROGRAMACION!C262,\"\")","v":""},null,{"$f":"IF(NOT(ISBLANK(PROGRAMACION!E262)),PROGRAMACION!E262,\"\")","v":""},null,{"$f":"IF(NOT(ISBLANK(PROGRAMACION!G262)),PROGRAMACION!G262,\"\")","v":""},{"$f":"IF(NOT(ISBLANK(PROGRAMACION!H262)),PROGRAMACION!H262,\"\")","v":""},{"$f":"IF(NOT(ISBLANK(PROGRAMACION!I262)),PROGRAMACION!I262,\"\")","v":""},{"$f":"IF(NOT(ISBLANK(PROGRAMACION!J262)),IF(PROGRAMACION!I262=\"Transformador\",MID(PROGRAMACION!J262,1,2),PROGRAMACION!J262),\"\")","v":""},{"$f":"IF(NOT(ISBLANK(PROGRAMACION!K262)),PROGRAMACION!K262,\"\")","v":""},{"$f":"IF(NOT(ISBLANK(PROGRAMACION!L262)),PROGRAMACION!L262,\"\")","v":""},{"$f":"IF(NOT(ISBLANK(PROGRAMACION!M262)),PROGRAMACION!M262,\"\")","v":""},{"$f":"IF(NOT(ISBLANK(PROGRAMACION!N262)),PROGRAMACION!N262,\"\")","v":""},{"$f":"IF(NOT(ISBLANK(PROGRAMACION!O262)),PROGRAMACION!O262,\"\")","v":""}]
[{"$f":"IF(NOT(ISBLANK(PROGRAMACION!A263)),PROGRAMACION!A263,\"\")","v":""},{"$f":"IF(NOT(ISBLANK(PROGRAMACION!B263)),PROGRAMACION!B263,\"\")","v":""},{"$f":"IF(NOT(ISBLANK(PROGRAMACION!C263)),PROGRAMACION!C263,\"\")","v":""},null,{"$f":"IF(NOT(ISBLANK(PROGRAMACION!E263)),PROGRAMACION!E263,\"\")","v":""},null,{"$f":"IF(NOT(ISBLANK(PROGRAMACION!G263)),PROGRAMACION!G263,\"\")","v":""},{"$f":"IF(NOT(ISBLANK(PROGRAMACION!H263)),PROGRAMACION!H263,\"\")","v":""},{"$f":"IF(NOT(ISBLANK(PROGRAMACION!I263)),PROGRAMACION!I263,\"\")","v":""},{"$f":"IF(NOT(ISBLANK(PROGRAMACION!J263)),IF(PROGRAMACION!I263=\"Transformador\",MID(PROGRAMACION!J263,1,2),PROGRAMACION!J263),\"\")","v":""},{"$f":"IF(NOT(ISBLANK(PROGRAMACION!K263)),PROGRAMACION!K263,\"\")","v":""},{"$f":"IF(NOT(ISBLANK(PROGRAMACION!L263)),PROGRAMACION!L263,\"\")","v":""},{"$f":"IF(NOT(ISBLANK(PROGRAMACION!M263)),PROGRAMACION!M263,\"\")","v":""},{"$f":"IF(NOT(ISBLANK(PROGRAMACION!N263)),PROGRAMACION!N263,\"\")","v":""},{"$f":"IF(NOT(ISBLANK(PROGRAMACION!O263)),PROGRAMACION!O263,\"\")","v":""}]
[{"$f":"IF(NOT(ISBLANK(PROGRAMACION!A264)),PROGRAMACION!A264,\"\")","v":""},{"$f":"IF(NOT(ISBLANK(PROGRAMACION!B264)),PROGRAMACION!B264,\"\")","v":""},{"$f":"IF(NOT(ISBLANK(PROGRAMACION!C264)),PROGRAMACION!C264,\"\")","v":""},null,{"$f":"IF(NOT(ISBLANK(PROGRAMACION!E264)),PROGRAMACION!E264,\"\")","v":""},null,{"$f":"IF(NOT(ISBLANK(PROGRAMACION!G264)),PROGRAMACION!G264,\"\")","v":""},{"$f":"IF(NOT(ISBLANK(PROGRAMACION!H264)),PROGRAMACION!H264,\"\")","v":""},{"$f":"IF(NOT(ISBLANK(PROGRAMACION!I264)),PROGRAMACION!I264,\"\")","v":""},{"$f":"IF(NOT(ISBLANK(PROGRAMACION!J264)),IF(PROGRAMACION!I264=\"Transformador\",MID(PROGRAMACION!J264,1,2),PROGRAMACION!J264),\"\")","v":""},{"$f":"IF(NOT(ISBLANK(PROGRAMACION!K264)),PROGRAMACION!K264,\"\")","v":""},{"$f":"IF(NOT(ISBLANK(PROGRAMACION!L264)),PROGRAMACION!L264,\"\")","v":""},{"$f":"IF(NOT(ISBLANK(PROGRAMACION!M264)),PROGRAMACION!M264,\"\")","v":""},{"$f":"IF(NOT(ISBLANK(PROGRAMACION!N264)),PROGRAMACION!N264,\"\")","v":""},{"$f":"IF(NOT(ISBLANK(PROGRAMACION!O264)),PROGRAMACION!O264,\"\")","v":""}]
[{"$f":"IF(NOT(ISBLANK(PROGRAMACION!A265)),PROGRAMACION!A265,\"\")","v":""},{"$f":"IF(NOT(ISBLANK(PROGRAMACION!B265)),PROGRAMACION!B265,\"\")","v":""},{"$f":"IF(NOT(ISBLANK(PROGRAMACION!C265)),PROGRAMACION!C265,\"\")","v":""},null,{"$f":"IF(NOT(ISBLANK(PROGRAMACION!E265)),PROGRAMACION!E265,\"\")","v":""},null,{"$f":"IF(NOT(ISBLANK(PROGRAMACION!G265)),PROGRAMACION!G265,\"\")","v":""},{"$f":"IF(NOT(ISBLANK(PROGRAMACION!H265)),PROGRAMACION!H265,\"\")","v":""},{"$f":"IF(NOT(ISBLANK(PROGRAMACION!I265)),PROGRAMACION!I265,\"\")","v":""},{"$f":"IF(NOT(ISBLANK(PROGRAMACION!J265)),IF(PROGRAMACION!I265=\"Transformador\",MID(PROGRAMACION!J265,1,2),PROGRAMACION!J265),\"\")","v":""},{"$f":"IF(NOT(ISBLANK(PROGRAMACION!K265)),PROGRAMACION!K265,\"\")","v":""},{"$f":"IF(NOT(ISBLANK(PROGRAMACION!L265)),PROGRAMACION!L265,\"\")","v":""},{"$f":"IF(NOT(ISBLANK(PROGRAMACION!M265)),PROGRAMACION!M265,\"\")","v":""},{"$f":"IF(NOT(ISBLANK(PROGRAMACION!N265)),PROGRAMACION!N265,\"\")","v":""},{"$f":"IF(NOT(ISBLANK(PROGRAMACION!O265)),PROGRAMACION!O265,\"\")","v":""}]
[{"$f":"IF(NOT(ISBLANK(PROGRAMACION!A266)),PROGRAMACION!A266,\"\")","v":""},{"$f":"IF(NOT(ISBLANK(PROGRAMACION!B266)),PROGRAMACION!B266,\"\")","v":""},{"$f":"IF(NOT(ISBLANK(PROGRAMACION!C266)),PROGRAMACION!C266,\"\")","v":""},null,{"$f":"IF(NOT(ISBLANK(PROGRAMACION!E266)),PROGRAMACION!E266,\"\")","v":""},null,{"$f":"IF(NOT(ISBLANK(PROGRAMACION!G266)),PROGRAMACION!G266,\"\")","v":""},{"$f":"IF(NOT(ISBLANK(PROGRAMACION!H266)),PROGRAMACION!H266,\"\")","v":""},{"$f":"IF(NOT(ISBLANK(PROGRAMACION!I266)),PROGRAMACION!I266,\"\")","v":""},{"$f":"IF(NOT(ISBLANK(PROGRAMACION!J266)),IF(PROGRAMACION!I266=\"Transformador\",MID(PROGRAMACION!J266,1,2),PROGRAMACION!J266),\"\")","v":""},{"$f":"IF(NOT(ISBLANK(PROGRAMACION!K266)),PROGRAMACION!K266,\"\")","v":""},{"$f":"IF(NOT(ISBLANK(PROGRAMACION!L266)),PROGRAMACION!L266,\"\")","v":""},{"$f":"IF(NOT(ISBLANK(PROGRAMACION!M266)),PROGRAMACION!M266,\"\")","v":""},{"$f":"IF(NOT(ISBLANK(PROGRAMACION!N266)),PROGRAMACION!N266,\"\")","v":""},{"$f":"IF(NOT(ISBLANK(PROGRAMACION!O266)),PROGRAMACION!O266,\"\")","v":""}]
[{"$f":"IF(NOT(ISBLANK(PROGRAMACION!A267)),PROGRAMACION!A267,\"\")","v":""},{"$f":"IF(NOT(ISBLANK(PROGRAMACION!B267)),PROGRAMACION!B267,\"\")","v":""},{"$f":"IF(NOT(ISBLANK(PROGRAMACION!C267)),PROGRAMACION!C267,\"\")","v":""},null,{"$f":"IF(NOT(ISBLANK(PROGRAMACION!E267)),PROGRAMACION!E267,\"\")","v":""},null,{"$f":"IF(NOT(ISBLANK(PROGRAMACION!G267)),PROGRAMACION!G267,\"\")","v":""},{"$f":"IF(NOT(ISBLANK(PROGRAMACION!H267)),PROGRAMACION!H267,\"\")","v":""},{"$f":"IF(NOT(ISBLANK(PROGRAMACION!I267)),PROGRAMACION!I267,\"\")","v":""},{"$f":"IF(NOT(ISBLANK(PROGRAMACION!J267)),IF(PROGRAMACION!I267=\"Transformador\",MID(PROGRAMACION!J267,1,2),PROGRAMACION!J267),\"\")","v":""},{"$f":"IF(NOT(ISBLANK(PROGRAMACION!K267)),PROGRAMACION!K267,\"\")","v":""},{"$f":"IF(NOT(ISBLANK(PROGRAMACION!L267)),PROGRAMACION!L267,\"\")","v":""},{"$f":"IF(NOT(ISBLANK(PROGRAMACION!M267)),PROGRAMACION!M267,\"\")","v":""},{"$f":"IF(NOT(ISBLANK(PROGRAMACION!N267)),PROGRAMACION!N267,\"\")","v":""},{"$f":"IF(NOT(ISBLANK(PROGRAMACION!O267)),PROGRAMACION!O267,\"\")","v":""}]
[{"$f":"IF(NOT(ISBLANK(PROGRAMACION!A268)),PROGRAMACION!A268,\"\")","v":""},{"$f":"IF(NOT(ISBLANK(PROGRAMACION!B268)),PROGRAMACION!B268,\"\")","v":""},{"$f":"IF(NOT(ISBLANK(PROGRAMACION!C268)),PROGRAMACION!C268,\"\")","v":""},null,{"$f":"IF(NOT(ISBLANK(PROGRAMACION!E268)),PROGRAMACION!E268,\"\")","v":""},null,{"$f":"IF(NOT(ISBLANK(PROGRAMACION!G268)),PROGRAMACION!G268,\"\")","v":""},{"$f":"IF(NOT(ISBLANK(PROGRAMACION!H268)),PROGRAMACION!H268,\"\")","v":""},{"$f":"IF(NOT(ISBLANK(PROGRAMACION!I268)),PROGRAMACION!I268,\"\")","v":""},{"$f":"IF(NOT(ISBLANK(PROGRAMACION!J268)),IF(PROGRAMACION!I268=\"Transformador\",MID(PROGRAMACION!J268,1,2),PROGRAMACION!J268),\"\")","v":""},{"$f":"IF(NOT(ISBLANK(PROGRAMACION!K268)),PROGRAMACION!K268,\"\")","v":""},{"$f":"IF(NOT(ISBLANK(PROGRAMACION!L268)),PROGRAMACION!L268,\"\")","v":""},{"$f":"IF(NOT(ISBLANK(PROGRAMACION!M268)),PROGRAMACION!M268,\"\")","v":""},{"$f":"IF(NOT(ISBLANK(PROGRAMACION!N268)),PROGRAMACION!N268,\"\")","v":""},{"$f":"IF(NOT(ISBLANK(PROGRAMACION!O268)),PROGRAMACION!O268,\"\")","v":""}]
[{"$f":"IF(NOT(ISBLANK(PROGRAMACION!A269)),PROGRAMACION!A269,\"\")","v":""},{"$f":"IF(NOT(ISBLANK(PROGRAMACION!B269)),PROGRAMACION!B269,\"\")","v":""},{"$f":"IF(NOT(ISBLANK(PROGRAMACION!C269)),PROGRAMACION!C269,\"\")","v":""},null,{"$f":"IF(NOT(ISBLANK(PROGRAMACION!E269)),PROGRAMACION!E269,\"\")","v":""},null,{"$f":"IF(NOT(ISBLANK(PROGRAMACION!G269)),PROGRAMACION!G269,\"\")","v":""},{"$f":"IF(NOT(ISBLANK(PROGRAMACION!H269)),PROGRAMACION!H269,\"\")","v":""},{"$f":"IF(NOT(ISBLANK(PROGRAMACION!I269)),PROGRAMACION!I269,\"\")","v":""},{"$f":"IF(NOT(ISBLANK(PROGRAMACION!J269)),IF(PROGRAMACION!I269=\"Transformador\",MID(PROGRAMACION!J269,1,2),PROGRAMACION!J269),\"\")","v":""},{"$f":"IF(NOT(ISBLANK(PROGRAMACION!K269)),PROGRAMACION!K269,\"\")","v":""},{"$f":"IF(NOT(ISBLANK(PROGRAMACION!L269)),PROGRAMACION!L269,\"\")","v":""},{"$f":"IF(NOT(ISBLANK(PROGRAMACION!M269)),PROGRAMACION!M269,\"\")","v":""},{"$f":"IF(NOT(ISBLANK(PROGRAMACION!N269)),PROGRAMACION!N269,\"\")","v":""},{"$f":"IF(NOT(ISBLANK(PROGRAMACION!O269)),PROGRAMACION!O269,\"\")","v":""}]
[{"$f":"IF(NOT(ISBLANK(PROGRAMACION!A270)),PROGRAMACION!A270,\"\")","v":""},{"$f":"IF(NOT(ISBLANK(PROGRAMACION!B270)),PROGRAMACION!B270,\"\")","v":""},{"$f":"IF(NOT(ISBLANK(PROGRAMACION!C270)),PROGRAMACION!C270,\"\")","v":""},null,{"$f":"IF(NOT(ISBLANK(PROGRAMACION!E270)),PROGRAMACION!E270,\"\")","v":""},null,{"$f":"IF(NOT(ISBLANK(PROGRAMACION!G270)),PROGRAMACION!G270,\"\")","v":""},{"$f":"IF(NOT(ISBLANK(PROGRAMACION!H270)),PROGRAMACION!H270,\"\")","v":""},{"$f":"IF(NOT(ISBLANK(PROGRAMACION!I270)),PROGRAMACION!I270,\"\")","v":""},{"$f":"IF(NOT(ISBLANK(PROGRAMACION!J270)),IF(PROGRAMACION!I270=\"Transformador\",MID(PROGRAMACION!J270,1,2),PROGRAMACION!J270),\"\")","v":""},{"$f":"IF(NOT(ISBLANK(PROGRAMACION!K270)),PROGRAMACION!K270,\"\")","v":""},{"$f":"IF(NOT(ISBLANK(PROGRAMACION!L270)),PROGRAMACION!L270,\"\")","v":""},{"$f":"IF(NOT(ISBLANK(PROGRAMACION!M270)),PROGRAMACION!M270,\"\")","v":""},{"$f":"IF(NOT(ISBLANK(PROGRAMACION!N270)),PROGRAMACION!N270,\"\")","v":""},{"$f":"IF(NOT(ISBLANK(PROGRAMACION!O270)),PROGRAMACION!O270,\"\")","v":""}]
[{"$f":"IF(NOT(ISBLANK(PROGRAMACION!A271)),PROGRAMACION!A271,\"\")","v":""},{"$f":"IF(NOT(ISBLANK(PROGRAMACION!B271)),PROGRAMACION!B271,\"\")","v":""},{"$f":"IF(NOT(ISBLANK(PROGRAMACION!C271)),PROGRAMACION!C271,\"\")","v":""},null,{"$f":"IF(NOT(ISBLANK(PROGRAMACION!E271)),PROGRAMACION!E271,\"\")","v":""},null,{"$f":"IF(NOT(ISBLANK(PROGRAMACION!G271)),PROGRAMACION!G271,\"\")","v":""},{"$f":"IF(NOT(ISBLANK(PROGRAMACION!H271)),PROGRAMACION!H271,\"\")","v":""},{"$f":"IF(NOT(ISBLANK(PROGRAMACION!I271)),PROGRAMACION!I271,\"\")","v":""},{"$f":"IF(NOT(ISBLANK(PROGRAMACION!J271)),IF(PROGRAMACION!I271=\"Transformador\",MID(PROGRAMACION!J271,1,2),PROGRAMACION!J271),\"\")","v":""},{"$f":"IF(NOT(ISBLANK(PROGRAMACION!K271)),PROGRAMACION!K271,\"\")","v":""},{"$f":"IF(NOT(ISBLANK(PROGRAMACION!L271)),PROGRAMACION!L271,\"\")","v":""},{"$f":"IF(NOT(ISBLANK(PROGRAMACION!M271)),PROGRAMACION!M271,\"\")","v":""},{"$f":"IF(NOT(ISBLANK(PROGRAMACION!N271)),PROGRAMACION!N271,\"\")","v":""},{"$f":"IF(NOT(ISBLANK(PROGRAMACION!O271)),PROGRAMACION!O271,\"\")","v":""}]
[{"$f":"IF(NOT(ISBLANK(PROGRAMACION!A272)),PROGRAMACION!A272,\"\")","v":""},{"$f":"IF(NOT(ISBLANK(PROGRAMACION!B272)),PROGRAMACION!B272,\"\")","v":""},{"$f":"IF(NOT(ISBLANK(PROGRAMACION!C272)),PROGRAMACION!C272,\"\")","v":""},null,{"$f":"IF(NOT(ISBLANK(PROGRAMACION!E272)),PROGRAMACION!E272,\"\")","v":""},null,{"$f":"IF(NOT(ISBLANK(PROGRAMACION!G272)),PROGRAMACION!G272,\"\")","v":""},{"$f":"IF(NOT(ISBLANK(PROGRAMACION!H272)),PROGRAMACION!H272,\"\")","v":""},{"$f":"IF(NOT(ISBLANK(PROGRAMACION!I272)),PROGRAMACION!I272,\"\")","v":""},{"$f":"IF(NOT(ISBLANK(PROGRAMACION!J272)),IF(PROGRAMACION!I272=\"Transformador\",MID(PROGRAMACION!J272,1,2),PROGRAMACION!J272),\"\")","v":""},{"$f":"IF(NOT(ISBLANK(PROGRAMACION!K272)),PROGRAMACION!K272,\"\")","v":""},{"$f":"IF(NOT(ISBLANK(PROGRAMACION!L272)),PROGRAMACION!L272,\"\")","v":""},{"$f":"IF(NOT(ISBLANK(PROGRAMACION!M272)),PROGRAMACION!M272,\"\")","v":""},{"$f":"IF(NOT(ISBLANK(PROGRAMACION!N272)),PROGRAMACION!N272,\"\")","v":""},{"$f":"IF(NOT(ISBLANK(PROGRAMACION!O272)),PROGRAMACION!O272,\"\")","v":""}]
[{"$f":"IF(NOT(ISBLANK(PROGRAMACION!A273)),PROGRAMACION!A273,\"\")","v":""},{"$f":"IF(NOT(ISBLANK(PROGRAMACION!B273)),PROGRAMACION!B273,\"\")","v":""},{"$f":"IF(NOT(ISBLANK(PROGRAMACION!C273)),PROGRAMACION!C273,\"\")","v":""},null,{"$f":"IF(NOT(ISBLANK(PROGRAMACION!E273)),PROGRAMACION!E273,\"\")","v":""},null,{"$f":"IF(NOT(ISBLANK(PROGRAMACION!G273)),PROGRAMACION!G273,\"\")","v":""},{"$f":"IF(NOT(ISBLANK(PROGRAMACION!H273)),PROGRAMACION!H273,\"\")","v":""},{"$f":"IF(NOT(ISBLANK(PROGRAMACION!I273)),PROGRAMACION!I273,\"\")","v":""},{"$f":"IF(NOT(ISBLANK(PROGRAMACION!J273)),IF(PROGRAMACION!I273=\"Transformador\",MID(PROGRAMACION!J273,1,2),PROGRAMACION!J273),\"\")","v":""},{"$f":"IF(NOT(ISBLANK(PROGRAMACION!K273)),PROGRAMACION!K273,\"\")","v":""},{"$f":"IF(NOT(ISBLANK(PROGRAMACION!L273)),PROGRAMACION!L273,\"\")","v":""},{"$f":"IF(NOT(ISBLANK(PROGRAMACION!M273)),PROGRAMACION!M273,\"\")","v":""},{"$f":"IF(NOT(ISBLANK(PROGRAMACION!N273)),PROGRAMACION!N273,\"\")","v":""},{"$f":"IF(NOT(ISBLANK(PROGRAMACION!O273)),PROGRAMACION!O273,\"\")","v":""}]
[{"$f":"IF(NOT(ISBLANK(PROGRAMACION!A274)),PROGRAMACION!A274,\"\")","v":""},{"$f":"IF(NOT(ISBLANK(PROGRAMACION!B274)),PROGRAMACION!B274,\"\")","v":""},{"$f":"IF(NOT(ISBLANK(PROGRAMACION!C274)),PROGRAMACION!C274,\"\")","v":""},null,{"$f":"IF(NOT(ISBLANK(PROGRAMACION!E274)),PROGRAMACION!E274,\"\")","v":""},null,{"$f":"IF(NOT(ISBLANK(PROGRAMACION!G274)),PROGRAMACION!G274,\"\")","v":""},{"$f":"IF(NOT(ISBLANK(PROGRAMACION!H274)),PROGRAMACION!H274,\"\")","v":""},{"$f":"IF(NOT(ISBLANK(PROGRAMACION!I274)),PROGRAMACION!I274,\"\")","v":""},{"$f":"IF(NOT(ISBLANK(PROGRAMACION!J274)),IF(PROGRAMACION!I274=\"Transformador\",MID(PROGRAMACION!J274,1,2),PROGRAMACION!J274),\"\")","v":""},{"$f":"IF(NOT(ISBLANK(PROGRAMACION!K274)),PROGRAMACION!K274,\"\")","v":""},{"$f":"IF(NOT(ISBLANK(PROGRAMACION!L274)),PROGRAMACION!L274,\"\")","v":""},{"$f":"IF(NOT(ISBLANK(PROGRAMACION!M274)),PROGRAMACION!M274,\"\")","v":""},{"$f":"IF(NOT(ISBLANK(PROGRAMACION!N274)),PROGRAMACION!N274,\"\")","v":""},{"$f":"IF(NOT(ISBLANK(PROGRAMACION!O274)),PROGRAMACION!O274,\"\")","v":""}]
[{"$f":"IF(NOT(ISBLANK(PROGRAMACION!A275)),PROGRAMACION!A275,\"\")","v":""},{"$f":"IF(NOT(ISBLANK(PROGRAMACION!B275)),PROGRAMACION!B275,\"\")","v":""},{"$f":"IF(NOT(ISBLANK(PROGRAMACION!C275)),PROGRAMACION!C275,\"\")","v":""},null,{"$f":"IF(NOT(ISBLANK(PROGRAMACION!E275)),PROGRAMACION!E275,\"\")","v":""},null,{"$f":"IF(NOT(ISBLANK(PROGRAMACION!G275)),PROGRAMACION!G275,\"\")","v":""},{"$f":"IF(NOT(ISBLANK(PROGRAMACION!H275)),PROGRAMACION!H275,\"\")","v":""},{"$f":"IF(NOT(ISBLANK(PROGRAMACION!I275)),PROGRAMACION!I275,\"\")","v":""},{"$f":"IF(NOT(ISBLANK(PROGRAMACION!J275)),IF(PROGRAMACION!I275=\"Transformador\",MID(PROGRAMACION!J275,1,2),PROGRAMACION!J275),\"\")","v":""},{"$f":"IF(NOT(ISBLANK(PROGRAMACION!K275)),PROGRAMACION!K275,\"\")","v":""},{"$f":"IF(NOT(ISBLANK(PROGRAMACION!L275)),PROGRAMACION!L275,\"\")","v":""},{"$f":"IF(NOT(ISBLANK(PROGRAMACION!M275)),PROGRAMACION!M275,\"\")","v":""},{"$f":"IF(NOT(ISBLANK(PROGRAMACION!N275)),PROGRAMACION!N275,\"\")","v":""},{"$f":"IF(NOT(ISBLANK(PROGRAMACION!O275)),PROGRAMACION!O275,\"\")","v":""}]
[{"$f":"IF(NOT(ISBLANK(PROGRAMACION!A276)),PROGRAMACION!A276,\"\")","v":""},{"$f":"IF(NOT(ISBLANK(PROGRAMACION!B276)),PROGRAMACION!B276,\"\")","v":""},{"$f":"IF(NOT(ISBLANK(PROGRAMACION!C276)),PROGRAMACION!C276,\"\")","v":""},null,{"$f":"IF(NOT(ISBLANK(PROGRAMACION!E276)),PROGRAMACION!E276,\"\")","v":""},null,{"$f":"IF(NOT(ISBLANK(PROGRAMACION!G276)),PROGRAMACION!G276,\"\")","v":""},{"$f":"IF(NOT(ISBLANK(PROGRAMACION!H276)),PROGRAMACION!H276,\"\")","v":""},{"$f":"IF(NOT(ISBLANK(PROGRAMACION!I276)),PROGRAMACION!I276,\"\")","v":""},{"$f":"IF(NOT(ISBLANK(PROGRAMACION!J276)),IF(PROGRAMACION!I276=\"Transformador\",MID(PROGRAMACION!J276,1,2),PROGRAMACION!J276),\"\")","v":""},{"$f":"IF(NOT(ISBLANK(PROGRAMACION!K276)),PROGRAMACION!K276,\"\")","v":""},{"$f":"IF(NOT(ISBLANK(PROGRAMACION!L276)),PROGRAMACION!L276,\"\")","v":""},{"$f":"IF(NOT(ISBLANK(PROGRAMACION!M276)),PROGRAMACION!M276,\"\")","v":""},{"$f":"IF(NOT(ISBLANK(PROGRAMACION!N276)),PROGRAMACION!N276,\"\")","v":""},{"$f":"IF(NOT(ISBLANK(PROGRAMACION!O276)),PROGRAMACION!O276,\"\")","v":""}]
[{"$f":"IF(NOT(ISBLANK(PROGRAMACION!A277)),PROGRAMACION!A277,\"\")","v":""},{"$f":"IF(NOT(ISBLANK(PROGRAMACION!B277)),PROGRAMACION!B277,\"\")","v":""},{"$f":"IF(NOT(ISBLANK(PROGRAMACION!C277)),PROGRAMACION!C277,\"\")","v":""},null,{"$f":"IF(NOT(ISBLANK(PROGRAMACION!E277)),PROGRAMACION!E277,\"\")","v":""},null,{"$f":"IF(NOT(ISBLANK(PROGRAMACION!G277)),PROGRAMACION!G277,\"\")","v":""},{"$f":"IF(NOT(ISBLANK(PROGRAMACION!H277)),PROGRAMACION!H277,\"\")","v":""},{"$f":"IF(NOT(ISBLANK(PROGRAMACION!I277)),PROGRAMACION!I277,\"\")","v":""},{"$f":"IF(NOT(ISBLANK(PROGRAMACION!J277)),IF(PROGRAMACION!I277=\"Transformador\",MID(PROGRAMACION!J277,1,2),PROGRAMACION!J277),\"\")","v":""},{"$f":"IF(NOT(ISBLANK(PROGRAMACION!K277)),PROGRAMACION!K277,\"\")","v":""},{"$f":"IF(NOT(ISBLANK(PROGRAMACION!L277)),PROGRAMACION!L277,\"\")","v":""},{"$f":"IF(NOT(ISBLANK(PROGRAMACION!M277)),PROGRAMACION!M277,\"\")","v":""},{"$f":"IF(NOT(ISBLANK(PROGRAMACION!N277)),PROGRAMACION!N277,\"\")","v":""},{"$f":"IF(NOT(ISBLANK(PROGRAMACION!O277)),PROGRAMACION!O277,\"\")","v":""}]
[{"$f":"IF(NOT(ISBLANK(PROGRAMACION!A278)),PROGRAMACION!A278,\"\")","v":""},{"$f":"IF(NOT(ISBLANK(PROGRAMACION!B278)),PROGRAMACION!B278,\"\")","v":""},{"$f":"IF(NOT(ISBLANK(PROGRAMACION!C278)),PROGRAMACION!C278,\"\")","v":""},null,{"$f":"IF(NOT(ISBLANK(PROGRAMACION!E278)),PROGRAMACION!E278,\"\")","v":""},null,{"$f":"IF(NOT(ISBLANK(PROGRAMACION!G278)),PROGRAMACION!G278,\"\")","v":""},{"$f":"IF(NOT(ISBLANK(PROGRAMACION!H278)),PROGRAMACION!H278,\"\")","v":""},{"$f":"IF(NOT(ISBLANK(PROGRAMACION!I278)),PROGRAMACION!I278,\"\")","v":""},{"$f":"IF(NOT(ISBLANK(PROGRAMACION!J278)),IF(PROGRAMACION!I278=\"Transformador\",MID(PROGRAMACION!J278,1,2),PROGRAMACION!J278),\"\")","v":""},{"$f":"IF(NOT(ISBLANK(PROGRAMACION!K278)),PROGRAMACION!K278,\"\")","v":""},{"$f":"IF(NOT(ISBLANK(PROGRAMACION!L278)),PROGRAMACION!L278,\"\")","v":""},{"$f":"IF(NOT(ISBLANK(PROGRAMACION!M278)),PROGRAMACION!M278,\"\")","v":""},{"$f":"IF(NOT(ISBLANK(PROGRAMACION!N278)),PROGRAMACION!N278,\"\")","v":""},{"$f":"IF(NOT(ISBLANK(PROGRAMACION!O278)),PROGRAMACION!O278,\"\")","v":""}]
[{"$f":"IF(NOT(ISBLANK(PROGRAMACION!A279)),PROGRAMACION!A279,\"\")","v":""},{"$f":"IF(NOT(ISBLANK(PROGRAMACION!B279)),PROGRAMACION!B279,\"\")","v":""},{"$f":"IF(NOT(ISBLANK(PROGRAMACION!C279)),PROGRAMACION!C279,\"\")","v":""},null,{"$f":"IF(NOT(ISBLANK(PROGRAMACION!E279)),PROGRAMACION!E279,\"\")","v":""},null,{"$f":"IF(NOT(ISBLANK(PROGRAMACION!G279)),PROGRAMACION!G279,\"\")","v":""},{"$f":"IF(NOT(ISBLANK(PROGRAMACION!H279)),PROGRAMACION!H279,\"\")","v":""},{"$f":"IF(NOT(ISBLANK(PROGRAMACION!I279)),PROGRAMACION!I279,\"\")","v":""},{"$f":"IF(NOT(ISBLANK(PROGRAMACION!J279)),IF(PROGRAMACION!I279=\"Transformador\",MID(PROGRAMACION!J279,1,2),PROGRAMACION!J279),\"\")","v":""},{"$f":"IF(NOT(ISBLANK(PROGRAMACION!K279)),PROGRAMACION!K279,\"\")","v":""},{"$f":"IF(NOT(ISBLANK(PROGRAMACION!L279)),PROGRAMACION!L279,\"\")","v":""},{"$f":"IF(NOT(ISBLANK(PROGRAMACION!M279)),PROGRAMACION!M279,\"\")","v":""},{"$f":"IF(NOT(ISBLANK(PROGRAMACION!N279)),PROGRAMACION!N279,\"\")","v":""},{"$f":"IF(NOT(ISBLANK(PROGRAMACION!O279)),PROGRAMACION!O279,\"\")","v":""}]
[{"$f":"IF(NOT(ISBLANK(PROGRAMACION!A280)),PROGRAMACION!A280,\"\")","v":""},{"$f":"IF(NOT(ISBLANK(PROGRAMACION!B280)),PROGRAMACION!B280,\"\")","v":""},{"$f":"IF(NOT(ISBLANK(PROGRAMACION!C280)),PROGRAMACION!C280,\"\")","v":""},null,{"$f":"IF(NOT(ISBLANK(PROGRAMACION!E280)),PROGRAMACION!E280,\"\")","v":""},null,{"$f":"IF(NOT(ISBLANK(PROGRAMACION!G280)),PROGRAMACION!G280,\"\")","v":""},{"$f":"IF(NOT(ISBLANK(PROGRAMACION!H280)),PROGRAMACION!H280,\"\")","v":""},{"$f":"IF(NOT(ISBLANK(PROGRAMACION!I280)),PROGRAMACION!I280,\"\")","v":""},{"$f":"IF(NOT(ISBLANK(PROGRAMACION!J280)),IF(PROGRAMACION!I280=\"Transformador\",MID(PROGRAMACION!J280,1,2),PROGRAMACION!J280),\"\")","v":""},{"$f":"IF(NOT(ISBLANK(PROGRAMACION!K280)),PROGRAMACION!K280,\"\")","v":""},{"$f":"IF(NOT(ISBLANK(PROGRAMACION!L280)),PROGRAMACION!L280,\"\")","v":""},{"$f":"IF(NOT(ISBLANK(PROGRAMACION!M280)),PROGRAMACION!M280,\"\")","v":""},{"$f":"IF(NOT(ISBLANK(PROGRAMACION!N280)),PROGRAMACION!N280,\"\")","v":""},{"$f":"IF(NOT(ISBLANK(PROGRAMACION!O280)),PROGRAMACION!O280,\"\")","v":""}]
[{"$f":"IF(NOT(ISBLANK(PROGRAMACION!A281)),PROGRAMACION!A281,\"\")","v":""},{"$f":"IF(NOT(ISBLANK(PROGRAMACION!B281)),PROGRAMACION!B281,\"\")","v":""},{"$f":"IF(NOT(ISBLANK(PROGRAMACION!C281)),PROGRAMACION!C281,\"\")","v":""},null,{"$f":"IF(NOT(ISBLANK(PROGRAMACION!E281)),PROGRAMACION!E281,\"\")","v":""},null,{"$f":"IF(NOT(ISBLANK(PROGRAMACION!G281)),PROGRAMACION!G281,\"\")","v":""},{"$f":"IF(NOT(ISBLANK(PROGRAMACION!H281)),PROGRAMACION!H281,\"\")","v":""},{"$f":"IF(NOT(ISBLANK(PROGRAMACION!I281)),PROGRAMACION!I281,\"\")","v":""},{"$f":"IF(NOT(ISBLANK(PROGRAMACION!J281)),IF(PROGRAMACION!I281=\"Transformador\",MID(PROGRAMACION!J281,1,2),PROGRAMACION!J281),\"\")","v":""},{"$f":"IF(NOT(ISBLANK(PROGRAMACION!K281)),PROGRAMACION!K281,\"\")","v":""},{"$f":"IF(NOT(ISBLANK(PROGRAMACION!L281)),PROGRAMACION!L281,\"\")","v":""},{"$f":"IF(NOT(ISBLANK(PROGRAMACION!M281)),PROGRAMACION!M281,\"\")","v":""},{"$f":"IF(NOT(ISBLANK(PROGRAMACION!N281)),PROGRAMACION!N281,\"\")","v":""},{"$f":"IF(NOT(ISBLANK(PROGRAMACION!O281)),PROGRAMACION!O281,\"\")","v":""}]
[{"$f":"IF(NOT(ISBLANK(PROGRAMACION!A282)),PROGRAMACION!A282,\"\")","v":""},{"$f":"IF(NOT(ISBLANK(PROGRAMACION!B282)),PROGRAMACION!B282,\"\")","v":""},{"$f":"IF(NOT(ISBLANK(PROGRAMACION!C282)),PROGRAMACION!C282,\"\")","v":""},null,{"$f":"IF(NOT(ISBLANK(PROGRAMACION!E282)),PROGRAMACION!E282,\"\")","v":""},null,{"$f":"IF(NOT(ISBLANK(PROGRAMACION!G282)),PROGRAMACION!G282,\"\")","v":""},{"$f":"IF(NOT(ISBLANK(PROGRAMACION!H282)),PROGRAMACION!H282,\"\")","v":""},{"$f":"IF(NOT(ISBLANK(PROGRAMACION!I282)),PROGRAMACION!I282,\"\")","v":""},{"$f":"IF(NOT(ISBLANK(PROGRAMACION!J282)),IF(PROGRAMACION!I282=\"Transformador\",MID(PROGRAMACION!J282,1,2),PROGRAMACION!J282),\"\")","v":""},{"$f":"IF(NOT(ISBLANK(PROGRAMACION!K282)),PROGRAMACION!K282,\"\")","v":""},{"$f":"IF(NOT(ISBLANK(PROGRAMACION!L282)),PROGRAMACION!L282,\"\")","v":""},{"$f":"IF(NOT(ISBLANK(PROGRAMACION!M282)),PROGRAMACION!M282,\"\")","v":""},{"$f":"IF(NOT(ISBLANK(PROGRAMACION!N282)),PROGRAMACION!N282,\"\")","v":""},{"$f":"IF(NOT(ISBLANK(PROGRAMACION!O282)),PROGRAMACION!O282,\"\")","v":""}]
[{"$f":"IF(NOT(ISBLANK(PROGRAMACION!A283)),PROGRAMACION!A283,\"\")","v":""},{"$f":"IF(NOT(ISBLANK(PROGRAMACION!B283)),PROGRAMACION!B283,\"\")","v":""},{"$f":"IF(NOT(ISBLANK(PROGRAMACION!C283)),PROGRAMACION!C283,\"\")","v":""},null,{"$f":"IF(NOT(ISBLANK(PROGRAMACION!E283)),PROGRAMACION!E283,\"\")","v":""},null,{"$f":"IF(NOT(ISBLANK(PROGRAMACION!G283)),PROGRAMACION!G283,\"\")","v":""},{"$f":"IF(NOT(ISBLANK(PROGRAMACION!H283)),PROGRAMACION!H283,\"\")","v":""},{"$f":"IF(NOT(ISBLANK(PROGRAMACION!I283)),PROGRAMACION!I283,\"\")","v":""},{"$f":"IF(NOT(ISBLANK(PROGRAMACION!J283)),IF(PROGRAMACION!I283=\"Transformador\",MID(PROGRAMACION!J283,1,2),PROGRAMACION!J283),\"\")","v":""},{"$f":"IF(NOT(ISBLANK(PROGRAMACION!K283)),PROGRAMACION!K283,\"\")","v":""},{"$f":"IF(NOT(ISBLANK(PROGRAMACION!L283)),PROGRAMACION!L283,\"\")","v":""},{"$f":"IF(NOT(ISBLANK(PROGRAMACION!M283)),PROGRAMACION!M283,\"\")","v":""},{"$f":"IF(NOT(ISBLANK(PROGRAMACION!N283)),PROGRAMACION!N283,\"\")","v":""},{"$f":"IF(NOT(ISBLANK(PROGRAMACION!O283)),PROGRAMACION!O283,\"\")","v":""}]
[{"$f":"IF(NOT(ISBLANK(PROGRAMACION!A284)),PROGRAMACION!A284,\"\")","v":""},{"$f":"IF(NOT(ISBLANK(PROGRAMACION!B284)),PROGRAMACION!B284,\"\")","v":""},{"$f":"IF(NOT(ISBLANK(PROGRAMACION!C284)),PROGRAMACION!C284,\"\")","v":""},null,{"$f":"IF(NOT(ISBLANK(PROGRAMACION!E284)),PROGRAMACION!E284,\"\")","v":""},null,{"$f":"IF(NOT(ISBLANK(PROGRAMACION!G284)),PROGRAMACION!G284,\"\")","v":""},{"$f":"IF(NOT(ISBLANK(PROGRAMACION!H284)),PROGRAMACION!H284,\"\")","v":""},{"$f":"IF(NOT(ISBLANK(PROGRAMACION!I284)),PROGRAMACION!I284,\"\")","v":""},{"$f":"IF(NOT(ISBLANK(PROGRAMACION!J284)),IF(PROGRAMACION!I284=\"Transformador\",MID(PROGRAMACION!J284,1,2),PROGRAMACION!J284),\"\")","v":""},{"$f":"IF(NOT(ISBLANK(PROGRAMACION!K284)),PROGRAMACION!K284,\"\")","v":""},{"$f":"IF(NOT(ISBLANK(PROGRAMACION!L284)),PROGRAMACION!L284,\"\")","v":""},{"$f":"IF(NOT(ISBLANK(PROGRAMACION!M284)),PROGRAMACION!M284,\"\")","v":""},{"$f":"IF(NOT(ISBLANK(PROGRAMACION!N284)),PROGRAMACION!N284,\"\")","v":""},{"$f":"IF(NOT(ISBLANK(PROGRAMACION!O284)),PROGRAMACION!O284,\"\")","v":""}]
[{"$f":"IF(NOT(ISBLANK(PROGRAMACION!A285)),PROGRAMACION!A285,\"\")","v":""},{"$f":"IF(NOT(ISBLANK(PROGRAMACION!B285)),PROGRAMACION!B285,\"\")","v":""},{"$f":"IF(NOT(ISBLANK(PROGRAMACION!C285)),PROGRAMACION!C285,\"\")","v":""},null,{"$f":"IF(NOT(ISBLANK(PROGRAMACION!E285)),PROGRAMACION!E285,\"\")","v":""},null,{"$f":"IF(NOT(ISBLANK(PROGRAMACION!G285)),PROGRAMACION!G285,\"\")","v":""},{"$f":"IF(NOT(ISBLANK(PROGRAMACION!H285)),PROGRAMACION!H285,\"\")","v":""},{"$f":"IF(NOT(ISBLANK(PROGRAMACION!I285)),PROGRAMACION!I285,\"\")","v":""},{"$f":"IF(NOT(ISBLANK(PROGRAMACION!J285)),IF(PROGRAMACION!I285=\"Transformador\",MID(PROGRAMACION!J285,1,2),PROGRAMACION!J285),\"\")","v":""},{"$f":"IF(NOT(ISBLANK(PROGRAMACION!K285)),PROGRAMACION!K285,\"\")","v":""},{"$f":"IF(NOT(ISBLANK(PROGRAMACION!L285)),PROGRAMACION!L285,\"\")","v":""},{"$f":"IF(NOT(ISBLANK(PROGRAMACION!M285)),PROGRAMACION!M285,\"\")","v":""},{"$f":"IF(NOT(ISBLANK(PROGRAMACION!N285)),PROGRAMACION!N285,\"\")","v":""},{"$f":"IF(NOT(ISBLANK(PROGRAMACION!O285)),PROGRAMACION!O285,\"\")","v":""}]
[{"$f":"IF(NOT(ISBLANK(PROGRAMACION!A286)),PROGRAMACION!A286,\"\")","v":""},{"$f":"IF(NOT(ISBLANK(PROGRAMACION!B286)),PROGRAMACION!B286,\"\")","v":""},{"$f":"IF(NOT(ISBLANK(PROGRAMACION!C286)),PROGRAMACION!C286,\"\")","v":""},null,{"$f":"IF(NOT(ISBLANK(PROGRAMACION!E286)),PROGRAMACION!E286,\"\")","v":""},null,{"$f":"IF(NOT(ISBLANK(PROGRAMACION!G286)),PROGRAMACION!G286,\"\")","v":""},{"$f":"IF(NOT(ISBLANK(PROGRAMACION!H286)),PROGRAMACION!H286,\"\")","v":""},{"$f":"IF(NOT(ISBLANK(PROGRAMACION!I286)),PROGRAMACION!I286,\"\")","v":""},{"$f":"IF(NOT(ISBLANK(PROGRAMACION!J286)),IF(PROGRAMACION!I286=\"Transformador\",MID(PROGRAMACION!J286,1,2),PROGRAMACION!J286),\"\")","v":""},{"$f":"IF(NOT(ISBLANK(PROGRAMACION!K286)),PROGRAMACION!K286,\"\")","v":""},{"$f":"IF(NOT(ISBLANK(PROGRAMACION!L286)),PROGRAMACION!L286,\"\")","v":""},{"$f":"IF(NOT(ISBLANK(PROGRAMACION!M286)),PROGRAMACION!M286,\"\")","v":""},{"$f":"IF(NOT(ISBLANK(PROGRAMACION!N286)),PROGRAMACION!N286,\"\")","v":""},{"$f":"IF(NOT(ISBLANK(PROGRAMACION!O286)),PROGRAMACION!O286,\"\")","v":""}]
[{"$f":"IF(NOT(ISBLANK(PROGRAMACION!A287)),PROGRAMACION!A287,\"\")","v":""},{"$f":"IF(NOT(ISBLANK(PROGRAMACION!B287)),PROGRAMACION!B287,\"\")","v":""},{"$f":"IF(NOT(ISBLANK(PROGRAMACION!C287)),PROGRAMACION!C287,\"\")","v":""},null,{"$f":"IF(NOT(ISBLANK(PROGRAMACION!E287)),PROGRAMACION!E287,\"\")","v":""},null,{"$f":"IF(NOT(ISBLANK(PROGRAMACION!G287)),PROGRAMACION!G287,\"\")","v":""},{"$f":"IF(NOT(ISBLANK(PROGRAMACION!H287)),PROGRAMACION!H287,\"\")","v":""},{"$f":"IF(NOT(ISBLANK(PROGRAMACION!I287)),PROGRAMACION!I287,\"\")","v":""},{"$f":"IF(NOT(ISBLANK(PROGRAMACION!J287)),IF(PROGRAMACION!I287=\"Transformador\",MID(PROGRAMACION!J287,1,2),PROGRAMACION!J287),\"\")","v":""},{"$f":"IF(NOT(ISBLANK(PROGRAMACION!K287)),PROGRAMACION!K287,\"\")","v":""},{"$f":"IF(NOT(ISBLANK(PROGRAMACION!L287)),PROGRAMACION!L287,\"\")","v":""},{"$f":"IF(NOT(ISBLANK(PROGRAMACION!M287)),PROGRAMACION!M287,\"\")","v":""},{"$f":"IF(NOT(ISBLANK(PROGRAMACION!N287)),PROGRAMACION!N287,\"\")","v":""},{"$f":"IF(NOT(ISBLANK(PROGRAMACION!O287)),PROGRAMACION!O287,\"\")","v":""}]
[{"$f":"IF(NOT(ISBLANK(PROGRAMACION!A288)),PROGRAMACION!A288,\"\")","v":""},{"$f":"IF(NOT(ISBLANK(PROGRAMACION!B288)),PROGRAMACION!B288,\"\")","v":""},{"$f":"IF(NOT(ISBLANK(PROGRAMACION!C288)),PROGRAMACION!C288,\"\")","v":""},null,{"$f":"IF(NOT(ISBLANK(PROGRAMACION!E288)),PROGRAMACION!E288,\"\")","v":""},null,{"$f":"IF(NOT(ISBLANK(PROGRAMACION!G288)),PROGRAMACION!G288,\"\")","v":""},{"$f":"IF(NOT(ISBLANK(PROGRAMACION!H288)),PROGRAMACION!H288,\"\")","v":""},{"$f":"IF(NOT(ISBLANK(PROGRAMACION!I288)),PROGRAMACION!I288,\"\")","v":""},{"$f":"IF(NOT(ISBLANK(PROGRAMACION!J288)),IF(PROGRAMACION!I288=\"Transformador\",MID(PROGRAMACION!J288,1,2),PROGRAMACION!J288),\"\")","v":""},{"$f":"IF(NOT(ISBLANK(PROGRAMACION!K288)),PROGRAMACION!K288,\"\")","v":""},{"$f":"IF(NOT(ISBLANK(PROGRAMACION!L288)),PROGRAMACION!L288,\"\")","v":""},{"$f":"IF(NOT(ISBLANK(PROGRAMACION!M288)),PROGRAMACION!M288,\"\")","v":""},{"$f":"IF(NOT(ISBLANK(PROGRAMACION!N288)),PROGRAMACION!N288,\"\")","v":""},{"$f":"IF(NOT(ISBLANK(PROGRAMACION!O288)),PROGRAMACION!O288,\"\")","v":""}]
[{"$f":"IF(NOT(ISBLANK(PROGRAMACION!A289)),PROGRAMACION!A289,\"\")","v":""},{"$f":"IF(NOT(ISBLANK(PROGRAMACION!B289)),PROGRAMACION!B289,\"\")","v":""},{"$f":"IF(NOT(ISBLANK(PROGRAMACION!C289)),PROGRAMACION!C289,\"\")","v":""},null,{"$f":"IF(NOT(ISBLANK(PROGRAMACION!E289)),PROGRAMACION!E289,\"\")","v":""},null,{"$f":"IF(NOT(ISBLANK(PROGRAMACION!G289)),PROGRAMACION!G289,\"\")","v":""},{"$f":"IF(NOT(ISBLANK(PROGRAMACION!H289)),PROGRAMACION!H289,\"\")","v":""},{"$f":"IF(NOT(ISBLANK(PROGRAMACION!I289)),PROGRAMACION!I289,\"\")","v":""},{"$f":"IF(NOT(ISBLANK(PROGRAMACION!J289)),IF(PROGRAMACION!I289=\"Transformador\",MID(PROGRAMACION!J289,1,2),PROGRAMACION!J289),\"\")","v":""},{"$f":"IF(NOT(ISBLANK(PROGRAMACION!K289)),PROGRAMACION!K289,\"\")","v":""},{"$f":"IF(NOT(ISBLANK(PROGRAMACION!L289)),PROGRAMACION!L289,\"\")","v":""},{"$f":"IF(NOT(ISBLANK(PROGRAMACION!M289)),PROGRAMACION!M289,\"\")","v":""},{"$f":"IF(NOT(ISBLANK(PROGRAMACION!N289)),PROGRAMACION!N289,\"\")","v":""},{"$f":"IF(NOT(ISBLANK(PROGRAMACION!O289)),PROGRAMACION!O289,\"\")","v":""}]
[{"$f":"IF(NOT(ISBLANK(PROGRAMACION!A290)),PROGRAMACION!A290,\"\")","v":""},{"$f":"IF(NOT(ISBLANK(PROGRAMACION!B290)),PROGRAMACION!B290,\"\")","v":""},{"$f":"IF(NOT(ISBLANK(PROGRAMACION!C290)),PROGRAMACION!C290,\"\")","v":""},null,{"$f":"IF(NOT(ISBLANK(PROGRAMACION!E290)),PROGRAMACION!E290,\"\")","v":""},null,{"$f":"IF(NOT(ISBLANK(PROGRAMACION!G290)),PROGRAMACION!G290,\"\")","v":""},{"$f":"IF(NOT(ISBLANK(PROGRAMACION!H290)),PROGRAMACION!H290,\"\")","v":""},{"$f":"IF(NOT(ISBLANK(PROGRAMACION!I290)),PROGRAMACION!I290,\"\")","v":""},{"$f":"IF(NOT(ISBLANK(PROGRAMACION!J290)),IF(PROGRAMACION!I290=\"Transformador\",MID(PROGRAMACION!J290,1,2),PROGRAMACION!J290),\"\")","v":""},{"$f":"IF(NOT(ISBLANK(PROGRAMACION!K290)),PROGRAMACION!K290,\"\")","v":""},{"$f":"IF(NOT(ISBLANK(PROGRAMACION!L290)),PROGRAMACION!L290,\"\")","v":""},{"$f":"IF(NOT(ISBLANK(PROGRAMACION!M290)),PROGRAMACION!M290,\"\")","v":""},{"$f":"IF(NOT(ISBLANK(PROGRAMACION!N290)),PROGRAMACION!N290,\"\")","v":""},{"$f":"IF(NOT(ISBLANK(PROGRAMACION!O290)),PROGRAMACION!O290,\"\")","v":""}]
[{"$f":"IF(NOT(ISBLANK(PROGRAMACION!A291)),PROGRAMACION!A291,\"\")","v":""},{"$f":"IF(NOT(ISBLANK(PROGRAMACION!B291)),PROGRAMACION!B291,\"\")","v":""},{"$f":"IF(NOT(ISBLANK(PROGRAMACION!C291)),PROGRAMACION!C291,\"\")","v":""},null,{"$f":"IF(NOT(ISBLANK(PROGRAMACION!E291)),PROGRAMACION!E291,\"\")","v":""},null,{"$f":"IF(NOT(ISBLANK(PROGRAMACION!G291)),PROGRAMACION!G291,\"\")","v":""},{"$f":"IF(NOT(ISBLANK(PROGRAMACION!H291)),PROGRAMACION!H291,\"\")","v":""},{"$f":"IF(NOT(ISBLANK(PROGRAMACION!I291)),PROGRAMACION!I291,\"\")","v":""},{"$f":"IF(NOT(ISBLANK(PROGRAMACION!J291)),IF(PROGRAMACION!I291=\"Transformador\",MID(PROGRAMACION!J291,1,2),PROGRAMACION!J291),\"\")","v":""},{"$f":"IF(NOT(ISBLANK(PROGRAMACION!K291)),PROGRAMACION!K291,\"\")","v":""},{"$f":"IF(NOT(ISBLANK(PROGRAMACION!L291)),PROGRAMACION!L291,\"\")","v":""},{"$f":"IF(NOT(ISBLANK(PROGRAMACION!M291)),PROGRAMACION!M291,\"\")","v":""},{"$f":"IF(NOT(ISBLANK(PROGRAMACION!N291)),PROGRAMACION!N291,\"\")","v":""},{"$f":"IF(NOT(ISBLANK(PROGRAMACION!O291)),PROGRAMACION!O291,\"\")","v":""}]
[{"$f":"IF(NOT(ISBLANK(PROGRAMACION!A292)),PROGRAMACION!A292,\"\")","v":""},{"$f":"IF(NOT(ISBLANK(PROGRAMACION!B292)),PROGRAMACION!B292,\"\")","v":""},{"$f":"IF(NOT(ISBLANK(PROGRAMACION!C292)),PROGRAMACION!C292,\"\")","v":""},null,{"$f":"IF(NOT(ISBLANK(PROGRAMACION!E292)),PROGRAMACION!E292,\"\")","v":""},null,{"$f":"IF(NOT(ISBLANK(PROGRAMACION!G292)),PROGRAMACION!G292,\"\")","v":""},{"$f":"IF(NOT(ISBLANK(PROGRAMACION!H292)),PROGRAMACION!H292,\"\")","v":""},{"$f":"IF(NOT(ISBLANK(PROGRAMACION!I292)),PROGRAMACION!I292,\"\")","v":""},{"$f":"IF(NOT(ISBLANK(PROGRAMACION!J292)),IF(PROGRAMACION!I292=\"Transformador\",MID(PROGRAMACION!J292,1,2),PROGRAMACION!J292),\"\")","v":""},{"$f":"IF(NOT(ISBLANK(PROGRAMACION!K292)),PROGRAMACION!K292,\"\")","v":""},{"$f":"IF(NOT(ISBLANK(PROGRAMACION!L292)),PROGRAMACION!L292,\"\")","v":""},{"$f":"IF(NOT(ISBLANK(PROGRAMACION!M292)),PROGRAMACION!M292,\"\")","v":""},{"$f":"IF(NOT(ISBLANK(PROGRAMACION!N292)),PROGRAMACION!N292,\"\")","v":""},{"$f":"IF(NOT(ISBLANK(PROGRAMACION!O292)),PROGRAMACION!O292,\"\")","v":""}]
[{"$f":"IF(NOT(ISBLANK(PROGRAMACION!A293)),PROGRAMACION!A293,\"\")","v":""},{"$f":"IF(NOT(ISBLANK(PROGRAMACION!B293)),PROGRAMACION!B293,\"\")","v":""},{"$f":"IF(NOT(ISBLANK(PROGRAMACION!C293)),PROGRAMACION!C293,\"\")","v":""},null,{"$f":"IF(NOT(ISBLANK(PROGRAMACION!E293)),PROGRAMACION!E293,\"\")","v":""},null,{"$f":"IF(NOT(ISBLANK(PROGRAMACION!G293)),PROGRAMACION!G293,\"\")","v":""},{"$f":"IF(NOT(ISBLANK(PROGRAMACION!H293)),PROGRAMACION!H293,\"\")","v":""},{"$f":"IF(NOT(ISBLANK(PROGRAMACION!I293)),PROGRAMACION!I293,\"\")","v":""},{"$f":"IF(NOT(ISBLANK(PROGRAMACION!J293)),IF(PROGRAMACION!I293=\"Transformador\",MID(PROGRAMACION!J293,1,2),PROGRAMACION!J293),\"\")","v":""},{"$f":"IF(NOT(ISBLANK(PROGRAMACION!K293)),PROGRAMACION!K293,\"\")","v":""},{"$f":"IF(NOT(ISBLANK(PROGRAMACION!L293)),PROGRAMACION!L293,\"\")","v":""},{"$f":"IF(NOT(ISBLANK(PROGRAMACION!M293)),PROGRAMACION!M293,\"\")","v":""},{"$f":"IF(NOT(ISBLANK(PROGRAMACION!N293)),PROGRAMACION!N293,\"\")","v":""},{"$f":"IF(NOT(ISBLANK(PROGRAMACION!O293)),PROGRAMACION!O293,\"\")","v":""}]
[{"$f":"IF(NOT(ISBLANK(PROGRAMACION!A294)),PROGRAMACION!A294,\"\")","v":""},{"$f":"IF(NOT(ISBLANK(PROGRAMACION!B294)),PROGRAMACION!B294,\"\")","v":""},{"$f":"IF(NOT(ISBLANK(PROGRAMACION!C294)),PROGRAMACION!C294,\"\")","v":""},null,{"$f":"IF(NOT(ISBLANK(PROGRAMACION!E294)),PROGRAMACION!E294,\"\")","v":""},null,{"$f":"IF(NOT(ISBLANK(PROGRAMACION!G294)),PROGRAMACION!G294,\"\")","v":""},{"$f":"IF(NOT(ISBLANK(PROGRAMACION!H294)),PROGRAMACION!H294,\"\")","v":""},{"$f":"IF(NOT(ISBLANK(PROGRAMACION!I294)),PROGRAMACION!I294,\"\")","v":""},{"$f":"IF(NOT(ISBLANK(PROGRAMACION!J294)),IF(PROGRAMACION!I294=\"Transformador\",MID(PROGRAMACION!J294,1,2),PROGRAMACION!J294),\"\")","v":""},{"$f":"IF(NOT(ISBLANK(PROGRAMACION!K294)),PROGRAMACION!K294,\"\")","v":""},{"$f":"IF(NOT(ISBLANK(PROGRAMACION!L294)),PROGRAMACION!L294,\"\")","v":""},{"$f":"IF(NOT(ISBLANK(PROGRAMACION!M294)),PROGRAMACION!M294,\"\")","v":""},{"$f":"IF(NOT(ISBLANK(PROGRAMACION!N294)),PROGRAMACION!N294,\"\")","v":""},{"$f":"IF(NOT(ISBLANK(PROGRAMACION!O294)),PROGRAMACION!O294,\"\")","v":""}]
[{"$f":"IF(NOT(ISBLANK(PROGRAMACION!A295)),PROGRAMACION!A295,\"\")","v":""},{"$f":"IF(NOT(ISBLANK(PROGRAMACION!B295)),PROGRAMACION!B295,\"\")","v":""},{"$f":"IF(NOT(ISBLANK(PROGRAMACION!C295)),PROGRAMACION!C295,\"\")","v":""},null,{"$f":"IF(NOT(ISBLANK(PROGRAMACION!E295)),PROGRAMACION!E295,\"\")","v":""},null,{"$f":"IF(NOT(ISBLANK(PROGRAMACION!G295)),PROGRAMACION!G295,\"\")","v":""},{"$f":"IF(NOT(ISBLANK(PROGRAMACION!H295)),PROGRAMACION!H295,\"\")","v":""},{"$f":"IF(NOT(ISBLANK(PROGRAMACION!I295)),PROGRAMACION!I295,\"\")","v":""},{"$f":"IF(NOT(ISBLANK(PROGRAMACION!J295)),IF(PROGRAMACION!I295=\"Transformador\",MID(PROGRAMACION!J295,1,2),PROGRAMACION!J295),\"\")","v":""},{"$f":"IF(NOT(ISBLANK(PROGRAMACION!K295)),PROGRAMACION!K295,\"\")","v":""},{"$f":"IF(NOT(ISBLANK(PROGRAMACION!L295)),PROGRAMACION!L295,\"\")","v":""},{"$f":"IF(NOT(ISBLANK(PROGRAMACION!M295)),PROGRAMACION!M295,\"\")","v":""},{"$f":"IF(NOT(ISBLANK(PROGRAMACION!N295)),PROGRAMACION!N295,\"\")","v":""},{"$f":"IF(NOT(ISBLANK(PROGRAMACION!O295)),PROGRAMACION!O295,\"\")","v":""}]
[{"$f":"IF(NOT(ISBLANK(PROGRAMACION!A296)),PROGRAMACION!A296,\"\")","v":""},{"$f":"IF(NOT(ISBLANK(PROGRAMACION!B296)),PROGRAMACION!B296,\"\")","v":""},{"$f":"IF(NOT(ISBLANK(PROGRAMACION!C296)),PROGRAMACION!C296,\"\")","v":""},null,{"$f":"IF(NOT(ISBLANK(PROGRAMACION!E296)),PROGRAMACION!E296,\"\")","v":""},null,{"$f":"IF(NOT(ISBLANK(PROGRAMACION!G296)),PROGRAMACION!G296,\"\")","v":""},{"$f":"IF(NOT(ISBLANK(PROGRAMACION!H296)),PROGRAMACION!H296,\"\")","v":""},{"$f":"IF(NOT(ISBLANK(PROGRAMACION!I296)),PROGRAMACION!I296,\"\")","v":""},{"$f":"IF(NOT(ISBLANK(PROGRAMACION!J296)),IF(PROGRAMACION!I296=\"Transformador\",MID(PROGRAMACION!J296,1,2),PROGRAMACION!J296),\"\")","v":""},{"$f":"IF(NOT(ISBLANK(PROGRAMACION!K296)),PROGRAMACION!K296,\"\")","v":""},{"$f":"IF(NOT(ISBLANK(PROGRAMACION!L296)),PROGRAMACION!L296,\"\")","v":""},{"$f":"IF(NOT(ISBLANK(PROGRAMACION!M296)),PROGRAMACION!M296,\"\")","v":""},{"$f":"IF(NOT(ISBLANK(PROGRAMACION!N296)),PROGRAMACION!N296,\"\")","v":""},{"$f":"IF(NOT(ISBLANK(PROGRAMACION!O296)),PROGRAMACION!O296,\"\")","v":""}]
[{"$f":"IF(NOT(ISBLANK(PROGRAMACION!A297)),PROGRAMACION!A297,\"\")","v":""},{"$f":"IF(NOT(ISBLANK(PROGRAMACION!B297)),PROGRAMACION!B297,\"\")","v":""},{"$f":"IF(NOT(ISBLANK(PROGRAMACION!C297)),PROGRAMACION!C297,\"\")","v":""},null,{"$f":"IF(NOT(ISBLANK(PROGRAMACION!E297)),PROGRAMACION!E297,\"\")","v":""},null,{"$f":"IF(NOT(ISBLANK(PROGRAMACION!G297)),PROGRAMACION!G297,\"\")","v":""},{"$f":"IF(NOT(ISBLANK(PROGRAMACION!H297)),PROGRAMACION!H297,\"\")","v":""},{"$f":"IF(NOT(ISBLANK(PROGRAMACION!I297)),PROGRAMACION!I297,\"\")","v":""},{"$f":"IF(NOT(ISBLANK(PROGRAMACION!J297)),IF(PROGRAMACION!I297=\"Transformador\",MID(PROGRAMACION!J297,1,2),PROGRAMACION!J297),\"\")","v":""},{"$f":"IF(NOT(ISBLANK(PROGRAMACION!K297)),PROGRAMACION!K297,\"\")","v":""},{"$f":"IF(NOT(ISBLANK(PROGRAMACION!L297)),PROGRAMACION!L297,\"\")","v":""},{"$f":"IF(NOT(ISBLANK(PROGRAMACION!M297)),PROGRAMACION!M297,\"\")","v":""},{"$f":"IF(NOT(ISBLANK(PROGRAMACION!N297)),PROGRAMACION!N297,\"\")","v":""},{"$f":"IF(NOT(ISBLANK(PROGRAMACION!O297)),PROGRAMACION!O297,\"\")","v":""}]
[{"$f":"IF(NOT(ISBLANK(PROGRAMACION!A298)),PROGRAMACION!A298,\"\")","v":""},{"$f":"IF(NOT(ISBLANK(PROGRAMACION!B298)),PROGRAMACION!B298,\"\")","v":""},{"$f":"IF(NOT(ISBLANK(PROGRAMACION!C298)),PROGRAMACION!C298,\"\")","v":""},null,{"$f":"IF(NOT(ISBLANK(PROGRAMACION!E298)),PROGRAMACION!E298,\"\")","v":""},null,{"$f":"IF(NOT(ISBLANK(PROGRAMACION!G298)),PROGRAMACION!G298,\"\")","v":""},{"$f":"IF(NOT(ISBLANK(PROGRAMACION!H298)),PROGRAMACION!H298,\"\")","v":""},{"$f":"IF(NOT(ISBLANK(PROGRAMACION!I298)),PROGRAMACION!I298,\"\")","v":""},{"$f":"IF(NOT(ISBLANK(PROGRAMACION!J298)),IF(PROGRAMACION!I298=\"Transformador\",MID(PROGRAMACION!J298,1,2),PROGRAMACION!J298),\"\")","v":""},{"$f":"IF(NOT(ISBLANK(PROGRAMACION!K298)),PROGRAMACION!K298,\"\")","v":""},{"$f":"IF(NOT(ISBLANK(PROGRAMACION!L298)),PROGRAMACION!L298,\"\")","v":""},{"$f":"IF(NOT(ISBLANK(PROGRAMACION!M298)),PROGRAMACION!M298,\"\")","v":""},{"$f":"IF(NOT(ISBLANK(PROGRAMACION!N298)),PROGRAMACION!N298,\"\")","v":""},{"$f":"IF(NOT(ISBLANK(PROGRAMACION!O298)),PROGRAMACION!O298,\"\")","v":""}]
[{"$f":"IF(NOT(ISBLANK(PROGRAMACION!A299)),PROGRAMACION!A299,\"\")","v":""},{"$f":"IF(NOT(ISBLANK(PROGRAMACION!B299)),PROGRAMACION!B299,\"\")","v":""},{"$f":"IF(NOT(ISBLANK(PROGRAMACION!C299)),PROGRAMACION!C299,\"\")","v":""},null,{"$f":"IF(NOT(ISBLANK(PROGRAMACION!E299)),PROGRAMACION!E299,\"\")","v":""},null,{"$f":"IF(NOT(ISBLANK(PROGRAMACION!G299)),PROGRAMACION!G299,\"\")","v":""},{"$f":"IF(NOT(ISBLANK(PROGRAMACION!H299)),PROGRAMACION!H299,\"\")","v":""},{"$f":"IF(NOT(ISBLANK(PROGRAMACION!I299)),PROGRAMACION!I299,\"\")","v":""},{"$f":"IF(NOT(ISBLANK(PROGRAMACION!J299)),IF(PROGRAMACION!I299=\"Transformador\",MID(PROGRAMACION!J299,1,2),PROGRAMACION!J299),\"\")","v":""},{"$f":"IF(NOT(ISBLANK(PROGRAMACION!K299)),PROGRAMACION!K299,\"\")","v":""},{"$f":"IF(NOT(ISBLANK(PROGRAMACION!L299)),PROGRAMACION!L299,\"\")","v":""},{"$f":"IF(NOT(ISBLANK(PROGRAMACION!M299)),PROGRAMACION!M299,\"\")","v":""},{"$f":"IF(NOT(ISBLANK(PROGRAMACION!N299)),PROGRAMACION!N299,\"\")","v":""},{"$f":"IF(NOT(ISBLANK(PROGRAMACION!O299)),PROGRAMACION!O299,\"\")","v":""}]
[{"$f":"IF(NOT(ISBLANK(PROGRAMACION!A300)),PROGRAMACION!A300,\"\")","v":""},{"$f":"IF(NOT(ISBLANK(PROGRAMACION!B300)),PROGRAMACION!B300,\"\")","v":""},{"$f":"IF(NOT(ISBLANK(PROGRAMACION!C300)),PROGRAMACION!C300,\"\")","v":""},null,{"$f":"IF(NOT(ISBLANK(PROGRAMACION!E300)),PROGRAMACION!E300,\"\")","v":""},null,{"$f":"IF(NOT(ISBLANK(PROGRAMACION!G300)),PROGRAMACION!G300,\"\")","v":""},{"$f":"IF(NOT(ISBLANK(PROGRAMACION!H300)),PROGRAMACION!H300,\"\")","v":""},{"$f":"IF(NOT(ISBLANK(PROGRAMACION!I300)),PROGRAMACION!I300,\"\")","v":""},{"$f":"IF(NOT(ISBLANK(PROGRAMACION!J300)),IF(PROGRAMACION!I300=\"Transformador\",MID(PROGRAMACION!J300,1,2),PROGRAMACION!J300),\"\")","v":""},{"$f":"IF(NOT(ISBLANK(PROGRAMACION!K300)),PROGRAMACION!K300,\"\")","v":""},{"$f":"IF(NOT(ISBLANK(PROGRAMACION!L300)),PROGRAMACION!L300,\"\")","v":""},{"$f":"IF(NOT(ISBLANK(PROGRAMACION!M300)),PROGRAMACION!M300,\"\")","v":""},{"$f":"IF(NOT(ISBLANK(PROGRAMACION!N300)),PROGRAMACION!N300,\"\")","v":""},{"$f":"IF(NOT(ISBLANK(PROGRAMACION!O300)),PROGRAMACION!O300,\"\")","v":""}]
[{"$f":"IF(NOT(ISBLANK(PROGRAMACION!A301)),PROGRAMACION!A301,\"\")","v":""},{"$f":"IF(NOT(ISBLANK(PROGRAMACION!B301)),PROGRAMACION!B301,\"\")","v":""},{"$f":"IF(NOT(ISBLANK(PROGRAMACION!C301)),PROGRAMACION!C301,\"\")","v":""},null,{"$f":"IF(NOT(ISBLANK(PROGRAMACION!E301)),PROGRAMACION!E301,\"\")","v":""},null,{"$f":"IF(NOT(ISBLANK(PROGRAMACION!G301)),PROGRAMACION!G301,\"\")","v":""},{"$f":"IF(NOT(ISBLANK(PROGRAMACION!H301)),PROGRAMACION!H301,\"\")","v":""},{"$f":"IF(NOT(ISBLANK(PROGRAMACION!I301)),PROGRAMACION!I301,\"\")","v":""},{"$f":"IF(NOT(ISBLANK(PROGRAMACION!J301)),IF(PROGRAMACION!I301=\"Transformador\",MID(PROGRAMACION!J301,1,2),PROGRAMACION!J301),\"\")","v":""},{"$f":"IF(NOT(ISBLANK(PROGRAMACION!K301)),PROGRAMACION!K301,\"\")","v":""},{"$f":"IF(NOT(ISBLANK(PROGRAMACION!L301)),PROGRAMACION!L301,\"\")","v":""},{"$f":"IF(NOT(ISBLANK(PROGRAMACION!M301)),PROGRAMACION!M301,\"\")","v":""},{"$f":"IF(NOT(ISBLANK(PROGRAMACION!N301)),PROGRAMACION!N301,\"\")","v":""},{"$f":"IF(NOT(ISBLANK(PROGRAMACION!O301)),PROGRAMACION!O301,\"\")","v":""}]
[{"$f":"IF(NOT(ISBLANK(PROGRAMACION!A302)),PROGRAMACION!A302,\"\")","v":""},{"$f":"IF(NOT(ISBLANK(PROGRAMACION!B302)),PROGRAMACION!B302,\"\")","v":""},{"$f":"IF(NOT(ISBLANK(PROGRAMACION!C302)),PROGRAMACION!C302,\"\")","v":""},null,{"$f":"IF(NOT(ISBLANK(PROGRAMACION!E302)),PROGRAMACION!E302,\"\")","v":""},null,{"$f":"IF(NOT(ISBLANK(PROGRAMACION!G302)),PROGRAMACION!G302,\"\")","v":""},{"$f":"IF(NOT(ISBLANK(PROGRAMACION!H302)),PROGRAMACION!H302,\"\")","v":""},{"$f":"IF(NOT(ISBLANK(PROGRAMACION!I302)),PROGRAMACION!I302,\"\")","v":""},{"$f":"IF(NOT(ISBLANK(PROGRAMACION!J302)),IF(PROGRAMACION!I302=\"Transformador\",MID(PROGRAMACION!J302,1,2),PROGRAMACION!J302),\"\")","v":""},{"$f":"IF(NOT(ISBLANK(PROGRAMACION!K302)),PROGRAMACION!K302,\"\")","v":""},{"$f":"IF(NOT(ISBLANK(PROGRAMACION!L302)),PROGRAMACION!L302,\"\")","v":""},{"$f":"IF(NOT(ISBLANK(PROGRAMACION!M302)),PROGRAMACION!M302,\"\")","v":""},{"$f":"IF(NOT(ISBLANK(PROGRAMACION!N302)),PROGRAMACION!N302,\"\")","v":""},{"$f":"IF(NOT(ISBLANK(PROGRAMACION!O302)),PROGRAMACION!O302,\"\")","v":""}]
[{"$f":"IF(NOT(ISBLANK(PROGRAMACION!A303)),PROGRAMACION!A303,\"\")","v":""},{"$f":"IF(NOT(ISBLANK(PROGRAMACION!B303)),PROGRAMACION!B303,\"\")","v":""},{"$f":"IF(NOT(ISBLANK(PROGRAMACION!C303)),PROGRAMACION!C303,\"\")","v":""},null,{"$f":"IF(NOT(ISBLANK(PROGRAMACION!E303)),PROGRAMACION!E303,\"\")","v":""},null,{"$f":"IF(NOT(ISBLANK(PROGRAMACION!G303)),PROGRAMACION!G303,\"\")","v":""},{"$f":"IF(NOT(ISBLANK(PROGRAMACION!H303)),PROGRAMACION!H303,\"\")","v":""},{"$f":"IF(NOT(ISBLANK(PROGRAMACION!I303)),PROGRAMACION!I303,\"\")","v":""},{"$f":"IF(NOT(ISBLANK(PROGRAMACION!J303)),IF(PROGRAMACION!I303=\"Transformador\",MID(PROGRAMACION!J303,1,2),PROGRAMACION!J303),\"\")","v":""},{"$f":"IF(NOT(ISBLANK(PROGRAMACION!K303)),PROGRAMACION!K303,\"\")","v":""},{"$f":"IF(NOT(ISBLANK(PROGRAMACION!L303)),PROGRAMACION!L303,\"\")","v":""},{"$f":"IF(NOT(ISBLANK(PROGRAMACION!M303)),PROGRAMACION!M303,\"\")","v":""},{"$f":"IF(NOT(ISBLANK(PROGRAMACION!N303)),PROGRAMACION!N303,\"\")","v":""},{"$f":"IF(NOT(ISBLANK(PROGRAMACION!O303)),PROGRAMACION!O303,\"\")","v":""}]
[{"$f":"IF(NOT(ISBLANK(PROGRAMACION!A304)),PROGRAMACION!A304,\"\")","v":""},{"$f":"IF(NOT(ISBLANK(PROGRAMACION!B304)),PROGRAMACION!B304,\"\")","v":""},{"$f":"IF(NOT(ISBLANK(PROGRAMACION!C304)),PROGRAMACION!C304,\"\")","v":""},null,{"$f":"IF(NOT(ISBLANK(PROGRAMACION!E304)),PROGRAMACION!E304,\"\")","v":""},null,{"$f":"IF(NOT(ISBLANK(PROGRAMACION!G304)),PROGRAMACION!G304,\"\")","v":""},{"$f":"IF(NOT(ISBLANK(PROGRAMACION!H304)),PROGRAMACION!H304,\"\")","v":""},{"$f":"IF(NOT(ISBLANK(PROGRAMACION!I304)),PROGRAMACION!I304,\"\")","v":""},{"$f":"IF(NOT(ISBLANK(PROGRAMACION!J304)),IF(PROGRAMACION!I304=\"Transformador\",MID(PROGRAMACION!J304,1,2),PROGRAMACION!J304),\"\")","v":""},{"$f":"IF(NOT(ISBLANK(PROGRAMACION!K304)),PROGRAMACION!K304,\"\")","v":""},{"$f":"IF(NOT(ISBLANK(PROGRAMACION!L304)),PROGRAMACION!L304,\"\")","v":""},{"$f":"IF(NOT(ISBLANK(PROGRAMACION!M304)),PROGRAMACION!M304,\"\")","v":""},{"$f":"IF(NOT(ISBLANK(PROGRAMACION!N304)),PROGRAMACION!N304,\"\")","v":""},{"$f":"IF(NOT(ISBLANK(PROGRAMACION!O304)),PROGRAMACION!O304,\"\")","v":""}]
[{"$f":"IF(NOT(ISBLANK(PROGRAMACION!A305)),PROGRAMACION!A305,\"\")","v":""},{"$f":"IF(NOT(ISBLANK(PROGRAMACION!B305)),PROGRAMACION!B305,\"\")","v":""},{"$f":"IF(NOT(ISBLANK(PROGRAMACION!C305)),PROGRAMACION!C305,\"\")","v":""},null,{"$f":"IF(NOT(ISBLANK(PROGRAMACION!E305)),PROGRAMACION!E305,\"\")","v":""},null,{"$f":"IF(NOT(ISBLANK(PROGRAMACION!G305)),PROGRAMACION!G305,\"\")","v":""},{"$f":"IF(NOT(ISBLANK(PROGRAMACION!H305)),PROGRAMACION!H305,\"\")","v":""},{"$f":"IF(NOT(ISBLANK(PROGRAMACION!I305)),PROGRAMACION!I305,\"\")","v":""},{"$f":"IF(NOT(ISBLANK(PROGRAMACION!J305)),IF(PROGRAMACION!I305=\"Transformador\",MID(PROGRAMACION!J305,1,2),PROGRAMACION!J305),\"\")","v":""},{"$f":"IF(NOT(ISBLANK(PROGRAMACION!K305)),PROGRAMACION!K305,\"\")","v":""},{"$f":"IF(NOT(ISBLANK(PROGRAMACION!L305)),PROGRAMACION!L305,\"\")","v":""},{"$f":"IF(NOT(ISBLANK(PROGRAMACION!M305)),PROGRAMACION!M305,\"\")","v":""},{"$f":"IF(NOT(ISBLANK(PROGRAMACION!N305)),PROGRAMACION!N305,\"\")","v":""},{"$f":"IF(NOT(ISBLANK(PROGRAMACION!O305)),PROGRAMACION!O305,\"\")","v":""}]
[{"$f":"IF(NOT(ISBLANK(PROGRAMACION!A306)),PROGRAMACION!A306,\"\")","v":""},{"$f":"IF(NOT(ISBLANK(PROGRAMACION!B306)),PROGRAMACION!B306,\"\")","v":""},{"$f":"IF(NOT(ISBLANK(PROGRAMACION!C306)),PROGRAMACION!C306,\"\")","v":""},null,{"$f":"IF(NOT(ISBLANK(PROGRAMACION!E306)),PROGRAMACION!E306,\"\")","v":""},null,{"$f":"IF(NOT(ISBLANK(PROGRAMACION!G306)),PROGRAMACION!G306,\"\")","v":""},{"$f":"IF(NOT(ISBLANK(PROGRAMACION!H306)),PROGRAMACION!H306,\"\")","v":""},{"$f":"IF(NOT(ISBLANK(PROGRAMACION!I306)),PROGRAMACION!I306,\"\")","v":""},{"$f":"IF(NOT(ISBLANK(PROGRAMACION!J306)),IF(PROGRAMACION!I306=\"Transformador\",MID(PROGRAMACION!J306,1,2),PROGRAMACION!J306),\"\")","v":""},{"$f":"IF(NOT(ISBLANK(PROGRAMACION!K306)),PROGRAMACION!K306,\"\")","v":""},{"$f":"IF(NOT(ISBLANK(PROGRAMACION!L306)),PROGRAMACION!L306,\"\")","v":""},{"$f":"IF(NOT(ISBLANK(PROGRAMACION!M306)),PROGRAMACION!M306,\"\")","v":""},{"$f":"IF(NOT(ISBLANK(PROGRAMACION!N306)),PROGRAMACION!N306,\"\")","v":""},{"$f":"IF(NOT(ISBLANK(PROGRAMACION!O306)),PROGRAMACION!O306,\"\")","v":""}]
[{"$f":"IF(NOT(ISBLANK(PROGRAMACION!A307)),PROGRAMACION!A307,\"\")","v":""},{"$f":"IF(NOT(ISBLANK(PROGRAMACION!B307)),PROGRAMACION!B307,\"\")","v":""},{"$f":"IF(NOT(ISBLANK(PROGRAMACION!C307)),PROGRAMACION!C307,\"\")","v":""},null,{"$f":"IF(NOT(ISBLANK(PROGRAMACION!E307)),PROGRAMACION!E307,\"\")","v":""},null,{"$f":"IF(NOT(ISBLANK(PROGRAMACION!G307)),PROGRAMACION!G307,\"\")","v":""},{"$f":"IF(NOT(ISBLANK(PROGRAMACION!H307)),PROGRAMACION!H307,\"\")","v":""},{"$f":"IF(NOT(ISBLANK(PROGRAMACION!I307)),PROGRAMACION!I307,\"\")","v":""},{"$f":"IF(NOT(ISBLANK(PROGRAMACION!J307)),IF(PROGRAMACION!I307=\"Transformador\",MID(PROGRAMACION!J307,1,2),PROGRAMACION!J307),\"\")","v":""},{"$f":"IF(NOT(ISBLANK(PROGRAMACION!K307)),PROGRAMACION!K307,\"\")","v":""},{"$f":"IF(NOT(ISBLANK(PROGRAMACION!L307)),PROGRAMACION!L307,\"\")","v":""},{"$f":"IF(NOT(ISBLANK(PROGRAMACION!M307)),PROGRAMACION!M307,\"\")","v":""},{"$f":"IF(NOT(ISBLANK(PROGRAMACION!N307)),PROGRAMACION!N307,\"\")","v":""},{"$f":"IF(NOT(ISBLANK(PROGRAMACION!O307)),PROGRAMACION!O307,\"\")","v":""}]
[{"$f":"IF(NOT(ISBLANK(PROGRAMACION!A308)),PROGRAMACION!A308,\"\")","v":""},{"$f":"IF(NOT(ISBLANK(PROGRAMACION!B308)),PROGRAMACION!B308,\"\")","v":""},{"$f":"IF(NOT(ISBLANK(PROGRAMACION!C308)),PROGRAMACION!C308,\"\")","v":""},null,{"$f":"IF(NOT(ISBLANK(PROGRAMACION!E308)),PROGRAMACION!E308,\"\")","v":""},null,{"$f":"IF(NOT(ISBLANK(PROGRAMACION!G308)),PROGRAMACION!G308,\"\")","v":""},{"$f":"IF(NOT(ISBLANK(PROGRAMACION!H308)),PROGRAMACION!H308,\"\")","v":""},{"$f":"IF(NOT(ISBLANK(PROGRAMACION!I308)),PROGRAMACION!I308,\"\")","v":""},{"$f":"IF(NOT(ISBLANK(PROGRAMACION!J308)),IF(PROGRAMACION!I308=\"Transformador\",MID(PROGRAMACION!J308,1,2),PROGRAMACION!J308),\"\")","v":""},{"$f":"IF(NOT(ISBLANK(PROGRAMACION!K308)),PROGRAMACION!K308,\"\")","v":""},{"$f":"IF(NOT(ISBLANK(PROGRAMACION!L308)),PROGRAMACION!L308,\"\")","v":""},{"$f":"IF(NOT(ISBLANK(PROGRAMACION!M308)),PROGRAMACION!M308,\"\")","v":""},{"$f":"IF(NOT(ISBLANK(PROGRAMACION!N308)),PROGRAMACION!N308,\"\")","v":""},{"$f":"IF(NOT(ISBLANK(PROGRAMACION!O308)),PROGRAMACION!O308,\"\")","v":""}]

{"sheet":"DATA","index":2,"n_rows":368,"n_cols":23,"rows_kept":368,"cut":false,"hidden":true,"merged":[[7,12,7,17]]}
["00:00:00","CONTÍNUO","SÍ","Barra (115)","Barra (115)","Barra115","A de Bajo de Mina","Bajo de Mina","ACP","2024-12-31",52,null,null,null,null,null,null,null,null,null,"ACP","A de Panamá","Panamá"]
["01:00:00","DIARIO","NO","Barra (230)","Barra (230)","Barra230","A de Cáceres","Cáceres","AES CHANGUINOLA, S.R.L.","2027-01-01",52,null,null,null,null,null,null,null,null,null,"AES CHANGUINOLA, S.R.L.","B de Panamá","Panamá"]
["02:00:00",null,null,"Línea (115)","Línea (115)","Linea115","B de Cáceres","Cáceres","AES PANAMA, S.R.L.",{"$f":"J2+1","v":"2027-01-02"},52,null,null,null,null,null,null,null,null,null,"AES PANAMA, S.R.L.","A de Cáceres","Cáceres"]
["03:00:00",null,null,"Línea (230)","Línea (230)","Linea230","A de Cativá","Cativá","ALTERNEGY",{"$f":"J3+1","v":"2027-01-03"},52,null,null,null,null,null,null,null,null,null,"ALTERNEGY","B de Cáceres","Cáceres"]
["04:00:00",null,null,"Transformador","Transformador","Transformador","A de Cativá 2","Cativá 2","ANDREAS POWER ENERGY CORP.",{"$f":"J4+1","v":"2027-01-04"},1,null,null,null,null,null,null,null,null,null,"ARGOS PANAMÁ S.A.","A de Cativá","Cativá"]
["05:00:00",null,null,null,null,null,"A de CPSA","CPSA","ARGENTUM SOLAR, S.A.",{"$f":"J5+1","v":"2027-01-05"},1,null,null,null,null,null,null,null,null,null,"CELSIA CENTROAMÉRICA, S.A.","A de Cativá 2","Cativá 2"]
["06:00:00",null,null,null,null,null,"B de CPSA","CPSA","ARGOS PANAMÁ S.A.","2027-01-06",1,null,null,null,null,null,null,null,null,null,"ELECTRON INVESTMENT S.A.","A de Las Minas 1","Las Minas 1"]
["07:00:00",null,null,null,null,null,"A de Las Minas 1","Las Minas 1","AVANZALIA PANAMÁ, S.A.","2027-01-07",1,null,"No modificar estas celdas (P,Q,R)",null,null,null,null,null,null,null,"ENEL FORTUNA","B de Las Minas 1","Las Minas 1"]
["08:00:00",null,null,null,null,null,"B de Las Minas 1","Las Minas 1","AZUCARERA NACIONAL, S.A.","2027-01-08",1,null,{"$f":"IF(ISBLANK(BACKEND!D9),\"\",BACKEND!D9)","v":""},{"$f":"IF(ISBLANK(BACKEND!E9),\"\",BACKEND!E9)","v":""},{"$f":"IF(ISBLANK(BACKEND!F9),\"\",BACKEND!F9)","v":""},{"$f":"IF(ISBLANK(BACKEND!G9),\"\",BACKEND!G9)","v":""},{"$f":"IF(AND(M9=\"\",N9=\"\",O9=\"\",P9=\"\"),FALSE,IFERROR((M9+N9)>=(O9+P9),TRUE))","v":false},{"$f":"Q9","v":false},null,null,"ENSA","A de Miraflores","Miraflores"]
["09:00:00",null,null,null,null,null,"A de Miraflores","Miraflores","BLM CORP.","2027-01-09",1,null,{"$f":"IF(ISBLANK(BACKEND!D10),\"\",BACKEND!D10)","v":""},{"$f":"IF(ISBLANK(BACKEND!E10),\"\",BACKEND!E10)","v":""},{"$f":"IF(ISBLANK(BACKEND!F10),\"\",BACKEND!F10)","v":""},{"$f":"IF(ISBLANK(BACKEND!G10),\"\",BACKEND!G10)","v":""},{"$f":"IF(AND(M10=\"\",N10=\"\",O10=\"\",P10=\"\"),FALSE,IFERROR((M10+N10)>=(O10+P10),TRUE))","v":false},{"$f":"Q10","v":false},null,null,"EPR","B de Miraflores","Miraflores"]
["10:00:00",null,null,null,null,null,"B de Miraflores","Miraflores","BONTEX","2027-01-10",2,null,{"$f":"IF(ISBLANK(BACKEND!D11),\"\",BACKEND!D11)","v":""},{"$f":"IF(ISBLANK(BACKEND!E11),\"\",BACKEND!E11)","v":""},{"$f":"IF(ISBLANK(BACKEND!F11),\"\",BACKEND!F11)","v":""},{"$f":"IF(ISBLANK(BACKEND!G11),\"\",BACKEND!G11)","v":""},false,false,null,null,"ETESA","A de Santa Rita","Santa Rita"]
["11:00:00",null,null,null,null,null,"A de Panamá","Panamá","CAFE DE ELETA","2027-01-11",2,null,{"$f":"IF(ISBLANK(BACKEND!D12),\"\",BACKEND!D12)","v":""},{"$f":"IF(ISBLANK(BACKEND!E12),\"\",BACKEND!E12)","v":""},{"$f":"IF(ISBLANK(BACKEND!F12),\"\",BACKEND!F12)","v":""},{"$f":"IF(ISBLANK(BACKEND!G12),\"\",BACKEND!G12)","v":""},false,false,null,null,"FOUNTAIN HYDRO POWER CORP.","B de Santa Rita","Santa Rita"]
["12:00:00",null,null,null,null,null,"B de Panamá","Panamá","CALDERA ENERGY CORP.","2027-01-12",2,null,{"$f":"IF(ISBLANK(BACKEND!D13),\"\",BACKEND!D13)","v":""},{"$f":"IF(ISBLANK(BACKEND!E13),\"\",BACKEND!E13)","v":""},{"$f":"IF(ISBLANK(BACKEND!F13),\"\",BACKEND!F13)","v":""},{"$f":"IF(ISBLANK(BACKEND!G13),\"\",BACKEND!G13)","v":""},false,false,null,null,"GAS NATURAL ATLÁNTICO, S. DE R. L.","A de Changuinola","Changuinola"]
["13:00:00",null,null,null,null,null,"A de Santa María","Santa María","CELSIA CENTROAMÉRICA, S.A.","2027-01-13",2,null,{"$f":"IF(ISBLANK(BACKEND!D14),\"\",BACKEND!D14)","v":""},{"$f":"IF(ISBLANK(BACKEND!E14),\"\",BACKEND!E14)","v":""},{"$f":"IF(ISBLANK(BACKEND!F14),\"\",BACKEND!F14)","v":""},{"$f":"IF(ISBLANK(BACKEND!G14),\"\",BACKEND!G14)","v":""},false,false,null,null,"GENA","B de Changuinola","Changuinola"]
["14:00:00",null,null,null,null,null,"A de Santa Rita","Santa Rita","CELSOLAR, S.A.","2027-01-14",2,null,{"$f":"IF(ISBLANK(BACKEND!D15),\"\",BACKEND!D15)","v":""},{"$f":"IF(ISBLANK(BACKEND!E15),\"\",BACKEND!E15)","v":""},{"$f":"IF(ISBLANK(BACKEND!F15),\"\",BACKEND!F15)","v":""},{"$f":"IF(ISBLANK(BACKEND!G15),\"\",BACKEND!G15)","v":""},false,false,null,null,"GENERADORA DEL ISTMO","A de Dominical","Dominical"]
["15:00:00",null,null,null,null,null,"B de Santa Rita","Santa Rita","CENTRAL AZUCARERO DE ALANJE, S.A.","2027-01-15",2,null,{"$f":"IF(ISBLANK(BACKEND!D16),\"\",BACKEND!D16)","v":""},{"$f":"IF(ISBLANK(BACKEND!E16),\"\",BACKEND!E16)","v":""},{"$f":"IF(ISBLANK(BACKEND!F16),\"\",BACKEND!F16)","v":""},{"$f":"IF(ISBLANK(BACKEND!G16),\"\",BACKEND!G16)","v":""},false,false,null,null,"GENERADORA DE GATÚN, S.A.","B de Dominical","Dominical"]
["16:00:00",null,null,null,null,null,"A de Caldera","Caldera","CND","2027-01-16",2,null,{"$f":"IF(ISBLANK(BACKEND!D17),\"\",BACKEND!D17)","v":""},{"$f":"IF(ISBLANK(BACKEND!E17),\"\",BACKEND!E17)","v":""},{"$f":"IF(ISBLANK(BACKEND!F17),\"\",BACKEND!F17)","v":""},{"$f":"IF(ISBLANK(BACKEND!G17),\"\",BACKEND!G17)","v":""},false,false,null,null,"IDEAL PANAMÁ, S.A.","A de Panamá","Panamá"]
["17:00:00",null,null,null,null,null,"B de Caldera","Caldera","CNDMET","2027-01-17",2,null,{"$f":"IF(ISBLANK(BACKEND!D18),\"\",BACKEND!D18)","v":""},{"$f":"IF(ISBLANK(BACKEND!E18),\"\",BACKEND!E18)","v":""},{"$f":"IF(ISBLANK(BACKEND!F18),\"\",BACKEND!F18)","v":""},{"$f":"IF(ISBLANK(BACKEND!G18),\"\",BACKEND!G18)","v":""},false,false,null,null,"PANAM","B de Panamá","Panamá"]
["18:00:00",null,null,null,null,null,"A de Centro Bancario","Centro Bancario","CNDSCADA","2027-01-18",3,null,{"$f":"IF(ISBLANK(BACKEND!D19),\"\",BACKEND!D19)","v":""},{"$f":"IF(ISBLANK(BACKEND!E19),\"\",BACKEND!E19)","v":""},{"$f":"IF(ISBLANK(BACKEND!F19),\"\",BACKEND!F19)","v":""},{"$f":"IF(ISBLANK(BACKEND!G19),\"\",BACKEND!G19)","v":""},false,false,null,null,"PARQUE EÓLICO TOABRÉ, S.A.","A de Panamá II","Panamá II"]
["19:00:00",null,null,null,null,null,"2B de Cerro Viento","Cerro Viento","CONCEPTO SOLAR, S.A.","2027-01-19",3,null,{"$f":"IF(ISBLANK(BACKEND!D20),\"\",BACKEND!D20)","v":""},{"$f":"IF(ISBLANK(BACKEND!E20),\"\",BACKEND!E20)","v":""},{"$f":"IF(ISBLANK(BACKEND!F20),\"\",BACKEND!F20)","v":""},{"$f":"IF(ISBLANK(BACKEND!G20),\"\",BACKEND!G20)","v":""},false,false,null,null,"PEDREGAL POWER","B de Panamá II","Panamá II"]
["20:00:00",null,null,null,null,null,"2C de Cerro Viento","Cerro Viento","CORPORACIÓN DE ENERGÍA  DEL ISTMO LTDA, S.A.",{"$f":"J20+1","v":"2027-01-20"},3,null,{"$f":"IF(ISBLANK(BACKEND!D21),\"\",BACKEND!D21)","v":""},{"$f":"IF(ISBLANK(BACKEND!E21),\"\",BACKEND!E21)","v":""},{"$f":"IF(ISBLANK(BACKEND!F21),\"\",BACKEND!F21)","v":""},{"$f":"IF(ISBLANK(BACKEND!G21),\"\",BACKEND!G21)","v":""},false,false,null,null,"SPARKLE POWER, S.A.","A de Progreso","Progreso"]
["21:00:00",null,null,null,null,null,"A de Changuinola","Changuinola","DACONAN STAR SOLAR, S.A.","2027-01-21",3,null,{"$f":"IF(ISBLANK(BACKEND!D22),\"\",BACKEND!D22)","v":""},{"$f":"IF(ISBLANK(BACKEND!E22),\"\",BACKEND!E22)","v":""},{"$f":"IF(ISBLANK(BACKEND!F22),\"\",BACKEND!F22)","v":""},{"$f":"IF(ISBLANK(BACKEND!G22),\"\",BACKEND!G22)","v":""},false,false,null,null,"UEP PENONOME II","B de Progreso","Progreso"]
["22:00:00",null,null,null,null,null,"A de Chorrera","Chorrera","DESARROLLOS HIDROELÉCTRICOS CORP.","2027-01-22",3,null,{"$f":"IF(ISBLANK(BACKEND!D23),\"\",BACKEND!D23)","v":""},{"$f":"IF(ISBLANK(BACKEND!E23),\"\",BACKEND!E23)","v":""},{"$f":"IF(ISBLANK(BACKEND!F23),\"\",BACKEND!F23)","v":""},{"$f":"IF(ISBLANK(BACKEND!G23),\"\",BACKEND!G23)","v":""},false,false,null,null,null,"A de  Antón IV","Antón IV"]
["23:00:00",null,null,null,null,null,"B de Chorrera","Chorrera","DIVISA SOLAR 10 MW","2027-01-23",3,null,{"$f":"IF(ISBLANK(BACKEND!D24),\"\",BACKEND!D24)","v":""},{"$f":"IF(ISBLANK(BACKEND!E24),\"\",BACKEND!E24)","v":""},{"$f":"IF(ISBLANK(BACKEND!F24),\"\",BACKEND!F24)","v":""},{"$f":"IF(ISBLANK(BACKEND!G24),\"\",BACKEND!G24)","v":""},false,false,null,null,null,"A de  Bella Vista","Bella Vista"]
[null,null,null,null,null,null,"A de Chorrera 115","Chorrera 115","ECO GROOVE INVESTMENT INC.","2027-01-24",3,null,{"$f":"IF(ISBLANK(BACKEND!D25),\"\",BACKEND!D25)","v":""},{"$f":"IF(ISBLANK(BACKEND!E25),\"\",BACKEND!E25)","v":""},{"$f":"IF(ISBLANK(BACKEND!F25),\"\",BACKEND!F25)","v":""},{"$f":"IF(ISBLANK(BACKEND!G25),\"\",BACKEND!G25)","v":""},false,false,null,null,null,"A de  Boquerón 3","Boquerón 3"]
[null,null,null,null,null,null,"B de Chorrera 115","Chorrera 115","EDECHI","2027-01-25",4,null,{"$f":"IF(ISBLANK(BACKEND!D26),\"\",BACKEND!D26)","v":""},{"$f":"IF(ISBLANK(BACKEND!E26),\"\",BACKEND!E26)","v":""},{"$f":"IF(ISBLANK(BACKEND!F26),\"\",BACKEND!F26)","v":""},{"$f":"IF(ISBLANK(BACKEND!G26),\"\",BACKEND!G26)","v":""},false,false,null,null,null,"A de  Burunga","Burunga"]
[null,null,null,null,null,null,"A de El Torno","El Torno","EDEMET","2027-01-26",4,null,{"$f":"IF(ISBLANK(BACKEND!D27),\"\",BACKEND!D27)","v":""},{"$f":"IF(ISBLANK(BACKEND!E27),\"\",BACKEND!E27)","v":""},{"$f":"IF(ISBLANK(BACKEND!F27),\"\",BACKEND!F27)","v":""},{"$f":"IF(ISBLANK(BACKEND!G27),\"\",BACKEND!G27)","v":""},false,false,null,null,null,"A de  Cañazas","Cañazas"]
[null,null,null,null,null,null,"B de El Torno","El Torno","EGESA","2027-01-27",4,null,{"$f":"IF(ISBLANK(BACKEND!D28),\"\",BACKEND!D28)","v":""},{"$f":"IF(ISBLANK(BACKEND!E28),\"\",BACKEND!E28)","v":""},{"$f":"IF(ISBLANK(BACKEND!F28),\"\",BACKEND!F28)","v":""},{"$f":"IF(ISBLANK(BACKEND!G28),\"\",BACKEND!G28)","v":""},false,false,null,null,null,"A de  Chorrera","Chorrera"]
[null,null,null,null,null,null,"A de La Estrella","La Estrella","ELECTRICIDAD SOLAR, S.A.","2027-01-28",4,null,{"$f":"IF(ISBLANK(BACKEND!D29),\"\",BACKEND!D29)","v":""},{"$f":"IF(ISBLANK(BACKEND!E29),\"\",BACKEND!E29)","v":""},{"$f":"IF(ISBLANK(BACKEND!F29),\"\",BACKEND!F29)","v":""},{"$f":"IF(ISBLANK(BACKEND!G29),\"\",BACKEND!G29)","v":""},false,false,null,null,null,"A de  Cristóbal","Cristóbal"]
[null,null,null,null,null,null,"A de Las Minas 2","Las Minas 2","ELECTROGENERADORA DEL ISTMO","2027-01-29",4,null,{"$f":"IF(ISBLANK(BACKEND!D30),\"\",BACKEND!D30)","v":""},{"$f":"IF(ISBLANK(BACKEND!E30),\"\",BACKEND!E30)","v":""},{"$f":"IF(ISBLANK(BACKEND!F30),\"\",BACKEND!F30)","v":""},{"$f":"IF(ISBLANK(BACKEND!G30),\"\",BACKEND!G30)","v":""},false,false,null,null,null,"A de  El Coco","El Coco"]
[null,null,null,null,null,null,"B de Las Minas 2","Las Minas 2","ELECTRON INVESTMENT S.A.","2027-01-30",4,null,{"$f":"IF(ISBLANK(BACKEND!D31),\"\",BACKEND!D31)","v":""},{"$f":"IF(ISBLANK(BACKEND!E31),\"\",BACKEND!E31)","v":""},{"$f":"IF(ISBLANK(BACKEND!F31),\"\",BACKEND!F31)","v":""},{"$f":"IF(ISBLANK(BACKEND!G31),\"\",BACKEND!G31)","v":""},false,false,null,null,null,"A de  El Higo","El Higo"]
[null,null,null,null,null,null,"A de Llano Sánchez","Llano Sánchez","EMNADESA","2027-01-31",4,null,{"$f":"IF(ISBLANK(BACKEND!D32),\"\",BACKEND!D32)","v":""},{"$f":"IF(ISBLANK(BACKEND!E32),\"\",BACKEND!E32)","v":""},{"$f":"IF(ISBLANK(BACKEND!F32),\"\",BACKEND!F32)","v":""},{"$f":"IF(ISBLANK(BACKEND!G32),\"\",BACKEND!G32)","v":""},false,false,null,null,null,"A de  Fortuna","Fortuna"]
[null,null,null,null,null,null,"B de Llano Sánchez","Llano Sánchez","EMPRESAS MELO, S.A.","2027-02-01",5,null,{"$f":"IF(ISBLANK(BACKEND!D33),\"\",BACKEND!D33)","v":""},{"$f":"IF(ISBLANK(BACKEND!E33),\"\",BACKEND!E33)","v":""},{"$f":"IF(ISBLANK(BACKEND!F33),\"\",BACKEND!F33)","v":""},{"$f":"IF(ISBLANK(BACKEND!G33),\"\",BACKEND!G33)","v":""},false,false,null,null,null,"A de  Guasquitas","Guasquitas"]
[null,null,null,null,null,null,"A de Locería","Locería","ENEL FORTUNA","2027-02-02",5,null,{"$f":"IF(ISBLANK(BACKEND!D34),\"\",BACKEND!D34)","v":""},{"$f":"IF(ISBLANK(BACKEND!E34),\"\",BACKEND!E34)","v":""},{"$f":"IF(ISBLANK(BACKEND!F34),\"\",BACKEND!F34)","v":""},{"$f":"IF(ISBLANK(BACKEND!G34),\"\",BACKEND!G34)","v":""},false,false,null,null,null,"A de  La Esperanza","La Esperanza"]
[null,null,null,null,null,null,"A de Los Valles","Los Valles","ENEL SOLAR, S.R.L.","2027-02-03",5,null,{"$f":"IF(ISBLANK(BACKEND!D35),\"\",BACKEND!D35)","v":""},{"$f":"IF(ISBLANK(BACKEND!E35),\"\",BACKEND!E35)","v":""},{"$f":"IF(ISBLANK(BACKEND!F35),\"\",BACKEND!F35)","v":""},{"$f":"IF(ISBLANK(BACKEND!G35),\"\",BACKEND!G35)","v":""},false,false,null,null,null,"A de  Llano Sánchez","Llano Sánchez"]
[null,null,null,null,null,null,"A de Mata de Nance","Mata de Nance","ENSA","2027-02-04",5,null,{"$f":"IF(ISBLANK(BACKEND!D36),\"\",BACKEND!D36)","v":""},{"$f":"IF(ISBLANK(BACKEND!E36),\"\",BACKEND!E36)","v":""},{"$f":"IF(ISBLANK(BACKEND!F36),\"\",BACKEND!F36)","v":""},{"$f":"IF(ISBLANK(BACKEND!G36),\"\",BACKEND!G36)","v":""},false,false,null,null,null,"A de  Mata de Nance","Mata de Nance"]
[null,null,null,null,null,null,"B de Mata de Nance","Mata de Nance","EPR","2027-02-05",5,null,{"$f":"IF(ISBLANK(BACKEND!D37),\"\",BACKEND!D37)","v":""},{"$f":"IF(ISBLANK(BACKEND!E37),\"\",BACKEND!E37)","v":""},{"$f":"IF(ISBLANK(BACKEND!F37),\"\",BACKEND!F37)","v":""},{"$f":"IF(ISBLANK(BACKEND!G37),\"\",BACKEND!G37)","v":""},false,false,null,null,null,"A de  Pacora","Pacora"]
[null,null,null,null,null,null,"A de MIT","MIT","ESEPSA","2027-02-06",5,null,{"$f":"IF(ISBLANK(BACKEND!D38),\"\",BACKEND!D38)","v":""},{"$f":"IF(ISBLANK(BACKEND!E38),\"\",BACKEND!E38)","v":""},{"$f":"IF(ISBLANK(BACKEND!F38),\"\",BACKEND!F38)","v":""},{"$f":"IF(ISBLANK(BACKEND!G38),\"\",BACKEND!G38)","v":""},false,false,null,null,null,"A de  Panamá III","Panamá III"]
[null,null,null,null,null,null,"A de Panamá II","Panamá II","ETESA","2027-02-07",5,null,{"$f":"IF(ISBLANK(BACKEND!D39),\"\",BACKEND!D39)","v":""},{"$f":"IF(ISBLANK(BACKEND!E39),\"\",BACKEND!E39)","v":""},{"$f":"IF(ISBLANK(BACKEND!F39),\"\",BACKEND!F39)","v":""},{"$f":"IF(ISBLANK(BACKEND!G39),\"\",BACKEND!G39)","v":""},false,false,null,null,null,"A de  Sabanitas","Sabanitas"]
[null,null,null,null,null,null,"B de Panamá II","Panamá II","FARALLON SOLAR 2, S.A.","2027-02-08",6,null,{"$f":"IF(ISBLANK(BACKEND!D40),\"\",BACKEND!D40)","v":""},{"$f":"IF(ISBLANK(BACKEND!E40),\"\",BACKEND!E40)","v":""},{"$f":"IF(ISBLANK(BACKEND!F40),\"\",BACKEND!F40)","v":""},{"$f":"IF(ISBLANK(BACKEND!G40),\"\",BACKEND!G40)","v":""},false,false,null,null,null,"A de  San Bartolo","San Bartolo"]
[null,null,null,null,null,null,"A de Pocrí","Pocrí","FOUNTAIN HYDRO POWER CORP.","2027-02-09",6,null,{"$f":"IF(ISBLANK(BACKEND!D41),\"\",BACKEND!D41)","v":""},{"$f":"IF(ISBLANK(BACKEND!E41),\"\",BACKEND!E41)","v":""},{"$f":"IF(ISBLANK(BACKEND!F41),\"\",BACKEND!F41)","v":""},{"$f":"IF(ISBLANK(BACKEND!G41),\"\",BACKEND!G41)","v":""},false,false,null,null,null,"A de  Telfers II","Telfers II"]
[null,null,null,null,null,null,"A de Progreso","Progreso","GAS NATURAL ATLÁNTICO, S. DE R. L.","2027-02-10",6,null,{"$f":"IF(ISBLANK(BACKEND!D42),\"\",BACKEND!D42)","v":""},{"$f":"IF(ISBLANK(BACKEND!E42),\"\",BACKEND!E42)","v":""},{"$f":"IF(ISBLANK(BACKEND!F42),\"\",BACKEND!F42)","v":""},{"$f":"IF(ISBLANK(BACKEND!G42),\"\",BACKEND!G42)","v":""},false,false,null,null,null,"A de  Veladero","Veladero"]
[null,null,null,null,null,null,"A de San Bartolo","San Bartolo","GENA","2027-02-11",6,null,{"$f":"IF(ISBLANK(BACKEND!D43),\"\",BACKEND!D43)","v":""},{"$f":"IF(ISBLANK(BACKEND!E43),\"\",BACKEND!E43)","v":""},{"$f":"IF(ISBLANK(BACKEND!F43),\"\",BACKEND!F43)","v":""},{"$f":"IF(ISBLANK(BACKEND!G43),\"\",BACKEND!G43)","v":""},false,false,null,null,null,"B de Antón IV","Antón IV"]
[null,null,null,null,null,null,"A de San Francisco","San Francisco","GENERACION SOLAR, S.A.","2027-02-12",6,null,{"$f":"IF(ISBLANK(BACKEND!D44),\"\",BACKEND!D44)","v":""},{"$f":"IF(ISBLANK(BACKEND!E44),\"\",BACKEND!E44)","v":""},{"$f":"IF(ISBLANK(BACKEND!F44),\"\",BACKEND!F44)","v":""},{"$f":"IF(ISBLANK(BACKEND!G44),\"\",BACKEND!G44)","v":""},false,false,null,null,null,"B de Bella Vista","Bella Vista"]
[null,null,null,null,null,null,"A de Santiago","Santiago","GENERADORA ALTO VALLE, S.A.","2027-02-13",6,null,{"$f":"IF(ISBLANK(BACKEND!D45),\"\",BACKEND!D45)","v":""},{"$f":"IF(ISBLANK(BACKEND!E45),\"\",BACKEND!E45)","v":""},{"$f":"IF(ISBLANK(BACKEND!F45),\"\",BACKEND!F45)","v":""},{"$f":"IF(ISBLANK(BACKEND!G45),\"\",BACKEND!G45)","v":""},false,false,null,null,null,"B de Boquerón 3","Boquerón 3"]
[null,null,null,null,null,null,"A de 24 de Diciembre","24 de Diciembre","GENERADORA DE GATÚN, S.A.","2027-02-14",6,null,{"$f":"IF(ISBLANK(BACKEND!D46),\"\",BACKEND!D46)","v":""},{"$f":"IF(ISBLANK(BACKEND!E46),\"\",BACKEND!E46)","v":""},{"$f":"IF(ISBLANK(BACKEND!F46),\"\",BACKEND!F46)","v":""},{"$f":"IF(ISBLANK(BACKEND!G46),\"\",BACKEND!G46)","v":""},false,false,null,null,null,"B de Burunga","Burunga"]
[null,null,null,null,null,null,"B de 24 de Diciembre","24 de Diciembre","GENERADORA DEL ISTMO","2027-02-15",7,null,{"$f":"IF(ISBLANK(BACKEND!D47),\"\",BACKEND!D47)","v":""},{"$f":"IF(ISBLANK(BACKEND!E47),\"\",BACKEND!E47)","v":""},{"$f":"IF(ISBLANK(BACKEND!F47),\"\",BACKEND!F47)","v":""},{"$f":"IF(ISBLANK(BACKEND!G47),\"\",BACKEND!G47)","v":""},false,false,null,null,null,"B de Cañazas","Cañazas"]
[null,null,null,null,null,null,"A de Bella Vista","Bella Vista","GENERADORA PEDREGALITO","2027-02-16",7,null,{"$f":"IF(ISBLANK(BACKEND!D48),\"\",BACKEND!D48)","v":""},{"$f":"IF(ISBLANK(BACKEND!E48),\"\",BACKEND!E48)","v":""},{"$f":"IF(ISBLANK(BACKEND!F48),\"\",BACKEND!F48)","v":""},{"$f":"IF(ISBLANK(BACKEND!G48),\"\",BACKEND!G48)","v":""},false,false,null,null,null,"B de Chorrera","Chorrera"]
[null,null,null,null,null,null,"B de Bella Vista","Bella Vista","GENERADORA RIO CHICO","2027-02-17",7,null,{"$f":"IF(ISBLANK(BACKEND!D49),\"\",BACKEND!D49)","v":""},{"$f":"IF(ISBLANK(BACKEND!E49),\"\",BACKEND!E49)","v":""},{"$f":"IF(ISBLANK(BACKEND!F49),\"\",BACKEND!F49)","v":""},{"$f":"IF(ISBLANK(BACKEND!G49),\"\",BACKEND!G49)","v":""},false,false,null,null,null,"B de Cristóbal","Cristóbal"]
[null,null,null,null,null,null,"A de Boquerón 3","Boquerón 3","GENERADORA SOLAR AUSTRAL, S.A.","2027-02-18",7,null,{"$f":"IF(ISBLANK(BACKEND!D50),\"\",BACKEND!D50)","v":""},{"$f":"IF(ISBLANK(BACKEND!E50),\"\",BACKEND!E50)","v":""},{"$f":"IF(ISBLANK(BACKEND!F50),\"\",BACKEND!F50)","v":""},{"$f":"IF(ISBLANK(BACKEND!G50),\"\",BACKEND!G50)","v":""},false,false,null,null,null,"B de El Coco","El Coco"]
[null,null,null,null,null,null,"B de Boquerón 3","Boquerón 3","GENERADORA SOLAR EL PUERTO, S.A.","2027-02-19",7,null,{"$f":"IF(ISBLANK(BACKEND!D51),\"\",BACKEND!D51)","v":""},{"$f":"IF(ISBLANK(BACKEND!E51),\"\",BACKEND!E51)","v":""},{"$f":"IF(ISBLANK(BACKEND!F51),\"\",BACKEND!F51)","v":""},{"$f":"IF(ISBLANK(BACKEND!G51),\"\",BACKEND!G51)","v":""},false,false,null,null,null,"B de El Higo","El Higo"]
[null,null,null,null,null,null,"A de Cañazas","Cañazas","HIDRO PANAMA","2027-02-20",7,null,{"$f":"IF(ISBLANK(BACKEND!D52),\"\",BACKEND!D52)","v":""},{"$f":"IF(ISBLANK(BACKEND!E52),\"\",BACKEND!E52)","v":""},{"$f":"IF(ISBLANK(BACKEND!F52),\"\",BACKEND!F52)","v":""},{"$f":"IF(ISBLANK(BACKEND!G52),\"\",BACKEND!G52)","v":""},false,false,null,null,null,"B de Fortuna","Fortuna"]
[null,null,null,null,null,null,"B de Cañazas","Cañazas","HIDRO PIEDRA","2027-02-21",7,null,{"$f":"IF(ISBLANK(BACKEND!D53),\"\",BACKEND!D53)","v":""},{"$f":"IF(ISBLANK(BACKEND!E53),\"\",BACKEND!E53)","v":""},{"$f":"IF(ISBLANK(BACKEND!F53),\"\",BACKEND!F53)","v":""},{"$f":"IF(ISBLANK(BACKEND!G53),\"\",BACKEND!G53)","v":""},false,false,null,null,null,"B de Guasquitas","Guasquitas"]
[null,null,null,null,null,null,"A de Changuinola","Changuinola","HIDROBOQUERON","2027-02-22",8,null,{"$f":"IF(ISBLANK(BACKEND!D54),\"\",BACKEND!D54)","v":""},{"$f":"IF(ISBLANK(BACKEND!E54),\"\",BACKEND!E54)","v":""},{"$f":"IF(ISBLANK(BACKEND!F54),\"\",BACKEND!F54)","v":""},{"$f":"IF(ISBLANK(BACKEND!G54),\"\",BACKEND!G54)","v":""},false,false,null,null,null,"B de La Esperanza","La Esperanza"]
[null,null,null,null,null,null,"B de Changuinola","Changuinola","HIDROECOLÓGICA DEL TERIBE, S.A.","2027-02-23",8,null,{"$f":"IF(ISBLANK(BACKEND!D55),\"\",BACKEND!D55)","v":""},{"$f":"IF(ISBLANK(BACKEND!E55),\"\",BACKEND!E55)","v":""},{"$f":"IF(ISBLANK(BACKEND!F55),\"\",BACKEND!F55)","v":""},{"$f":"IF(ISBLANK(BACKEND!G55),\"\",BACKEND!G55)","v":""},false,false,null,null,null,"B de Llano Sánchez","Llano Sánchez"]
[null,null,null,null,null,null,"A de Chorrera","Chorrera","HIDROELÉCTRICA BAJOS DEL TOTUMA, S.A.","2027-02-24",8,null,{"$f":"IF(ISBLANK(BACKEND!D56),\"\",BACKEND!D56)","v":""},{"$f":"IF(ISBLANK(BACKEND!E56),\"\",BACKEND!E56)","v":""},{"$f":"IF(ISBLANK(BACKEND!F56),\"\",BACKEND!F56)","v":""},{"$f":"IF(ISBLANK(BACKEND!G56),\"\",BACKEND!G56)","v":""},false,false,null,null,null,"B de Mata de Nance","Mata de Nance"]
[null,null,null,null,null,null,"B de Chorrera","Chorrera","HIDROELÉCTRICA SAN LORENZO, S.A.","2027-02-25",8,null,{"$f":"IF(ISBLANK(BACKEND!D57),\"\",BACKEND!D57)","v":""},{"$f":"IF(ISBLANK(BACKEND!E57),\"\",BACKEND!E57)","v":""},{"$f":"IF(ISBLANK(BACKEND!F57),\"\",BACKEND!F57)","v":""},{"$f":"IF(ISBLANK(BACKEND!G57),\"\",BACKEND!G57)","v":""},false,false,null,null,null,"B de Pacora","Pacora"]
[null,null,null,null,null,null,"A de Dominical","Dominical","HIDROIBÉRICA S.A.","2027-02-26",8,null,{"$f":"IF(ISBLANK(BACKEND!D58),\"\",BACKEND!D58)","v":""},{"$f":"IF(ISBLANK(BACKEND!E58),\"\",BACKEND!E58)","v":""},{"$f":"IF(ISBLANK(BACKEND!F58),\"\",BACKEND!F58)","v":""},{"$f":"IF(ISBLANK(BACKEND!G58),\"\",BACKEND!G58)","v":""},false,false,null,null,null,"B de Panamá III","Panamá III"]
[null,null,null,null,null,null,"B de Dominical","Dominical","HYDRO CAISAN, S.A.","2027-02-27",8,null,{"$f":"IF(ISBLANK(BACKEND!D59),\"\",BACKEND!D59)","v":""},{"$f":"IF(ISBLANK(BACKEND!E59),\"\",BACKEND!E59)","v":""},{"$f":"IF(ISBLANK(BACKEND!F59),\"\",BACKEND!F59)","v":""},{"$f":"IF(ISBLANK(BACKEND!G59),\"\",BACKEND!G59)","v":""},false,false,null,null,null,"B de Sabanitas","Sabanitas"]
[null,null,null,null,null,null,"A de El Coco","El Coco","IDEAL PANAMÁ, S.A.","2027-02-28",8,null,{"$f":"IF(ISBLANK(BACKEND!D60),\"\",BACKEND!D60)","v":""},{"$f":"IF(ISBLANK(BACKEND!E60),\"\",BACKEND!E60)","v":""},{"$f":"IF(ISBLANK(BACKEND!F60),\"\",BACKEND!F60)","v":""},{"$f":"IF(ISBLANK(BACKEND!G60),\"\",BACKEND!G60)","v":""},false,false,null,null,null,"B de San Bartolo","San Bartolo"]
[null,null,null,null,null,null,"B de El Coco","El Coco","ISTMUS HYDROPOWER CORP","2027-03-01",9,null,{"$f":"IF(ISBLANK(BACKEND!D61),\"\",BACKEND!D61)","v":""},{"$f":"IF(ISBLANK(BACKEND!E61),\"\",BACKEND!E61)","v":""},{"$f":"IF(ISBLANK(BACKEND!F61),\"\",BACKEND!F61)","v":""},{"$f":"IF(ISBLANK(BACKEND!G61),\"\",BACKEND!G61)","v":""},false,false,null,null,null,"B de Telfers II","Telfers II"]
[null,null,null,null,null,null,"A de El Higo","El Higo","JAGÜITO SOLAR 10 MW, S.A.","2027-03-02",9,null,{"$f":"IF(ISBLANK(BACKEND!D62),\"\",BACKEND!D62)","v":""},{"$f":"IF(ISBLANK(BACKEND!E62),\"\",BACKEND!E62)","v":""},{"$f":"IF(ISBLANK(BACKEND!F62),\"\",BACKEND!F62)","v":""},{"$f":"IF(ISBLANK(BACKEND!G62),\"\",BACKEND!G62)","v":""},false,false,null,null,null,"B de Veladero","Veladero"]
[null,null,null,null,null,null,"B de El Higo","El Higo","LAS PERLAS NORTE","2027-03-03",9,null,{"$f":"IF(ISBLANK(BACKEND!D63),\"\",BACKEND!D63)","v":""},{"$f":"IF(ISBLANK(BACKEND!E63),\"\",BACKEND!E63)","v":""},{"$f":"IF(ISBLANK(BACKEND!F63),\"\",BACKEND!F63)","v":""},{"$f":"IF(ISBLANK(BACKEND!G63),\"\",BACKEND!G63)","v":""},false,false,null,null,null,"115-5","Cáceres - Miraflores"]
[null,null,null,null,null,null,"A de Fortuna","Fortuna","LAS PERLAS SUR","2027-03-04",9,null,{"$f":"IF(ISBLANK(BACKEND!D64),\"\",BACKEND!D64)","v":""},{"$f":"IF(ISBLANK(BACKEND!E64),\"\",BACKEND!E64)","v":""},{"$f":"IF(ISBLANK(BACKEND!F64),\"\",BACKEND!F64)","v":""},{"$f":"IF(ISBLANK(BACKEND!G64),\"\",BACKEND!G64)","v":""},false,false,null,null,null,"115-20","Las Minas 1 - Cativá"]
[null,null,null,null,null,null,"B de Fortuna","Fortuna","LLANO SÁNCHEZ SOLAR POWER, S.A.","2027-03-05",9,null,{"$f":"IF(ISBLANK(BACKEND!D65),\"\",BACKEND!D65)","v":""},{"$f":"IF(ISBLANK(BACKEND!E65),\"\",BACKEND!E65)","v":""},{"$f":"IF(ISBLANK(BACKEND!F65),\"\",BACKEND!F65)","v":""},{"$f":"IF(ISBLANK(BACKEND!G65),\"\",BACKEND!G65)","v":""},false,false,null,null,null,"115-1B","Cativá 2 - Santa Rita"]
[null,null,null,null,null,null,"A de Guasquitas","Guasquitas","MANZANILLO INTERNATIONAL TERMINAL, S.A.","2027-03-06",9,null,{"$f":"IF(ISBLANK(BACKEND!D66),\"\",BACKEND!D66)","v":""},{"$f":"IF(ISBLANK(BACKEND!E66),\"\",BACKEND!E66)","v":""},{"$f":"IF(ISBLANK(BACKEND!F66),\"\",BACKEND!F66)","v":""},{"$f":"IF(ISBLANK(BACKEND!G66),\"\",BACKEND!G66)","v":""},false,false,null,null,null,"115-2B","Las Minas 1 - Santa Rita"]
[null,null,null,null,null,null,"B de Guasquitas","Guasquitas","MASPV PANAMÁ INC.","2027-03-07",9,null,{"$f":"IF(ISBLANK(BACKEND!D67),\"\",BACKEND!D67)","v":""},{"$f":"IF(ISBLANK(BACKEND!E67),\"\",BACKEND!E67)","v":""},{"$f":"IF(ISBLANK(BACKEND!F67),\"\",BACKEND!F67)","v":""},{"$f":"IF(ISBLANK(BACKEND!G67),\"\",BACKEND!G67)","v":""},false,false,null,null,null,"115-12","Panamá - Cáceres"]
[null,null,null,null,null,null,"A de La Esperanza","La Esperanza","MINERA PANAMÁ, S.A.",{"$f":"J67+1","v":"2027-03-08"},10,null,{"$f":"IF(ISBLANK(BACKEND!D68),\"\",BACKEND!D68)","v":""},{"$f":"IF(ISBLANK(BACKEND!E68),\"\",BACKEND!E68)","v":""},{"$f":"IF(ISBLANK(BACKEND!F68),\"\",BACKEND!F68)","v":""},{"$f":"IF(ISBLANK(BACKEND!G68),\"\",BACKEND!G68)","v":""},false,false,null,null,null,"115-62","Panamá - Cáceres"]
[null,null,null,null,null,null,"B de La Esperanza","La Esperanza","ORO SOLAR, S.A.","2027-03-09",10,null,{"$f":"IF(ISBLANK(BACKEND!D69),\"\",BACKEND!D69)","v":""},{"$f":"IF(ISBLANK(BACKEND!E69),\"\",BACKEND!E69)","v":""},{"$f":"IF(ISBLANK(BACKEND!F69),\"\",BACKEND!F69)","v":""},{"$f":"IF(ISBLANK(BACKEND!G69),\"\",BACKEND!G69)","v":""},false,false,null,null,null,"115-1A","Cáceres - Santa Rita"]
[null,null,null,null,null,null,"A de Llano Sánchez","Llano Sánchez","PANAM","2027-03-10",10,null,{"$f":"IF(ISBLANK(BACKEND!D70),\"\",BACKEND!D70)","v":""},{"$f":"IF(ISBLANK(BACKEND!E70),\"\",BACKEND!E70)","v":""},{"$f":"IF(ISBLANK(BACKEND!F70),\"\",BACKEND!F70)","v":""},{"$f":"IF(ISBLANK(BACKEND!G70),\"\",BACKEND!G70)","v":""},false,false,null,null,null,"115-2A","Cáceres - Santa Rita"]
[null,null,null,null,null,null,"B de Llano Sánchez","Llano Sánchez","PANAMASOLAR2, S.A.","2027-03-11",10,null,{"$f":"IF(ISBLANK(BACKEND!D71),\"\",BACKEND!D71)","v":""},{"$f":"IF(ISBLANK(BACKEND!E71),\"\",BACKEND!E71)","v":""},{"$f":"IF(ISBLANK(BACKEND!F71),\"\",BACKEND!F71)","v":""},{"$f":"IF(ISBLANK(BACKEND!G71),\"\",BACKEND!G71)","v":""},false,false,null,null,null,"115-1B","Cativá 2 - Santa Rita"]
[null,null,null,null,null,null,"C de Llano Sánchez","Llano Sánchez","PANASOLAR GENERATION, S.A.","2027-03-12",10,null,{"$f":"IF(ISBLANK(BACKEND!D72),\"\",BACKEND!D72)","v":""},{"$f":"IF(ISBLANK(BACKEND!E72),\"\",BACKEND!E72)","v":""},{"$f":"IF(ISBLANK(BACKEND!F72),\"\",BACKEND!F72)","v":""},{"$f":"IF(ISBLANK(BACKEND!G72),\"\",BACKEND!G72)","v":""},false,false,null,null,null,"115-20","Las Minas 1 - Cativá"]
[null,null,null,null,null,null,"D de Llano Sánchez","Llano Sánchez","PANASOLAR GREEN ENERGY, CORP.","2027-03-13",10,null,{"$f":"IF(ISBLANK(BACKEND!D73),\"\",BACKEND!D73)","v":""},{"$f":"IF(ISBLANK(BACKEND!E73),\"\",BACKEND!E73)","v":""},{"$f":"IF(ISBLANK(BACKEND!F73),\"\",BACKEND!F73)","v":""},{"$f":"IF(ISBLANK(BACKEND!G73),\"\",BACKEND!G73)","v":""},false,false,null,null,null,"115-37","Panamá - Cáceres"]
[null,null,null,null,null,null,"A de Mata de Nance","Mata de Nance","PANASOLAR GREEN POWER S.A.","2027-03-14",10,null,{"$f":"IF(ISBLANK(BACKEND!D74),\"\",BACKEND!D74)","v":""},{"$f":"IF(ISBLANK(BACKEND!E74),\"\",BACKEND!E74)","v":""},{"$f":"IF(ISBLANK(BACKEND!F74),\"\",BACKEND!F74)","v":""},{"$f":"IF(ISBLANK(BACKEND!G74),\"\",BACKEND!G74)","v":""},{"$f":"IF(AND(M74=\"\",N74=\"\",O74=\"\",P74=\"\"),FALSE,IFERROR((M74+N74)>=(O74+P74),TRUE))","v":false},{"$f":"Q74","v":false},null,null,null,"115-3A","Panamá - Chilibre"]
[null,null,null,null,null,null,"B de Mata de Nance","Mata de Nance","PAPELERA ISTMEÑA, S.A.","2027-03-15",11,null,{"$f":"IF(ISBLANK(BACKEND!D75),\"\",BACKEND!D75)","v":""},{"$f":"IF(ISBLANK(BACKEND!E75),\"\",BACKEND!E75)","v":""},{"$f":"IF(ISBLANK(BACKEND!F75),\"\",BACKEND!F75)","v":""},{"$f":"IF(ISBLANK(BACKEND!G75),\"\",BACKEND!G75)","v":""},false,false,null,null,null,"115-4A","Panamá - CPSA"]
[null,null,null,null,null,null,"A de Pacora","Pacora","PARQUE EÓLICO TOABRÉ, S.A.","2027-03-16",11,null,{"$f":"IF(ISBLANK(BACKEND!D76),\"\",BACKEND!D76)","v":""},{"$f":"IF(ISBLANK(BACKEND!E76),\"\",BACKEND!E76)","v":""},{"$f":"IF(ISBLANK(BACKEND!F76),\"\",BACKEND!F76)","v":""},{"$f":"IF(ISBLANK(BACKEND!G76),\"\",BACKEND!G76)","v":""},false,false,null,null,null,"115-1B","Cativá 2 - Santa Rita"]
[null,null,null,null,null,null,"B de Pacora","Pacora","PASO ANCHO HYDRO POWER","2027-03-17",11,null,{"$f":"IF(ISBLANK(BACKEND!D77),\"\",BACKEND!D77)","v":""},{"$f":"IF(ISBLANK(BACKEND!E77),\"\",BACKEND!E77)","v":""},{"$f":"IF(ISBLANK(BACKEND!F77),\"\",BACKEND!F77)","v":""},{"$f":"IF(ISBLANK(BACKEND!G77),\"\",BACKEND!G77)","v":""},false,false,null,null,null,"230-12C","Burunga - El Coco"]
[null,null,null,null,null,null,"A de Panamá","Panamá","PEDREGAL POWER","2027-03-18",11,null,{"$f":"IF(ISBLANK(BACKEND!D78),\"\",BACKEND!D78)","v":""},{"$f":"IF(ISBLANK(BACKEND!E78),\"\",BACKEND!E78)","v":""},{"$f":"IF(ISBLANK(BACKEND!F78),\"\",BACKEND!F78)","v":""},{"$f":"IF(ISBLANK(BACKEND!G78),\"\",BACKEND!G78)","v":""},false,false,null,null,null,"230-12D","Llano Sánchez - El Coco"]
[null,null,null,null,null,null,"B de Panamá","Panamá","PHOTOVOLTAICS DEVELOPMENTS CORP.","2027-03-19",11,null,{"$f":"IF(ISBLANK(BACKEND!D79),\"\",BACKEND!D79)","v":""},{"$f":"IF(ISBLANK(BACKEND!E79),\"\",BACKEND!E79)","v":""},{"$f":"IF(ISBLANK(BACKEND!F79),\"\",BACKEND!F79)","v":""},{"$f":"IF(ISBLANK(BACKEND!G79),\"\",BACKEND!G79)","v":""},false,false,null,null,null,"230-13C","Burunga - El Coco"]
[null,null,null,null,null,null,"A de Panamá II","Panamá II","PHOTOVOLTAICS INVESTMENTS CORP.","2027-03-20",11,null,{"$f":"IF(ISBLANK(BACKEND!D80),\"\",BACKEND!D80)","v":""},{"$f":"IF(ISBLANK(BACKEND!E80),\"\",BACKEND!E80)","v":""},{"$f":"IF(ISBLANK(BACKEND!F80),\"\",BACKEND!F80)","v":""},{"$f":"IF(ISBLANK(BACKEND!G80),\"\",BACKEND!G80)","v":""},false,false,null,null,null,"230-13D","Llano Sánchez - El Coco"]
[null,null,null,null,null,null,"B de Panamá II","Panamá II","PROGRESO SOLAR 20MW, S. A.","2027-03-21",11,null,{"$f":"IF(ISBLANK(BACKEND!D81),\"\",BACKEND!D81)","v":""},{"$f":"IF(ISBLANK(BACKEND!E81),\"\",BACKEND!E81)","v":""},{"$f":"IF(ISBLANK(BACKEND!F81),\"\",BACKEND!F81)","v":""},{"$f":"IF(ISBLANK(BACKEND!G81),\"\",BACKEND!G81)","v":""},false,false,null,null,null,"230-20A","Fortuna - La Esperanza"]
[null,null,null,null,null,null,"A de Progreso","Progreso","PSZ1, S.A.","2027-03-22",12,null,{"$f":"IF(ISBLANK(BACKEND!D82),\"\",BACKEND!D82)","v":""},{"$f":"IF(ISBLANK(BACKEND!E82),\"\",BACKEND!E82)","v":""},{"$f":"IF(ISBLANK(BACKEND!F82),\"\",BACKEND!F82)","v":""},{"$f":"IF(ISBLANK(BACKEND!G82),\"\",BACKEND!G82)","v":""},false,false,null,null,null,"230-20B","Changuinola - La Esperanza"]
[null,null,null,null,null,null,"B de Progreso","Progreso","SALTOS DEL FRANCOLÍ, S.A.","2027-03-23",12,null,{"$f":"IF(ISBLANK(BACKEND!D83),\"\",BACKEND!D83)","v":""},{"$f":"IF(ISBLANK(BACKEND!E83),\"\",BACKEND!E83)","v":""},{"$f":"IF(ISBLANK(BACKEND!F83),\"\",BACKEND!F83)","v":""},{"$f":"IF(ISBLANK(BACKEND!G83),\"\",BACKEND!G83)","v":""},false,false,null,null,null,"230-30","Cañazas - Changuinola"]
[null,null,null,null,null,null,"A de San Bartolo","San Bartolo","SERVICIOS DE CARNES DE PANAMÁ, S.A.","2027-03-24",12,null,{"$f":"IF(ISBLANK(BACKEND!D84),\"\",BACKEND!D84)","v":""},{"$f":"IF(ISBLANK(BACKEND!E84),\"\",BACKEND!E84)","v":""},{"$f":"IF(ISBLANK(BACKEND!F84),\"\",BACKEND!F84)","v":""},{"$f":"IF(ISBLANK(BACKEND!G84),\"\",BACKEND!G84)","v":""},false,false,null,null,null,"230-12B","Burunga - Panamá III"]
[null,null,null,null,null,null,"B de San Bartolo","San Bartolo","SOCIEDAD SUPER SERVICIOS, S.A.","2027-03-25",12,null,{"$f":"IF(ISBLANK(BACKEND!D85),\"\",BACKEND!D85)","v":""},{"$f":"IF(ISBLANK(BACKEND!E85),\"\",BACKEND!E85)","v":""},{"$f":"IF(ISBLANK(BACKEND!F85),\"\",BACKEND!F85)","v":""},{"$f":"IF(ISBLANK(BACKEND!G85),\"\",BACKEND!G85)","v":""},false,false,null,null,null,"230-12C","Burunga - El Coco"]
[null,null,null,null,null,null,"A de Veladero","Veladero","SOLAR AZUERO VENTURE, S. DE R.L.","2027-03-26",12,null,{"$f":"IF(ISBLANK(BACKEND!D86),\"\",BACKEND!D86)","v":""},{"$f":"IF(ISBLANK(BACKEND!E86),\"\",BACKEND!E86)","v":""},{"$f":"IF(ISBLANK(BACKEND!F86),\"\",BACKEND!F86)","v":""},{"$f":"IF(ISBLANK(BACKEND!G86),\"\",BACKEND!G86)","v":""},false,false,null,null,null,"230-13C","Burunga - El Coco"]
[null,null,null,null,null,null,"B de Veladero","Veladero","SOLAR BOQUERÓN, S.A.","2027-03-27",12,null,{"$f":"IF(ISBLANK(BACKEND!D87),\"\",BACKEND!D87)","v":""},{"$f":"IF(ISBLANK(BACKEND!E87),\"\",BACKEND!E87)","v":""},{"$f":"IF(ISBLANK(BACKEND!F87),\"\",BACKEND!F87)","v":""},{"$f":"IF(ISBLANK(BACKEND!G87),\"\",BACKEND!G87)","v":""},false,false,null,null,null,"230-25B","Dominical - Río Claro"]
[null,null,null,null,null,null,"A de Antón IV","Antón IV","SOLAR COCLÉ VENTURE, S. DE R.L.","2027-03-28",12,null,{"$f":"IF(ISBLANK(BACKEND!D88),\"\",BACKEND!D88)","v":""},{"$f":"IF(ISBLANK(BACKEND!E88),\"\",BACKEND!E88)","v":""},{"$f":"IF(ISBLANK(BACKEND!F88),\"\",BACKEND!F88)","v":""},{"$f":"IF(ISBLANK(BACKEND!G88),\"\",BACKEND!G88)","v":""},false,false,null,null,null,"230-20A","Fortuna - La Esperanza"]
[null,null,null,null,null,null,"B de Antón IV","Antón IV","SOLAR DEVELOPMENT PANAMA, S.A.","2027-03-29",13,null,{"$f":"IF(ISBLANK(BACKEND!D89),\"\",BACKEND!D89)","v":""},{"$f":"IF(ISBLANK(BACKEND!E89),\"\",BACKEND!E89)","v":""},{"$f":"IF(ISBLANK(BACKEND!F89),\"\",BACKEND!F89)","v":""},{"$f":"IF(ISBLANK(BACKEND!G89),\"\",BACKEND!G89)","v":""},false,false,null,null,null,"230-2B","Panamá II - 24 de Diciembre "]
[null,null,null,null,null,null,"A de Baitún","Baitún","SOLAR PANAMÁ VENTURE, S. DE R.L.","2027-03-30",13,null,{"$f":"IF(ISBLANK(BACKEND!D90),\"\",BACKEND!D90)","v":""},{"$f":"IF(ISBLANK(BACKEND!E90),\"\",BACKEND!E90)","v":""},{"$f":"IF(ISBLANK(BACKEND!F90),\"\",BACKEND!F90)","v":""},{"$f":"IF(ISBLANK(BACKEND!G90),\"\",BACKEND!G90)","v":""},false,false,null,null,null,"230-25A","Veladero - Dominical"]
[null,null,null,null,null,null,"B de Baitún","Baitún","SOLPAC INVESTMENT, S.A.","2027-03-31",13,null,{"$f":"IF(ISBLANK(BACKEND!D91),\"\",BACKEND!D91)","v":""},{"$f":"IF(ISBLANK(BACKEND!E91),\"\",BACKEND!E91)","v":""},{"$f":"IF(ISBLANK(BACKEND!F91),\"\",BACKEND!F91)","v":""},{"$f":"IF(ISBLANK(BACKEND!G91),\"\",BACKEND!G91)","v":""},false,false,null,null,null,"230-25B","Dominical - Río Claro"]
[null,null,null,null,null,null,"A de Bayano","Bayano","SPARKLE POWER, S.A.","2027-04-01",13,null,{"$f":"IF(ISBLANK(BACKEND!D92),\"\",BACKEND!D92)","v":""},{"$f":"IF(ISBLANK(BACKEND!E92),\"\",BACKEND!E92)","v":""},{"$f":"IF(ISBLANK(BACKEND!F92),\"\",BACKEND!F92)","v":""},{"$f":"IF(ISBLANK(BACKEND!G92),\"\",BACKEND!G92)","v":""},false,false,null,null,null,"230-10","Progreso - Río Claro "]
[null,null,null,null,null,null,"B1 de Bayano","Bayano","TECNISOL I, S.A.","2027-04-02",13,null,{"$f":"IF(ISBLANK(BACKEND!D93),\"\",BACKEND!D93)","v":""},{"$f":"IF(ISBLANK(BACKEND!E93),\"\",BACKEND!E93)","v":""},{"$f":"IF(ISBLANK(BACKEND!F93),\"\",BACKEND!F93)","v":""},{"$f":"IF(ISBLANK(BACKEND!G93),\"\",BACKEND!G93)","v":""},false,false,null,null,null,"230-12B","Burunga - Panamá III"]
[null,null,null,null,null,null,"B2 de Bayano","Bayano","TECNISOL II, S.A.","2027-04-03",13,null,{"$f":"IF(ISBLANK(BACKEND!D94),\"\",BACKEND!D94)","v":""},{"$f":"IF(ISBLANK(BACKEND!E94),\"\",BACKEND!E94)","v":""},{"$f":"IF(ISBLANK(BACKEND!F94),\"\",BACKEND!F94)","v":""},{"$f":"IF(ISBLANK(BACKEND!G94),\"\",BACKEND!G94)","v":""},false,false,null,null,null,"230-12A","Panamá II - Panamá III"]
[null,null,null,null,null,null,"B3 de Bayano","Bayano","TECNISOL III, S.A.","2027-04-04",13,null,{"$f":"IF(ISBLANK(BACKEND!D95),\"\",BACKEND!D95)","v":""},{"$f":"IF(ISBLANK(BACKEND!E95),\"\",BACKEND!E95)","v":""},{"$f":"IF(ISBLANK(BACKEND!F95),\"\",BACKEND!F95)","v":""},{"$f":"IF(ISBLANK(BACKEND!G95),\"\",BACKEND!G95)","v":""},false,false,null,null,null,"230-12C","Burunga - El Coco"]
[null,null,null,null,null,null,"A de Botija","Botija","TECNISOL IV, S.A.","2027-04-05",14,null,{"$f":"IF(ISBLANK(BACKEND!D96),\"\",BACKEND!D96)","v":""},{"$f":"IF(ISBLANK(BACKEND!E96),\"\",BACKEND!E96)","v":""},{"$f":"IF(ISBLANK(BACKEND!F96),\"\",BACKEND!F96)","v":""},{"$f":"IF(ISBLANK(BACKEND!G96),\"\",BACKEND!G96)","v":""},false,false,null,null,null,"230-12D","Llano Sánchez - El Coco"]
[null,null,null,null,null,null,"B de Botija","Botija","TINTO SOLAR, S.A.","2027-04-06",14,null,{"$f":"IF(ISBLANK(BACKEND!D97),\"\",BACKEND!D97)","v":""},{"$f":"IF(ISBLANK(BACKEND!E97),\"\",BACKEND!E97)","v":""},{"$f":"IF(ISBLANK(BACKEND!F97),\"\",BACKEND!F97)","v":""},{"$f":"IF(ISBLANK(BACKEND!G97),\"\",BACKEND!G97)","v":""},false,false,null,null,null,"230-13A","Panamá II - Panamá III"]
[null,null,null,null,null,null,"A de Cristóbal","Cristóbal","TROPITÉRMICA, S.A.","2027-04-07",14,null,{"$f":"IF(ISBLANK(BACKEND!D98),\"\",BACKEND!D98)","v":""},{"$f":"IF(ISBLANK(BACKEND!E98),\"\",BACKEND!E98)","v":""},{"$f":"IF(ISBLANK(BACKEND!F98),\"\",BACKEND!F98)","v":""},{"$f":"IF(ISBLANK(BACKEND!G98),\"\",BACKEND!G98)","v":""},false,false,null,null,null,"230-13B","Burunga - Panamá III"]
[null,null,null,null,null,null,"B de Cristóbal","Cristóbal","UEP PENONOME II","2027-04-08",14,null,{"$f":"IF(ISBLANK(BACKEND!D99),\"\",BACKEND!D99)","v":""},{"$f":"IF(ISBLANK(BACKEND!E99),\"\",BACKEND!E99)","v":""},{"$f":"IF(ISBLANK(BACKEND!F99),\"\",BACKEND!F99)","v":""},{"$f":"IF(ISBLANK(BACKEND!G99),\"\",BACKEND!G99)","v":""},false,false,null,null,null,"230-13C","Burunga - El Coco"]
[null,null,null,null,null,null,"A de El Alto","El Alto","URBALIA PANAMÁ, S.A.","2027-04-09",14,null,{"$f":"IF(ISBLANK(BACKEND!D100),\"\",BACKEND!D100)","v":""},{"$f":"IF(ISBLANK(BACKEND!E100),\"\",BACKEND!E100)","v":""},{"$f":"IF(ISBLANK(BACKEND!F100),\"\",BACKEND!F100)","v":""},{"$f":"IF(ISBLANK(BACKEND!G100),\"\",BACKEND!G100)","v":""},false,false,null,null,null,"230-13D","Llano Sánchez - El Coco"]
[null,null,null,null,null,null,"A de Estí","Estí",null,"2027-04-10",14,null,{"$f":"IF(ISBLANK(BACKEND!D101),\"\",BACKEND!D101)","v":""},{"$f":"IF(ISBLANK(BACKEND!E101),\"\",BACKEND!E101)","v":""},{"$f":"IF(ISBLANK(BACKEND!F101),\"\",BACKEND!F101)","v":""},{"$f":"IF(ISBLANK(BACKEND!G101),\"\",BACKEND!G101)","v":""},false,false,null,null,null,"230-14A","Llano Sánchez - San Bartolo"]
[null,null,null,null,null,null,"A de Gualaca","Gualaca",null,"2027-04-11",14,null,{"$f":"IF(ISBLANK(BACKEND!D102),\"\",BACKEND!D102)","v":""},{"$f":"IF(ISBLANK(BACKEND!E102),\"\",BACKEND!E102)","v":""},{"$f":"IF(ISBLANK(BACKEND!F102),\"\",BACKEND!F102)","v":""},{"$f":"IF(ISBLANK(BACKEND!G102),\"\",BACKEND!G102)","v":""},false,false,null,null,null,"230-14B","Veladero - San Bartolo"]
[null,null,null,null,null,null,"A de Panam","Panam",null,"2027-04-12",15,null,{"$f":"IF(ISBLANK(BACKEND!D103),\"\",BACKEND!D103)","v":""},{"$f":"IF(ISBLANK(BACKEND!E103),\"\",BACKEND!E103)","v":""},{"$f":"IF(ISBLANK(BACKEND!F103),\"\",BACKEND!F103)","v":""},{"$f":"IF(ISBLANK(BACKEND!G103),\"\",BACKEND!G103)","v":""},false,false,null,null,null,"230-15A","Llano Sánchez - San Bartolo"]
[null,null,null,null,null,null,"A de Paredones","Paredones",null,"2027-04-13",15,null,{"$f":"IF(ISBLANK(BACKEND!D104),\"\",BACKEND!D104)","v":""},{"$f":"IF(ISBLANK(BACKEND!E104),\"\",BACKEND!E104)","v":""},{"$f":"IF(ISBLANK(BACKEND!F104),\"\",BACKEND!F104)","v":""},{"$f":"IF(ISBLANK(BACKEND!G104),\"\",BACKEND!G104)","v":""},false,false,null,null,null,"230-15B","Veladero - San Bartolo"]
[null,null,null,null,null,null,"A de Punta Rincón","Punta Rincón",null,"2027-04-14",15,null,{"$f":"IF(ISBLANK(BACKEND!D105),\"\",BACKEND!D105)","v":""},{"$f":"IF(ISBLANK(BACKEND!E105),\"\",BACKEND!E105)","v":""},{"$f":"IF(ISBLANK(BACKEND!F105),\"\",BACKEND!F105)","v":""},{"$f":"IF(ISBLANK(BACKEND!G105),\"\",BACKEND!G105)","v":""},false,false,null,null,null,"230-16","Guasquitas - Veladero"]
[null,null,null,null,null,null,"B de Punta Rincón","Punta Rincón",null,"2027-04-15",15,null,{"$f":"IF(ISBLANK(BACKEND!D106),\"\",BACKEND!D106)","v":""},{"$f":"IF(ISBLANK(BACKEND!E106),\"\",BACKEND!E106)","v":""},{"$f":"IF(ISBLANK(BACKEND!F106),\"\",BACKEND!F106)","v":""},{"$f":"IF(ISBLANK(BACKEND!G106),\"\",BACKEND!G106)","v":""},false,false,null,null,null,"230-17","Guasquitas - Veladero"]
[null,null,null,null,null,null,"A de Toabré","Toabré",null,"2027-04-16",15,null,{"$f":"IF(ISBLANK(BACKEND!D107),\"\",BACKEND!D107)","v":""},{"$f":"IF(ISBLANK(BACKEND!E107),\"\",BACKEND!E107)","v":""},{"$f":"IF(ISBLANK(BACKEND!F107),\"\",BACKEND!F107)","v":""},{"$f":"IF(ISBLANK(BACKEND!G107),\"\",BACKEND!G107)","v":""},false,false,null,null,null,"230-18","Fortuna - Guasquitas"]
[null,null,null,null,null,null,"A de Zambrano","Zambrano",null,"2027-04-17",15,null,{"$f":"IF(ISBLANK(BACKEND!D108),\"\",BACKEND!D108)","v":""},{"$f":"IF(ISBLANK(BACKEND!E108),\"\",BACKEND!E108)","v":""},{"$f":"IF(ISBLANK(BACKEND!F108),\"\",BACKEND!F108)","v":""},{"$f":"IF(ISBLANK(BACKEND!G108),\"\",BACKEND!G108)","v":""},false,false,null,null,null,"230-1B","Panamá II - Pacora"]
[null,null,null,null,null,null,"115-5","Cáceres - Miraflores",null,"2027-04-18",15,null,{"$f":"IF(ISBLANK(BACKEND!D109),\"\",BACKEND!D109)","v":""},{"$f":"IF(ISBLANK(BACKEND!E109),\"\",BACKEND!E109)","v":""},{"$f":"IF(ISBLANK(BACKEND!F109),\"\",BACKEND!F109)","v":""},{"$f":"IF(ISBLANK(BACKEND!G109),\"\",BACKEND!G109)","v":""},false,false,null,null,null,"230-20A","Fortuna - La Esperanza"]
[null,null,null,null,null,null,"115-1A","Cáceres - Santa Rita",null,"2027-04-19",16,null,{"$f":"IF(ISBLANK(BACKEND!D110),\"\",BACKEND!D110)","v":""},{"$f":"IF(ISBLANK(BACKEND!E110),\"\",BACKEND!E110)","v":""},{"$f":"IF(ISBLANK(BACKEND!F110),\"\",BACKEND!F110)","v":""},{"$f":"IF(ISBLANK(BACKEND!G110),\"\",BACKEND!G110)","v":""},false,false,null,null,null,"230-20B","Changuinola - La Esperanza"]
[null,null,null,null,null,null,"115-2A","Cáceres - Santa Rita",null,"2027-04-20",16,null,{"$f":"IF(ISBLANK(BACKEND!D111),\"\",BACKEND!D111)","v":""},{"$f":"IF(ISBLANK(BACKEND!E111),\"\",BACKEND!E111)","v":""},{"$f":"IF(ISBLANK(BACKEND!F111),\"\",BACKEND!F111)","v":""},{"$f":"IF(ISBLANK(BACKEND!G111),\"\",BACKEND!G111)","v":""},false,false,null,null,null,"230-21","Changuinola - Cahuita"]
[null,null,null,null,null,null,"115-1B","Cativá 2 - Santa Rita",null,"2027-04-21",16,null,{"$f":"IF(ISBLANK(BACKEND!D112),\"\",BACKEND!D112)","v":""},{"$f":"IF(ISBLANK(BACKEND!E112),\"\",BACKEND!E112)","v":""},{"$f":"IF(ISBLANK(BACKEND!F112),\"\",BACKEND!F112)","v":""},{"$f":"IF(ISBLANK(BACKEND!G112),\"\",BACKEND!G112)","v":""},false,false,null,null,null,"230-25A","Veladero - Dominical"]
[null,null,null,null,null,null,"115-20","Las Minas 1 - Cativá",null,"2027-04-22",16,null,{"$f":"IF(ISBLANK(BACKEND!D113),\"\",BACKEND!D113)","v":""},{"$f":"IF(ISBLANK(BACKEND!E113),\"\",BACKEND!E113)","v":""},{"$f":"IF(ISBLANK(BACKEND!F113),\"\",BACKEND!F113)","v":""},{"$f":"IF(ISBLANK(BACKEND!G113),\"\",BACKEND!G113)","v":""},false,false,null,null,null,"230-25B","Dominical - Río Claro"]
[null,null,null,null,null,null,"115-20","Las Minas 1 - Cativá - Las Minas 2",null,"2027-04-23",16,null,{"$f":"IF(ISBLANK(BACKEND!D114),\"\",BACKEND!D114)","v":""},{"$f":"IF(ISBLANK(BACKEND!E114),\"\",BACKEND!E114)","v":""},{"$f":"IF(ISBLANK(BACKEND!F114),\"\",BACKEND!F114)","v":""},{"$f":"IF(ISBLANK(BACKEND!G114),\"\",BACKEND!G114)","v":""},false,false,null,null,null,"230-30","Cañazas - Changuinola"]
[null,null,null,null,null,null,"115-2B","Las Minas 1 - Santa Rita",null,{"$f":"J114+1","v":"2027-04-24"},16,null,{"$f":"IF(ISBLANK(BACKEND!D115),\"\",BACKEND!D115)","v":""},{"$f":"IF(ISBLANK(BACKEND!E115),\"\",BACKEND!E115)","v":""},{"$f":"IF(ISBLANK(BACKEND!F115),\"\",BACKEND!F115)","v":""},{"$f":"IF(ISBLANK(BACKEND!G115),\"\",BACKEND!G115)","v":""},false,false,null,null,null,"230-3A","Panamá - Chorrera"]
[null,null,null,null,null,null,"115-20","Las Minas 2 - Cativá",null,"2027-04-25",16,null,{"$f":"IF(ISBLANK(BACKEND!D116),\"\",BACKEND!D116)","v":""},{"$f":"IF(ISBLANK(BACKEND!E116),\"\",BACKEND!E116)","v":""},{"$f":"IF(ISBLANK(BACKEND!F116),\"\",BACKEND!F116)","v":""},{"$f":"IF(ISBLANK(BACKEND!G116),\"\",BACKEND!G116)","v":""},false,false,null,null,null,"230-2B","Panamá II - 24 de Diciembre "]
[null,null,null,null,null,null,"115-12","Panamá - Cáceres",null,"2027-04-26",17,null,{"$f":"IF(ISBLANK(BACKEND!D117),\"\",BACKEND!D117)","v":""},{"$f":"IF(ISBLANK(BACKEND!E117),\"\",BACKEND!E117)","v":""},{"$f":"IF(ISBLANK(BACKEND!F117),\"\",BACKEND!F117)","v":""},{"$f":"IF(ISBLANK(BACKEND!G117),\"\",BACKEND!G117)","v":""},false,false,null,null,null,"230-29","Cañazas - Guasquita"]
[null,null,null,null,null,null,"115-37","Panamá - Cáceres",null,"2027-04-27",17,null,{"$f":"IF(ISBLANK(BACKEND!D118),\"\",BACKEND!D118)","v":""},{"$f":"IF(ISBLANK(BACKEND!E118),\"\",BACKEND!E118)","v":""},{"$f":"IF(ISBLANK(BACKEND!F118),\"\",BACKEND!F118)","v":""},{"$f":"IF(ISBLANK(BACKEND!G118),\"\",BACKEND!G118)","v":""},false,false,null,null,null,"230-3B","Chorrera - El Higo"]
[null,null,null,null,null,null,"115-4A","Panamá - CPSA",null,{"$f":"J118+1","v":"2027-04-28"},17,null,{"$f":"IF(ISBLANK(BACKEND!D119),\"\",BACKEND!D119)","v":""},{"$f":"IF(ISBLANK(BACKEND!E119),\"\",BACKEND!E119)","v":""},{"$f":"IF(ISBLANK(BACKEND!F119),\"\",BACKEND!F119)","v":""},{"$f":"IF(ISBLANK(BACKEND!G119),\"\",BACKEND!G119)","v":""},false,false,null,null,null,"230-3C","Llano Sánchez - El Higo"]
[null,null,null,null,null,null,"115-7","Panamá - Santa María",null,"2027-04-29",17,null,{"$f":"IF(ISBLANK(BACKEND!D120),\"\",BACKEND!D120)","v":""},{"$f":"IF(ISBLANK(BACKEND!E120),\"\",BACKEND!E120)","v":""},{"$f":"IF(ISBLANK(BACKEND!F120),\"\",BACKEND!F120)","v":""},{"$f":"IF(ISBLANK(BACKEND!G120),\"\",BACKEND!G120)","v":""},false,false,null,null,null,"230-47A","Panamá - Panamá III"]
[null,null,null,null,null,null,"115-44","Baitún - Bajo de Mina",null,"2027-04-30",17,null,{"$f":"IF(ISBLANK(BACKEND!D121),\"\",BACKEND!D121)","v":""},{"$f":"IF(ISBLANK(BACKEND!E121),\"\",BACKEND!E121)","v":""},{"$f":"IF(ISBLANK(BACKEND!F121),\"\",BACKEND!F121)","v":""},{"$f":"IF(ISBLANK(BACKEND!G121),\"\",BACKEND!G121)","v":""},false,false,null,null,null,"230-47B","Chorrera - Panamá III"]
[null,null,null,null,null,null,"115-6","Cáceres - Locería",null,"2027-05-01",17,null,{"$f":"IF(ISBLANK(BACKEND!D122),\"\",BACKEND!D122)","v":""},{"$f":"IF(ISBLANK(BACKEND!E122),\"\",BACKEND!E122)","v":""},{"$f":"IF(ISBLANK(BACKEND!F122),\"\",BACKEND!F122)","v":""},{"$f":"IF(ISBLANK(BACKEND!G122),\"\",BACKEND!G122)","v":""},false,false,null,null,null,"230-48A","Panamá - Panamá III"]
[null,null,null,null,null,null,"115-8","Cáceres - Marañón",null,"2027-05-02",17,null,{"$f":"IF(ISBLANK(BACKEND!D123),\"\",BACKEND!D123)","v":""},{"$f":"IF(ISBLANK(BACKEND!E123),\"\",BACKEND!E123)","v":""},{"$f":"IF(ISBLANK(BACKEND!F123),\"\",BACKEND!F123)","v":""},{"$f":"IF(ISBLANK(BACKEND!G123),\"\",BACKEND!G123)","v":""},false,false,null,null,null,"230-48B","Chorrera - Panamá III"]
[null,null,null,null,null,null,"115-17","Caldera - La Estrella",null,"2027-05-03",18,null,{"$f":"IF(ISBLANK(BACKEND!D124),\"\",BACKEND!D124)","v":""},{"$f":"IF(ISBLANK(BACKEND!E124),\"\",BACKEND!E124)","v":""},{"$f":"IF(ISBLANK(BACKEND!F124),\"\",BACKEND!F124)","v":""},{"$f":"IF(ISBLANK(BACKEND!G124),\"\",BACKEND!G124)","v":""},false,false,null,null,null,"230-49A","Chorrera - Antón IV"]
[null,null,null,null,null,null,"115-18","Caldera - Los Valles",null,"2027-05-04",18,null,{"$f":"IF(ISBLANK(BACKEND!D125),\"\",BACKEND!D125)","v":""},{"$f":"IF(ISBLANK(BACKEND!E125),\"\",BACKEND!E125)","v":""},{"$f":"IF(ISBLANK(BACKEND!F125),\"\",BACKEND!F125)","v":""},{"$f":"IF(ISBLANK(BACKEND!G125),\"\",BACKEND!G125)","v":""},false,false,null,null,null,"230-49B","Antón IV - Llano Sánchez"]
[null,null,null,null,null,null,"115-19","Caldera - PTP",null,"2027-05-05",18,null,{"$f":"IF(ISBLANK(BACKEND!D126),\"\",BACKEND!D126)","v":""},{"$f":"IF(ISBLANK(BACKEND!E126),\"\",BACKEND!E126)","v":""},{"$f":"IF(ISBLANK(BACKEND!F126),\"\",BACKEND!F126)","v":""},{"$f":"IF(ISBLANK(BACKEND!G126),\"\",BACKEND!G126)","v":""},false,false,null,null,null,"230-4A","Chorrera - Panamá"]
[null,null,null,null,null,null,"115-1C","Cativá 2 - Las Minas 1",null,"2027-05-06",18,null,{"$f":"IF(ISBLANK(BACKEND!D127),\"\",BACKEND!D127)","v":""},{"$f":"IF(ISBLANK(BACKEND!E127),\"\",BACKEND!E127)","v":""},{"$f":"IF(ISBLANK(BACKEND!F127),\"\",BACKEND!F127)","v":""},{"$f":"IF(ISBLANK(BACKEND!G127),\"\",BACKEND!G127)","v":""},false,false,null,null,null,"230-4B","Chorrera - El Higo"]
[null,null,null,null,null,null,"115-41","Centro Bancario - San Francisco",null,"2027-05-07",18,null,{"$f":"IF(ISBLANK(BACKEND!D128),\"\",BACKEND!D128)","v":""},{"$f":"IF(ISBLANK(BACKEND!E128),\"\",BACKEND!E128)","v":""},{"$f":"IF(ISBLANK(BACKEND!F128),\"\",BACKEND!F128)","v":""},{"$f":"IF(ISBLANK(BACKEND!G128),\"\",BACKEND!G128)","v":""},false,false,null,null,null,"230-4C","Llano Sánchez - El Higo"]
[null,null,null,null,null,null,"115-49","Cerro Viento - Llano Bonito",null,"2027-05-08",18,null,{"$f":"IF(ISBLANK(BACKEND!D129),\"\",BACKEND!D129)","v":""},{"$f":"IF(ISBLANK(BACKEND!E129),\"\",BACKEND!E129)","v":""},{"$f":"IF(ISBLANK(BACKEND!F129),\"\",BACKEND!F129)","v":""},{"$f":"IF(ISBLANK(BACKEND!G129),\"\",BACKEND!G129)","v":""},false,false,null,null,null,"230-51","Llano Sánchez - Veladero"]
[null,null,null,null,null,null,"115-50","Changuinola - Bonyic",null,"2027-05-09",19,null,{"$f":"IF(ISBLANK(BACKEND!D130),\"\",BACKEND!D130)","v":""},{"$f":"IF(ISBLANK(BACKEND!E130),\"\",BACKEND!E130)","v":""},{"$f":"IF(ISBLANK(BACKEND!F130),\"\",BACKEND!F130)","v":""},{"$f":"IF(ISBLANK(BACKEND!G130),\"\",BACKEND!G130)","v":""},false,false,null,null,null,"230-52","Llano Sánchez - Veladero"]
[null,null,null,null,null,null,"115-24","Chilibre - Calzada Larga",null,"2027-05-10",19,null,{"$f":"IF(ISBLANK(BACKEND!D131),\"\",BACKEND!D131)","v":""},{"$f":"IF(ISBLANK(BACKEND!E131),\"\",BACKEND!E131)","v":""},{"$f":"IF(ISBLANK(BACKEND!F131),\"\",BACKEND!F131)","v":""},{"$f":"IF(ISBLANK(BACKEND!G131),\"\",BACKEND!G131)","v":""},false,false,null,null,null,"230-54A","Panamá II - Sabanitas"]
[null,null,null,null,null,null,"115-3B","Chilibre - Las Minas 2",null,{"$f":"J131+1","v":"2027-05-11"},19,null,{"$f":"IF(ISBLANK(BACKEND!D132),\"\",BACKEND!D132)","v":""},{"$f":"IF(ISBLANK(BACKEND!E132),\"\",BACKEND!E132)","v":""},{"$f":"IF(ISBLANK(BACKEND!F132),\"\",BACKEND!F132)","v":""},{"$f":"IF(ISBLANK(BACKEND!G132),\"\",BACKEND!G132)","v":""},false,false,null,null,null,"230-55A","Panamá II - Sabanitas"]
[null,null,null,null,null,null,"115-48A","Costa del Este - Cerro Viento",null,"2027-05-12",19,null,{"$f":"IF(ISBLANK(BACKEND!D133),\"\",BACKEND!D133)","v":""},{"$f":"IF(ISBLANK(BACKEND!E133),\"\",BACKEND!E133)","v":""},{"$f":"IF(ISBLANK(BACKEND!F133),\"\",BACKEND!F133)","v":""},{"$f":"IF(ISBLANK(BACKEND!G133),\"\",BACKEND!G133)","v":""},false,false,null,null,null,"230-58","Panamá II - Sabanitas"]
[null,null,null,null,null,null,"115-48B","Costa del Este - Llano Bonito",null,"2027-05-13",19,null,{"$f":"IF(ISBLANK(BACKEND!D134),\"\",BACKEND!D134)","v":""},{"$f":"IF(ISBLANK(BACKEND!E134),\"\",BACKEND!E134)","v":""},{"$f":"IF(ISBLANK(BACKEND!F134),\"\",BACKEND!F134)","v":""},{"$f":"IF(ISBLANK(BACKEND!G134),\"\",BACKEND!G134)","v":""},false,false,null,null,null,"230-59","Panamá II - Sabanitas"]
[null,null,null,null,null,null,"115-54","El Torno - Chorrera 115",null,"2027-05-14",19,null,{"$f":"IF(ISBLANK(BACKEND!D135),\"\",BACKEND!D135)","v":""},{"$f":"IF(ISBLANK(BACKEND!E135),\"\",BACKEND!E135)","v":""},{"$f":"IF(ISBLANK(BACKEND!F135),\"\",BACKEND!F135)","v":""},{"$f":"IF(ISBLANK(BACKEND!G135),\"\",BACKEND!G135)","v":""},false,false,null,null,null,"230-5A","Llano Sánchez - Veladero"]
[null,null,null,null,null,null,"115-56A","France Field - Manzanillo",null,"2027-05-15",19,null,{"$f":"IF(ISBLANK(BACKEND!D136),\"\",BACKEND!D136)","v":""},{"$f":"IF(ISBLANK(BACKEND!E136),\"\",BACKEND!E136)","v":""},{"$f":"IF(ISBLANK(BACKEND!F136),\"\",BACKEND!F136)","v":""},{"$f":"IF(ISBLANK(BACKEND!G136),\"\",BACKEND!G136)","v":""},false,false,null,null,null,"230-5B","Mata de Nance - Veladero"]
[null,null,null,null,null,null,"115-30","Las Minas 1 - France Field",null,"2027-05-16",19,null,{"$f":"IF(ISBLANK(BACKEND!D137),\"\",BACKEND!D137)","v":""},{"$f":"IF(ISBLANK(BACKEND!E137),\"\",BACKEND!E137)","v":""},{"$f":"IF(ISBLANK(BACKEND!F137),\"\",BACKEND!F137)","v":""},{"$f":"IF(ISBLANK(BACKEND!G137),\"\",BACKEND!G137)","v":""},false,false,null,null,null,"230-6B","Veladero - Bella Vista"]
[null,null,null,null,null,null,"115-31","Las Minas 1 - France Field",null,"2027-05-17",20,null,{"$f":"IF(ISBLANK(BACKEND!D138),\"\",BACKEND!D138)","v":""},{"$f":"IF(ISBLANK(BACKEND!E138),\"\",BACKEND!E138)","v":""},{"$f":"IF(ISBLANK(BACKEND!F138),\"\",BACKEND!F138)","v":""},{"$f":"IF(ISBLANK(BACKEND!G138),\"\",BACKEND!G138)","v":""},{"$f":"IF(AND(M138=\"\",N138=\"\",O138=\"\",P138=\"\"),FALSE,IFERROR((M138+N138)>=(O138+P138),TRUE))","v":false},{"$f":"Q138","v":false},null,null,null,"230-6C","Mata de Nance - Veladero"]
[null,null,null,null,null,null,"115-23","Las Minas 1 - Las Minas 44",null,"2027-05-18",20,null,{"$f":"IF(ISBLANK(BACKEND!D139),\"\",BACKEND!D139)","v":""},{"$f":"IF(ISBLANK(BACKEND!E139),\"\",BACKEND!E139)","v":""},{"$f":"IF(ISBLANK(BACKEND!F139),\"\",BACKEND!F139)","v":""},{"$f":"IF(ISBLANK(BACKEND!G139),\"\",BACKEND!G139)","v":""},false,false,null,null,null,"230-9A","Mata de Nance -Boquerón 3"]
[null,null,null,null,null,null,"115-4B","Las Minas 2 - CPSA",null,"2027-05-19",20,null,{"$f":"IF(ISBLANK(BACKEND!D140),\"\",BACKEND!D140)","v":""},{"$f":"IF(ISBLANK(BACKEND!E140),\"\",BACKEND!E140)","v":""},{"$f":"IF(ISBLANK(BACKEND!F140),\"\",BACKEND!F140)","v":""},{"$f":"IF(ISBLANK(BACKEND!G140),\"\",BACKEND!G140)","v":""},false,false,null,null,null,"230-9B","Boquerón 3 - Progreso"]
[null,null,null,null,null,null,"115-26","Las Minas 2 - Las Minas 44",null,"2027-05-20",20,null,{"$f":"IF(ISBLANK(BACKEND!D141),\"\",BACKEND!D141)","v":""},{"$f":"IF(ISBLANK(BACKEND!E141),\"\",BACKEND!E141)","v":""},{"$f":"IF(ISBLANK(BACKEND!F141),\"\",BACKEND!F141)","v":""},{"$f":"IF(ISBLANK(BACKEND!G141),\"\",BACKEND!G141)","v":""},false,false,null,null,null,"230-54A","Panamá II - Sabanitas"]
[null,null,null,null,null,null,"115-13","Llano Sánchez - La Arena",null,"2027-05-21",20,null,{"$f":"IF(ISBLANK(BACKEND!D142),\"\",BACKEND!D142)","v":""},{"$f":"IF(ISBLANK(BACKEND!E142),\"\",BACKEND!E142)","v":""},{"$f":"IF(ISBLANK(BACKEND!F142),\"\",BACKEND!F142)","v":""},{"$f":"IF(ISBLANK(BACKEND!G142),\"\",BACKEND!G142)","v":""},false,false,null,null,null,"230-54B","Sabanitas - Cristobal"]
[null,null,null,null,null,null,"115-14","Llano Sánchez - Pocrí",null,"2027-05-22",20,null,{"$f":"IF(ISBLANK(BACKEND!D143),\"\",BACKEND!D143)","v":""},{"$f":"IF(ISBLANK(BACKEND!E143),\"\",BACKEND!E143)","v":""},{"$f":"IF(ISBLANK(BACKEND!F143),\"\",BACKEND!F143)","v":""},{"$f":"IF(ISBLANK(BACKEND!G143),\"\",BACKEND!G143)","v":""},false,false,null,null,null,"230-55A","Panamá II - Sabanitas"]
[null,null,null,null,null,null,"115-27","Llano Sánchez - Santiago",null,"2027-05-23",20,null,{"$f":"IF(ISBLANK(BACKEND!D144),\"\",BACKEND!D144)","v":""},{"$f":"IF(ISBLANK(BACKEND!E144),\"\",BACKEND!E144)","v":""},{"$f":"IF(ISBLANK(BACKEND!F144),\"\",BACKEND!F144)","v":""},{"$f":"IF(ISBLANK(BACKEND!G144),\"\",BACKEND!G144)","v":""},false,false,null,null,null,"230-55B","Telfers II - Sabanitas"]
[null,null,null,null,null,null,"115-39","Locería - Centro Bancario",null,"2027-05-24",21,null,{"$f":"IF(ISBLANK(BACKEND!D145),\"\",BACKEND!D145)","v":""},{"$f":"IF(ISBLANK(BACKEND!E145),\"\",BACKEND!E145)","v":""},{"$f":"IF(ISBLANK(BACKEND!F145),\"\",BACKEND!F145)","v":""},{"$f":"IF(ISBLANK(BACKEND!G145),\"\",BACKEND!G145)","v":""},false,false,null,null,null,"230-55C","Telfers II - Cristobal"]
[null,null,null,null,null,null,"115-40","Locería - Centro Bancario",null,"2027-05-25",21,null,{"$f":"IF(ISBLANK(BACKEND!D146),\"\",BACKEND!D146)","v":""},{"$f":"IF(ISBLANK(BACKEND!E146),\"\",BACKEND!E146)","v":""},{"$f":"IF(ISBLANK(BACKEND!F146),\"\",BACKEND!F146)","v":""},{"$f":"IF(ISBLANK(BACKEND!G146),\"\",BACKEND!G146)","v":""},false,false,null,null,null,"230-4B","Chorrera - El Higo"]
[null,null,null,null,null,null,"115-21","Locería - Marañón",null,"2027-05-26",21,null,{"$f":"IF(ISBLANK(BACKEND!D147),\"\",BACKEND!D147)","v":""},{"$f":"IF(ISBLANK(BACKEND!E147),\"\",BACKEND!E147)","v":""},{"$f":"IF(ISBLANK(BACKEND!F147),\"\",BACKEND!F147)","v":""},{"$f":"IF(ISBLANK(BACKEND!G147),\"\",BACKEND!G147)","v":""},false,false,null,null,null,"230-1B","Panamá II - Pacora"]
[null,null,null,null,null,null,"115-15","Mata de Nance - Caldera",null,"2027-05-27",21,null,{"$f":"IF(ISBLANK(BACKEND!D148),\"\",BACKEND!D148)","v":""},{"$f":"IF(ISBLANK(BACKEND!E148),\"\",BACKEND!E148)","v":""},{"$f":"IF(ISBLANK(BACKEND!F148),\"\",BACKEND!F148)","v":""},{"$f":"IF(ISBLANK(BACKEND!G148),\"\",BACKEND!G148)","v":""},false,false,null,null,null,"230-49B","Antón IV - Llano Sánchez"]
[null,null,null,null,null,null,"115-16","Mata de Nance - Caldera",null,"2027-05-28",21,null,{"$f":"IF(ISBLANK(BACKEND!D149),\"\",BACKEND!D149)","v":""},{"$f":"IF(ISBLANK(BACKEND!E149),\"\",BACKEND!E149)","v":""},{"$f":"IF(ISBLANK(BACKEND!F149),\"\",BACKEND!F149)","v":""},{"$f":"IF(ISBLANK(BACKEND!G149),\"\",BACKEND!G149)","v":""},false,false,null,null,null,"230-62","Telfers II - Sabanitas"]
[null,null,null,null,null,null,"115-47","Mata de Nance - San Cristóbal",null,"2027-05-29",21,null,{"$f":"IF(ISBLANK(BACKEND!D150),\"\",BACKEND!D150)","v":""},{"$f":"IF(ISBLANK(BACKEND!E150),\"\",BACKEND!E150)","v":""},{"$f":"IF(ISBLANK(BACKEND!F150),\"\",BACKEND!F150)","v":""},{"$f":"IF(ISBLANK(BACKEND!G150),\"\",BACKEND!G150)","v":""},false,false,null,null,null,"T1 - Panamá","Panamá"]
[null,null,null,null,null,null,"115-3A","Panamá - Chilibre",null,"2027-05-30",21,null,{"$f":"IF(ISBLANK(BACKEND!D151),\"\",BACKEND!D151)","v":""},{"$f":"IF(ISBLANK(BACKEND!E151),\"\",BACKEND!E151)","v":""},{"$f":"IF(ISBLANK(BACKEND!F151),\"\",BACKEND!F151)","v":""},{"$f":"IF(ISBLANK(BACKEND!G151),\"\",BACKEND!G151)","v":""},false,false,null,null,null,"T2 - Panamá","Panamá"]
[null,null,null,null,null,null,"115-22","Panamá - Locería",null,"2027-05-31",22,null,{"$f":"IF(ISBLANK(BACKEND!D152),\"\",BACKEND!D152)","v":""},{"$f":"IF(ISBLANK(BACKEND!E152),\"\",BACKEND!E152)","v":""},{"$f":"IF(ISBLANK(BACKEND!F152),\"\",BACKEND!F152)","v":""},{"$f":"IF(ISBLANK(BACKEND!G152),\"\",BACKEND!G152)","v":""},false,false,null,null,null,"T3 - Panamá","Panamá"]
[null,null,null,null,null,null,"115-38","Panamá - Locería",null,"2027-06-01",22,null,{"$f":"IF(ISBLANK(BACKEND!D153),\"\",BACKEND!D153)","v":""},{"$f":"IF(ISBLANK(BACKEND!E153),\"\",BACKEND!E153)","v":""},{"$f":"IF(ISBLANK(BACKEND!F153),\"\",BACKEND!F153)","v":""},{"$f":"IF(ISBLANK(BACKEND!G153),\"\",BACKEND!G153)","v":""},false,false,null,null,null,"T5 - Panamá","Panamá"]
[null,null,null,null,null,null,"115-10","Panamá - Monte Oscuro",null,"2027-06-02",22,null,{"$f":"IF(ISBLANK(BACKEND!D154),\"\",BACKEND!D154)","v":""},{"$f":"IF(ISBLANK(BACKEND!E154),\"\",BACKEND!E154)","v":""},{"$f":"IF(ISBLANK(BACKEND!F154),\"\",BACKEND!F154)","v":""},{"$f":"IF(ISBLANK(BACKEND!G154),\"\",BACKEND!G154)","v":""},false,false,null,null,null,"T1 - Santa Rita","Santa Rita"]
[null,null,null,null,null,null,"115-9","Panamá - Tinajita",null,"2027-06-03",22,null,{"$f":"IF(ISBLANK(BACKEND!D155),\"\",BACKEND!D155)","v":""},{"$f":"IF(ISBLANK(BACKEND!E155),\"\",BACKEND!E155)","v":""},{"$f":"IF(ISBLANK(BACKEND!F155),\"\",BACKEND!F155)","v":""},{"$f":"IF(ISBLANK(BACKEND!G155),\"\",BACKEND!G155)","v":""},false,false,null,null,null,"T2 - Santa Rita","Santa Rita"]
[null,null,null,null,null,null,"115-28","Panamá II - Cerro Viento",null,"2027-06-04",22,null,{"$f":"IF(ISBLANK(BACKEND!D156),\"\",BACKEND!D156)","v":""},{"$f":"IF(ISBLANK(BACKEND!E156),\"\",BACKEND!E156)","v":""},{"$f":"IF(ISBLANK(BACKEND!F156),\"\",BACKEND!F156)","v":""},{"$f":"IF(ISBLANK(BACKEND!G156),\"\",BACKEND!G156)","v":""},false,false]
[null,null,null,null,null,null,"115-29","Panamá II - Cerro Viento",null,"2027-06-05",22,null,{"$f":"IF(ISBLANK(BACKEND!D157),\"\",BACKEND!D157)","v":""},{"$f":"IF(ISBLANK(BACKEND!E157),\"\",BACKEND!E157)","v":""},{"$f":"IF(ISBLANK(BACKEND!F157),\"\",BACKEND!F157)","v":""},{"$f":"IF(ISBLANK(BACKEND!G157),\"\",BACKEND!G157)","v":""},false,false]
[null,null,null,null,null,null,"115-32","Panamá II - Tocumen",null,"2027-06-06",22,null,{"$f":"IF(ISBLANK(BACKEND!D158),\"\",BACKEND!D158)","v":""},{"$f":"IF(ISBLANK(BACKEND!E158),\"\",BACKEND!E158)","v":""},{"$f":"IF(ISBLANK(BACKEND!F158),\"\",BACKEND!F158)","v":""},{"$f":"IF(ISBLANK(BACKEND!G158),\"\",BACKEND!G158)","v":""},false,false]
[null,null,null,null,null,null,"115-33","Panamá II - Tocumen",null,"2027-06-07",23,null,{"$f":"IF(ISBLANK(BACKEND!D159),\"\",BACKEND!D159)","v":""},{"$f":"IF(ISBLANK(BACKEND!E159),\"\",BACKEND!E159)","v":""},{"$f":"IF(ISBLANK(BACKEND!F159),\"\",BACKEND!F159)","v":""},{"$f":"IF(ISBLANK(BACKEND!G159),\"\",BACKEND!G159)","v":""},false,false]
[null,null,null,null,null,null,"115-25","Progreso - Charco Azul",null,"2027-06-08",23,null,{"$f":"IF(ISBLANK(BACKEND!D160),\"\",BACKEND!D160)","v":""},{"$f":"IF(ISBLANK(BACKEND!E160),\"\",BACKEND!E160)","v":""},{"$f":"IF(ISBLANK(BACKEND!F160),\"\",BACKEND!F160)","v":""},{"$f":"IF(ISBLANK(BACKEND!G160),\"\",BACKEND!G160)","v":""},false,false]
[null,null,null,null,null,null,"115-11","San Francisco - Cerro Viento",null,"2027-06-09",23,null,{"$f":"IF(ISBLANK(BACKEND!D161),\"\",BACKEND!D161)","v":""},{"$f":"IF(ISBLANK(BACKEND!E161),\"\",BACKEND!E161)","v":""},{"$f":"IF(ISBLANK(BACKEND!F161),\"\",BACKEND!F161)","v":""},{"$f":"IF(ISBLANK(BACKEND!G161),\"\",BACKEND!G161)","v":""},false,false]
[null,null,null,null,null,null,"115-35","Santa María - Miraflores",null,"2027-06-10",23,null,{"$f":"IF(ISBLANK(BACKEND!D162),\"\",BACKEND!D162)","v":""},{"$f":"IF(ISBLANK(BACKEND!E162),\"\",BACKEND!E162)","v":""},{"$f":"IF(ISBLANK(BACKEND!F162),\"\",BACKEND!F162)","v":""},{"$f":"IF(ISBLANK(BACKEND!G162),\"\",BACKEND!G162)","v":""},false,false]
[null,null,null,null,null,null,"115-42","Tinajitas - Monte Oscuro",null,"2027-06-11",23,null,{"$f":"IF(ISBLANK(BACKEND!D163),\"\",BACKEND!D163)","v":""},{"$f":"IF(ISBLANK(BACKEND!E163),\"\",BACKEND!E163)","v":""},{"$f":"IF(ISBLANK(BACKEND!F163),\"\",BACKEND!F163)","v":""},{"$f":"IF(ISBLANK(BACKEND!G163),\"\",BACKEND!G163)","v":""},false,false]
[null,null,null,null,null,null,"115-60","Tocumen - Tocumen II",null,"2027-06-12",23,null,{"$f":"IF(ISBLANK(BACKEND!D164),\"\",BACKEND!D164)","v":""},{"$f":"IF(ISBLANK(BACKEND!E164),\"\",BACKEND!E164)","v":""},{"$f":"IF(ISBLANK(BACKEND!F164),\"\",BACKEND!F164)","v":""},{"$f":"IF(ISBLANK(BACKEND!G164),\"\",BACKEND!G164)","v":""},false,false]
[null,null,null,null,null,null,"115-61","Tocumen - Tocumen II",null,"2027-06-13",23,null,{"$f":"IF(ISBLANK(BACKEND!D165),\"\",BACKEND!D165)","v":""},{"$f":"IF(ISBLANK(BACKEND!E165),\"\",BACKEND!E165)","v":""},{"$f":"IF(ISBLANK(BACKEND!F165),\"\",BACKEND!F165)","v":""},{"$f":"IF(ISBLANK(BACKEND!G165),\"\",BACKEND!G165)","v":""},false,false]
[null,null,null,null,null,null,"230-12A","El Coco - Panamá II ",null,"2027-06-14",24,null,{"$f":"IF(ISBLANK(BACKEND!D166),\"\",BACKEND!D166)","v":""},{"$f":"IF(ISBLANK(BACKEND!E166),\"\",BACKEND!E166)","v":""},{"$f":"IF(ISBLANK(BACKEND!F166),\"\",BACKEND!F166)","v":""},{"$f":"IF(ISBLANK(BACKEND!G166),\"\",BACKEND!G166)","v":""},false,false]
[null,null,null,null,null,null,"230-6B","Bella Vista - Veladero",null,"2027-06-15",24,null,{"$f":"IF(ISBLANK(BACKEND!D167),\"\",BACKEND!D167)","v":""},{"$f":"IF(ISBLANK(BACKEND!E167),\"\",BACKEND!E167)","v":""},{"$f":"IF(ISBLANK(BACKEND!F167),\"\",BACKEND!F167)","v":""},{"$f":"IF(ISBLANK(BACKEND!G167),\"\",BACKEND!G167)","v":""},false,false]
[null,null,null,null,null,null,"230-9B","Boquerón 3 - Progreso",null,"2027-06-16",24,null,{"$f":"IF(ISBLANK(BACKEND!D168),\"\",BACKEND!D168)","v":""},{"$f":"IF(ISBLANK(BACKEND!E168),\"\",BACKEND!E168)","v":""},{"$f":"IF(ISBLANK(BACKEND!F168),\"\",BACKEND!F168)","v":""},{"$f":"IF(ISBLANK(BACKEND!G168),\"\",BACKEND!G168)","v":""},false,false]
[null,null,null,null,null,null,"230-21","Changuinola - Cahuita",null,"2027-06-17",24,null,{"$f":"IF(ISBLANK(BACKEND!D169),\"\",BACKEND!D169)","v":""},{"$f":"IF(ISBLANK(BACKEND!E169),\"\",BACKEND!E169)","v":""},{"$f":"IF(ISBLANK(BACKEND!F169),\"\",BACKEND!F169)","v":""},{"$f":"IF(ISBLANK(BACKEND!G169),\"\",BACKEND!G169)","v":""},false,false]
[null,null,null,null,null,null,"230-20B","Changuinola - La Esperanza",null,"2027-06-18",24,null,{"$f":"IF(ISBLANK(BACKEND!D170),\"\",BACKEND!D170)","v":""},{"$f":"IF(ISBLANK(BACKEND!E170),\"\",BACKEND!E170)","v":""},{"$f":"IF(ISBLANK(BACKEND!F170),\"\",BACKEND!F170)","v":""},{"$f":"IF(ISBLANK(BACKEND!G170),\"\",BACKEND!G170)","v":""},false,false]
[null,null,null,null,null,null,"230-3B","Chorrera - El Higo",null,"2027-06-19",24,null,{"$f":"IF(ISBLANK(BACKEND!D171),\"\",BACKEND!D171)","v":""},{"$f":"IF(ISBLANK(BACKEND!E171),\"\",BACKEND!E171)","v":""},{"$f":"IF(ISBLANK(BACKEND!F171),\"\",BACKEND!F171)","v":""},{"$f":"IF(ISBLANK(BACKEND!G171),\"\",BACKEND!G171)","v":""},false,false]
[null,null,null,null,null,null,"230-4B","Chorrera - El Higo",null,"2027-06-20",24,null,{"$f":"IF(ISBLANK(BACKEND!D172),\"\",BACKEND!D172)","v":""},{"$f":"IF(ISBLANK(BACKEND!E172),\"\",BACKEND!E172)","v":""},{"$f":"IF(ISBLANK(BACKEND!F172),\"\",BACKEND!F172)","v":""},{"$f":"IF(ISBLANK(BACKEND!G172),\"\",BACKEND!G172)","v":""},false,false]
[null,null,null,null,null,null,"230-47","Chorrera - Panamá",null,"2027-06-21",25,null,{"$f":"IF(ISBLANK(BACKEND!D173),\"\",BACKEND!D173)","v":""},{"$f":"IF(ISBLANK(BACKEND!E173),\"\",BACKEND!E173)","v":""},{"$f":"IF(ISBLANK(BACKEND!F173),\"\",BACKEND!F173)","v":""},{"$f":"IF(ISBLANK(BACKEND!G173),\"\",BACKEND!G173)","v":""},false,false]
[null,null,null,null,null,null,"230-48","Chorrera - Panamá",null,"2027-06-22",25,null,{"$f":"IF(ISBLANK(BACKEND!D174),\"\",BACKEND!D174)","v":""},{"$f":"IF(ISBLANK(BACKEND!E174),\"\",BACKEND!E174)","v":""},{"$f":"IF(ISBLANK(BACKEND!F174),\"\",BACKEND!F174)","v":""},{"$f":"IF(ISBLANK(BACKEND!G174),\"\",BACKEND!G174)","v":""},false,false]
[null,null,null,null,null,null,"230-25B","Dominical - Río Claro",null,"2027-06-23",25,null,{"$f":"IF(ISBLANK(BACKEND!D175),\"\",BACKEND!D175)","v":""},{"$f":"IF(ISBLANK(BACKEND!E175),\"\",BACKEND!E175)","v":""},{"$f":"IF(ISBLANK(BACKEND!F175),\"\",BACKEND!F175)","v":""},{"$f":"IF(ISBLANK(BACKEND!G175),\"\",BACKEND!G175)","v":""},false,false]
[null,null,null,null,null,null,"230-12A","El Coco - Panamá II ",null,"2027-06-24",25,null,{"$f":"IF(ISBLANK(BACKEND!D176),\"\",BACKEND!D176)","v":""},{"$f":"IF(ISBLANK(BACKEND!E176),\"\",BACKEND!E176)","v":""},{"$f":"IF(ISBLANK(BACKEND!F176),\"\",BACKEND!F176)","v":""},{"$f":"IF(ISBLANK(BACKEND!G176),\"\",BACKEND!G176)","v":""},false,false]
[null,null,null,null,null,null,"230-18","Fortuna - Guasquitas",null,"2027-06-25",25,null,{"$f":"IF(ISBLANK(BACKEND!D177),\"\",BACKEND!D177)","v":""},{"$f":"IF(ISBLANK(BACKEND!E177),\"\",BACKEND!E177)","v":""},{"$f":"IF(ISBLANK(BACKEND!F177),\"\",BACKEND!F177)","v":""},{"$f":"IF(ISBLANK(BACKEND!G177),\"\",BACKEND!G177)","v":""},false,false]
[null,null,null,null,null,null,"230-20A","Fortuna - La Esperanza",null,"2027-06-26",25,null,{"$f":"IF(ISBLANK(BACKEND!D178),\"\",BACKEND!D178)","v":""},{"$f":"IF(ISBLANK(BACKEND!E178),\"\",BACKEND!E178)","v":""},{"$f":"IF(ISBLANK(BACKEND!F178),\"\",BACKEND!F178)","v":""},{"$f":"IF(ISBLANK(BACKEND!G178),\"\",BACKEND!G178)","v":""},false,false]
[null,null,null,null,null,null,"230-29","Guasquitas - Cañazas",null,"2027-06-27",25,null,{"$f":"IF(ISBLANK(BACKEND!D179),\"\",BACKEND!D179)","v":""},{"$f":"IF(ISBLANK(BACKEND!E179),\"\",BACKEND!E179)","v":""},{"$f":"IF(ISBLANK(BACKEND!F179),\"\",BACKEND!F179)","v":""},{"$f":"IF(ISBLANK(BACKEND!G179),\"\",BACKEND!G179)","v":""},false,false]
[null,null,null,null,null,null,"230-16","Guasquitas - Veladero",null,"2027-06-28",26,null,{"$f":"IF(ISBLANK(BACKEND!D180),\"\",BACKEND!D180)","v":""},{"$f":"IF(ISBLANK(BACKEND!E180),\"\",BACKEND!E180)","v":""},{"$f":"IF(ISBLANK(BACKEND!F180),\"\",BACKEND!F180)","v":""},{"$f":"IF(ISBLANK(BACKEND!G180),\"\",BACKEND!G180)","v":""},false,false]
[null,null,null,null,null,null,"230-17","Guasquitas - Veladero",null,"2027-06-29",26,null,{"$f":"IF(ISBLANK(BACKEND!D181),\"\",BACKEND!D181)","v":""},{"$f":"IF(ISBLANK(BACKEND!E181),\"\",BACKEND!E181)","v":""},{"$f":"IF(ISBLANK(BACKEND!F181),\"\",BACKEND!F181)","v":""},{"$f":"IF(ISBLANK(BACKEND!G181),\"\",BACKEND!G181)","v":""},false,false]
[null,null,null,null,null,null,"230-12B","Llano Sánchez - El Coco",null,"2027-06-30",26,null,{"$f":"IF(ISBLANK(BACKEND!D182),\"\",BACKEND!D182)","v":""},{"$f":"IF(ISBLANK(BACKEND!E182),\"\",BACKEND!E182)","v":""},{"$f":"IF(ISBLANK(BACKEND!F182),\"\",BACKEND!F182)","v":""},{"$f":"IF(ISBLANK(BACKEND!G182),\"\",BACKEND!G182)","v":""},false,false]
[null,null,null,null,null,null,"230-13A","El Coco - Panamá II ",null,"2027-07-01",26,null,{"$f":"IF(ISBLANK(BACKEND!D183),\"\",BACKEND!D183)","v":""},{"$f":"IF(ISBLANK(BACKEND!E183),\"\",BACKEND!E183)","v":""},{"$f":"IF(ISBLANK(BACKEND!F183),\"\",BACKEND!F183)","v":""},{"$f":"IF(ISBLANK(BACKEND!G183),\"\",BACKEND!G183)","v":""},false,false]
[null,null,null,null,null,null,"230-13B","Llano Sánchez - El Coco",null,"2027-07-02",26,null,{"$f":"IF(ISBLANK(BACKEND!D184),\"\",BACKEND!D184)","v":""},{"$f":"IF(ISBLANK(BACKEND!E184),\"\",BACKEND!E184)","v":""},{"$f":"IF(ISBLANK(BACKEND!F184),\"\",BACKEND!F184)","v":""},{"$f":"IF(ISBLANK(BACKEND!G184),\"\",BACKEND!G184)","v":""},false,false]
[null,null,null,null,null,null,"230-3C","Llano Sánchez - El Higo",null,"2027-07-03",26,null,{"$f":"IF(ISBLANK(BACKEND!D185),\"\",BACKEND!D185)","v":""},{"$f":"IF(ISBLANK(BACKEND!E185),\"\",BACKEND!E185)","v":""},{"$f":"IF(ISBLANK(BACKEND!F185),\"\",BACKEND!F185)","v":""},{"$f":"IF(ISBLANK(BACKEND!G185),\"\",BACKEND!G185)","v":""},false,false]
[null,null,null,null,null,null,"230-4C","Llano Sánchez - El Higo",null,"2027-07-04",26,null,{"$f":"IF(ISBLANK(BACKEND!D186),\"\",BACKEND!D186)","v":""},{"$f":"IF(ISBLANK(BACKEND!E186),\"\",BACKEND!E186)","v":""},{"$f":"IF(ISBLANK(BACKEND!F186),\"\",BACKEND!F186)","v":""},{"$f":"IF(ISBLANK(BACKEND!G186),\"\",BACKEND!G186)","v":""},false,false]
[null,null,null,null,null,null,"230-51","Llano Sánchez - Veladero",null,"2027-07-05",27,null,{"$f":"IF(ISBLANK(BACKEND!D187),\"\",BACKEND!D187)","v":""},{"$f":"IF(ISBLANK(BACKEND!E187),\"\",BACKEND!E187)","v":""},{"$f":"IF(ISBLANK(BACKEND!F187),\"\",BACKEND!F187)","v":""},{"$f":"IF(ISBLANK(BACKEND!G187),\"\",BACKEND!G187)","v":""},false,false]
[null,null,null,null,null,null,"230-52","Llano Sánchez - Veladero",null,"2027-07-06",27,null,{"$f":"IF(ISBLANK(BACKEND!D188),\"\",BACKEND!D188)","v":""},{"$f":"IF(ISBLANK(BACKEND!E188),\"\",BACKEND!E188)","v":""},{"$f":"IF(ISBLANK(BACKEND!F188),\"\",BACKEND!F188)","v":""},{"$f":"IF(ISBLANK(BACKEND!G188),\"\",BACKEND!G188)","v":""},false,false]
[null,null,null,null,null,null,"230-5A","Llano Sánchez - Veladero",null,"2027-07-07",27,null,{"$f":"IF(ISBLANK(BACKEND!D189),\"\",BACKEND!D189)","v":""},{"$f":"IF(ISBLANK(BACKEND!E189),\"\",BACKEND!E189)","v":""},{"$f":"IF(ISBLANK(BACKEND!F189),\"\",BACKEND!F189)","v":""},{"$f":"IF(ISBLANK(BACKEND!G189),\"\",BACKEND!G189)","v":""},false,false]
[null,null,null,null,null,null,"230-7","Mata de Nance - Fortuna",null,"2027-07-08",27,null,{"$f":"IF(ISBLANK(BACKEND!D190),\"\",BACKEND!D190)","v":""},{"$f":"IF(ISBLANK(BACKEND!E190),\"\",BACKEND!E190)","v":""},{"$f":"IF(ISBLANK(BACKEND!F190),\"\",BACKEND!F190)","v":""},{"$f":"IF(ISBLANK(BACKEND!G190),\"\",BACKEND!G190)","v":""},false,false]
[null,null,null,null,null,null,"230-8","Mata de Nance - Fortuna",null,"2027-07-09",27,null,{"$f":"IF(ISBLANK(BACKEND!D191),\"\",BACKEND!D191)","v":""},{"$f":"IF(ISBLANK(BACKEND!E191),\"\",BACKEND!E191)","v":""},{"$f":"IF(ISBLANK(BACKEND!F191),\"\",BACKEND!F191)","v":""},{"$f":"IF(ISBLANK(BACKEND!G191),\"\",BACKEND!G191)","v":""},false,false]
[null,null,null,null,null,null,"230-5B","Mata de Nance - Veladero",null,"2027-07-10",27,null,{"$f":"IF(ISBLANK(BACKEND!D192),\"\",BACKEND!D192)","v":""},{"$f":"IF(ISBLANK(BACKEND!E192),\"\",BACKEND!E192)","v":""},{"$f":"IF(ISBLANK(BACKEND!F192),\"\",BACKEND!F192)","v":""},{"$f":"IF(ISBLANK(BACKEND!G192),\"\",BACKEND!G192)","v":""},false,false]
[null,null,null,null,null,null,"230-6C","Mata de Nance - Veladero",null,"2027-07-11",27,null,{"$f":"IF(ISBLANK(BACKEND!D193),\"\",BACKEND!D193)","v":""},{"$f":"IF(ISBLANK(BACKEND!E193),\"\",BACKEND!E193)","v":""},{"$f":"IF(ISBLANK(BACKEND!F193),\"\",BACKEND!F193)","v":""},{"$f":"IF(ISBLANK(BACKEND!G193),\"\",BACKEND!G193)","v":""},false,false]
[null,null,null,null,null,null,"230-9A","Mata de Nance -Boquerón 3",null,"2027-07-12",28,null,{"$f":"IF(ISBLANK(BACKEND!D194),\"\",BACKEND!D194)","v":""},{"$f":"IF(ISBLANK(BACKEND!E194),\"\",BACKEND!E194)","v":""},{"$f":"IF(ISBLANK(BACKEND!F194),\"\",BACKEND!F194)","v":""},{"$f":"IF(ISBLANK(BACKEND!G194),\"\",BACKEND!G194)","v":""},false,false]
[null,null,null,null,null,null,"230-3A","Panamá - Chorrera",null,"2027-07-13",28,null,{"$f":"IF(ISBLANK(BACKEND!D195),\"\",BACKEND!D195)","v":""},{"$f":"IF(ISBLANK(BACKEND!E195),\"\",BACKEND!E195)","v":""},{"$f":"IF(ISBLANK(BACKEND!F195),\"\",BACKEND!F195)","v":""},{"$f":"IF(ISBLANK(BACKEND!G195),\"\",BACKEND!G195)","v":""},false,false]
[null,null,null,null,null,null,"230-4A","Panamá - Chorrera",null,{"$f":"J195+1","v":"2027-07-14"},28,null,{"$f":"IF(ISBLANK(BACKEND!D196),\"\",BACKEND!D196)","v":""},{"$f":"IF(ISBLANK(BACKEND!E196),\"\",BACKEND!E196)","v":""},{"$f":"IF(ISBLANK(BACKEND!F196),\"\",BACKEND!F196)","v":""},{"$f":"IF(ISBLANK(BACKEND!G196),\"\",BACKEND!G196)","v":""},false,false]
[null,null,null,null,null,null,"230-1C","Panamá - Panamá II",null,"2027-07-15",28,null,{"$f":"IF(ISBLANK(BACKEND!D197),\"\",BACKEND!D197)","v":""},{"$f":"IF(ISBLANK(BACKEND!E197),\"\",BACKEND!E197)","v":""},{"$f":"IF(ISBLANK(BACKEND!F197),\"\",BACKEND!F197)","v":""},{"$f":"IF(ISBLANK(BACKEND!G197),\"\",BACKEND!G197)","v":""},false,false]
[null,null,null,null,null,null,"230-2C","Panamá - Panamá II",null,"2027-07-16",28,null,{"$f":"IF(ISBLANK(BACKEND!D198),\"\",BACKEND!D198)","v":""},{"$f":"IF(ISBLANK(BACKEND!E198),\"\",BACKEND!E198)","v":""},{"$f":"IF(ISBLANK(BACKEND!F198),\"\",BACKEND!F198)","v":""},{"$f":"IF(ISBLANK(BACKEND!G198),\"\",BACKEND!G198)","v":""},false,false]
[null,null,null,null,null,null,"230-2B","Panamá II - 24 de Diciembre",null,"2027-07-17",28,null,{"$f":"IF(ISBLANK(BACKEND!D199),\"\",BACKEND!D199)","v":""},{"$f":"IF(ISBLANK(BACKEND!E199),\"\",BACKEND!E199)","v":""},{"$f":"IF(ISBLANK(BACKEND!F199),\"\",BACKEND!F199)","v":""},{"$f":"IF(ISBLANK(BACKEND!G199),\"\",BACKEND!G199)","v":""},false,false]
[null,null,null,null,null,null,"230-1B","Panamá II - Pacora",null,"2027-07-18",28,null,{"$f":"IF(ISBLANK(BACKEND!D200),\"\",BACKEND!D200)","v":""},{"$f":"IF(ISBLANK(BACKEND!E200),\"\",BACKEND!E200)","v":""},{"$f":"IF(ISBLANK(BACKEND!F200),\"\",BACKEND!F200)","v":""},{"$f":"IF(ISBLANK(BACKEND!G200),\"\",BACKEND!G200)","v":""},false,false]
[null,null,null,null,null,null,"230-10","Progreso - Río Claro ",null,"2027-07-19",29,null,{"$f":"IF(ISBLANK(BACKEND!D201),\"\",BACKEND!D201)","v":""},{"$f":"IF(ISBLANK(BACKEND!E201),\"\",BACKEND!E201)","v":""},{"$f":"IF(ISBLANK(BACKEND!F201),\"\",BACKEND!F201)","v":""},{"$f":"IF(ISBLANK(BACKEND!G201),\"\",BACKEND!G201)","v":""},false,false]
[null,null,null,null,null,null,"230-25A","Veladero - Dominical",null,"2027-07-20",29,null,{"$f":"IF(ISBLANK(BACKEND!D202),\"\",BACKEND!D202)","v":""},{"$f":"IF(ISBLANK(BACKEND!E202),\"\",BACKEND!E202)","v":""},{"$f":"IF(ISBLANK(BACKEND!F202),\"\",BACKEND!F202)","v":""},{"$f":"IF(ISBLANK(BACKEND!G202),\"\",BACKEND!G202)","v":""},{"$f":"IF(AND(M202=\"\",N202=\"\",O202=\"\",P202=\"\"),FALSE,IFERROR((M202+N202)>=(O202+P202),TRUE))","v":false},{"$f":"Q202","v":false}]
[null,null,null,null,null,null,"230-14B","Veladero - San Bartolo",null,"2027-07-21",29,null,{"$f":"IF(ISBLANK(BACKEND!D203),\"\",BACKEND!D203)","v":""},{"$f":"IF(ISBLANK(BACKEND!E203),\"\",BACKEND!E203)","v":""},{"$f":"IF(ISBLANK(BACKEND!F203),\"\",BACKEND!F203)","v":""},{"$f":"IF(ISBLANK(BACKEND!G203),\"\",BACKEND!G203)","v":""},false,false]
[null,null,null,null,null,null,"230-15B","Veladero - San Bartolo",null,"2027-07-22",29,null,{"$f":"IF(ISBLANK(BACKEND!D204),\"\",BACKEND!D204)","v":""},{"$f":"IF(ISBLANK(BACKEND!E204),\"\",BACKEND!E204)","v":""},{"$f":"IF(ISBLANK(BACKEND!F204),\"\",BACKEND!F204)","v":""},{"$f":"IF(ISBLANK(BACKEND!G204),\"\",BACKEND!G204)","v":""},false,false]
[null,null,null,null,null,null,"230-2A","24 de Diciembre - Bayano",null,"2027-07-23",29,null,{"$f":"IF(ISBLANK(BACKEND!D205),\"\",BACKEND!D205)","v":""},{"$f":"IF(ISBLANK(BACKEND!E205),\"\",BACKEND!E205)","v":""},{"$f":"IF(ISBLANK(BACKEND!F205),\"\",BACKEND!F205)","v":""},{"$f":"IF(ISBLANK(BACKEND!G205),\"\",BACKEND!G205)","v":""},false,false]
[null,null,null,null,null,null,"230-49A","Antón IV - Chorrera",null,"2027-07-24",29,null,{"$f":"IF(ISBLANK(BACKEND!D206),\"\",BACKEND!D206)","v":""},{"$f":"IF(ISBLANK(BACKEND!E206),\"\",BACKEND!E206)","v":""},{"$f":"IF(ISBLANK(BACKEND!F206),\"\",BACKEND!F206)","v":""},{"$f":"IF(ISBLANK(BACKEND!G206),\"\",BACKEND!G206)","v":""},false,false]
[null,null,null,null,null,null,"230-49B","Antón IV - Llano Sánchez",null,"2027-07-25",29,null,{"$f":"IF(ISBLANK(BACKEND!D207),\"\",BACKEND!D207)","v":""},{"$f":"IF(ISBLANK(BACKEND!E207),\"\",BACKEND!E207)","v":""},{"$f":"IF(ISBLANK(BACKEND!F207),\"\",BACKEND!F207)","v":""},{"$f":"IF(ISBLANK(BACKEND!G207),\"\",BACKEND!G207)","v":""},false,false]
[null,null,null,null,null,null,"230-28B","Baitún - Portón",null,"2027-07-26",30,null,{"$f":"IF(ISBLANK(BACKEND!D208),\"\",BACKEND!D208)","v":""},{"$f":"IF(ISBLANK(BACKEND!E208),\"\",BACKEND!E208)","v":""},{"$f":"IF(ISBLANK(BACKEND!F208),\"\",BACKEND!F208)","v":""},{"$f":"IF(ISBLANK(BACKEND!G208),\"\",BACKEND!G208)","v":""},false,false]
[null,null,null,null,null,null,"230-1A","Bayano - Pacora",null,"2027-07-27",30,null,{"$f":"IF(ISBLANK(BACKEND!D209),\"\",BACKEND!D209)","v":""},{"$f":"IF(ISBLANK(BACKEND!E209),\"\",BACKEND!E209)","v":""},{"$f":"IF(ISBLANK(BACKEND!F209),\"\",BACKEND!F209)","v":""},{"$f":"IF(ISBLANK(BACKEND!G209),\"\",BACKEND!G209)","v":""},false,false]
[null,null,null,null,null,null,"230-40","Bella Vista - Las Filipinas",null,"2027-07-28",30,null,{"$f":"IF(ISBLANK(BACKEND!D210),\"\",BACKEND!D210)","v":""},{"$f":"IF(ISBLANK(BACKEND!E210),\"\",BACKEND!E210)","v":""},{"$f":"IF(ISBLANK(BACKEND!F210),\"\",BACKEND!F210)","v":""},{"$f":"IF(ISBLANK(BACKEND!G210),\"\",BACKEND!G210)","v":""},false,false]
[null,null,null,null,null,null,"230-43","Botija - Punta Rincón",null,"2027-07-29",30,null,{"$f":"IF(ISBLANK(BACKEND!D211),\"\",BACKEND!D211)","v":""},{"$f":"IF(ISBLANK(BACKEND!E211),\"\",BACKEND!E211)","v":""},{"$f":"IF(ISBLANK(BACKEND!F211),\"\",BACKEND!F211)","v":""},{"$f":"IF(ISBLANK(BACKEND!G211),\"\",BACKEND!G211)","v":""},false,false]
[null,null,null,null,null,null,"230-44","Botija - Punta Rincón",null,"2027-07-30",30,null,{"$f":"IF(ISBLANK(BACKEND!D212),\"\",BACKEND!D212)","v":""},{"$f":"IF(ISBLANK(BACKEND!E212),\"\",BACKEND!E212)","v":""},{"$f":"IF(ISBLANK(BACKEND!F212),\"\",BACKEND!F212)","v":""},{"$f":"IF(ISBLANK(BACKEND!G212),\"\",BACKEND!G212)","v":""},false,false]
[null,null,null,null,null,null,"230-30","Cañazas - Changuinola",null,"2027-07-31",30,null,{"$f":"IF(ISBLANK(BACKEND!D213),\"\",BACKEND!D213)","v":""},{"$f":"IF(ISBLANK(BACKEND!E213),\"\",BACKEND!E213)","v":""},{"$f":"IF(ISBLANK(BACKEND!F213),\"\",BACKEND!F213)","v":""},{"$f":"IF(ISBLANK(BACKEND!G213),\"\",BACKEND!G213)","v":""},false,false]
[null,null,null,null,null,null,"230-11","Chorrera - Pan Am",null,"2027-08-01",30,null,{"$f":"IF(ISBLANK(BACKEND!D214),\"\",BACKEND!D214)","v":""},{"$f":"IF(ISBLANK(BACKEND!E214),\"\",BACKEND!E214)","v":""},{"$f":"IF(ISBLANK(BACKEND!F214),\"\",BACKEND!F214)","v":""},{"$f":"IF(ISBLANK(BACKEND!G214),\"\",BACKEND!G214)","v":""},false,false]
[null,null,null,null,null,null,"230-45","Dominical - Caña Blanca",null,"2027-08-02",31,null,{"$f":"IF(ISBLANK(BACKEND!D215),\"\",BACKEND!D215)","v":""},{"$f":"IF(ISBLANK(BACKEND!E215),\"\",BACKEND!E215)","v":""},{"$f":"IF(ISBLANK(BACKEND!F215),\"\",BACKEND!F215)","v":""},{"$f":"IF(ISBLANK(BACKEND!G215),\"\",BACKEND!G215)","v":""},false,false]
[null,null,null,null,null,null,"230-34","Dominical - El Alto",null,"2027-08-03",31,null,{"$f":"IF(ISBLANK(BACKEND!D216),\"\",BACKEND!D216)","v":""},{"$f":"IF(ISBLANK(BACKEND!E216),\"\",BACKEND!E216)","v":""},{"$f":"IF(ISBLANK(BACKEND!F216),\"\",BACKEND!F216)","v":""},{"$f":"IF(ISBLANK(BACKEND!G216),\"\",BACKEND!G216)","v":""},false,false]
[null,null,null,null,null,null,"230-35","Dominical - Paredones",null,"2027-08-04",31,null,{"$f":"IF(ISBLANK(BACKEND!D217),\"\",BACKEND!D217)","v":""},{"$f":"IF(ISBLANK(BACKEND!E217),\"\",BACKEND!E217)","v":""},{"$f":"IF(ISBLANK(BACKEND!F217),\"\",BACKEND!F217)","v":""},{"$f":"IF(ISBLANK(BACKEND!G217),\"\",BACKEND!G217)","v":""},false,false]
[null,null,null,null,null,null,"230-33","Dominical - Primavera",null,"2027-08-05",31,null,{"$f":"IF(ISBLANK(BACKEND!D218),\"\",BACKEND!D218)","v":""},{"$f":"IF(ISBLANK(BACKEND!E218),\"\",BACKEND!E218)","v":""},{"$f":"IF(ISBLANK(BACKEND!F218),\"\",BACKEND!F218)","v":""},{"$f":"IF(ISBLANK(BACKEND!G218),\"\",BACKEND!G218)","v":""},false,false]
[null,null,null,null,null,null,"230-56","El Coco - Penonomé II",null,"2027-08-06",31,null,{"$f":"IF(ISBLANK(BACKEND!D219),\"\",BACKEND!D219)","v":""},{"$f":"IF(ISBLANK(BACKEND!E219),\"\",BACKEND!E219)","v":""},{"$f":"IF(ISBLANK(BACKEND!F219),\"\",BACKEND!F219)","v":""},{"$f":"IF(ISBLANK(BACKEND!G219),\"\",BACKEND!G219)","v":""},false,false]
[null,null,null,null,null,null,"230-57","El Coco - Penonomé II",null,"2027-08-07",31,null,{"$f":"IF(ISBLANK(BACKEND!D220),\"\",BACKEND!D220)","v":""},{"$f":"IF(ISBLANK(BACKEND!E220),\"\",BACKEND!E220)","v":""},{"$f":"IF(ISBLANK(BACKEND!F220),\"\",BACKEND!F220)","v":""},{"$f":"IF(ISBLANK(BACKEND!G220),\"\",BACKEND!G220)","v":""},false,false]
[null,null,null,null,null,null,"230-24","El Valle - Zambrano",null,"2027-08-08",31,null,{"$f":"IF(ISBLANK(BACKEND!D221),\"\",BACKEND!D221)","v":""},{"$f":"IF(ISBLANK(BACKEND!E221),\"\",BACKEND!E221)","v":""},{"$f":"IF(ISBLANK(BACKEND!F221),\"\",BACKEND!F221)","v":""},{"$f":"IF(ISBLANK(BACKEND!G221),\"\",BACKEND!G221)","v":""},false,false]
[null,null,null,null,null,null,"230-23","Gualaca - Zambrano",null,"2027-08-09",32,null,{"$f":"IF(ISBLANK(BACKEND!D222),\"\",BACKEND!D222)","v":""},{"$f":"IF(ISBLANK(BACKEND!E222),\"\",BACKEND!E222)","v":""},{"$f":"IF(ISBLANK(BACKEND!F222),\"\",BACKEND!F222)","v":""},{"$f":"IF(ISBLANK(BACKEND!G222),\"\",BACKEND!G222)","v":""},false,false]
[null,null,null,null,null,null,"230-19","Guasquitas - Estí",null,"2027-08-10",32,null,{"$f":"IF(ISBLANK(BACKEND!D223),\"\",BACKEND!D223)","v":""},{"$f":"IF(ISBLANK(BACKEND!E223),\"\",BACKEND!E223)","v":""},{"$f":"IF(ISBLANK(BACKEND!F223),\"\",BACKEND!F223)","v":""},{"$f":"IF(ISBLANK(BACKEND!G223),\"\",BACKEND!G223)","v":""},false,false]
[null,null,null,null,null,null,"230-22","Guasquitas - Gualaca",null,"2027-08-11",32,null,{"$f":"IF(ISBLANK(BACKEND!D224),\"\",BACKEND!D224)","v":""},{"$f":"IF(ISBLANK(BACKEND!E224),\"\",BACKEND!E224)","v":""},{"$f":"IF(ISBLANK(BACKEND!F224),\"\",BACKEND!F224)","v":""},{"$f":"IF(ISBLANK(BACKEND!G224),\"\",BACKEND!G224)","v":""},false,false]
[null,null,null,null,null,null,"230-31","La Esperanza - Changuinola I",null,"2027-08-12",32,null,{"$f":"IF(ISBLANK(BACKEND!D225),\"\",BACKEND!D225)","v":""},{"$f":"IF(ISBLANK(BACKEND!E225),\"\",BACKEND!E225)","v":""},{"$f":"IF(ISBLANK(BACKEND!F225),\"\",BACKEND!F225)","v":""},{"$f":"IF(ISBLANK(BACKEND!G225),\"\",BACKEND!G225)","v":""},false,false]
[null,null,null,null,null,null,"230-32","La Esperanza - Changuinola I",null,"2027-08-13",32,null,{"$f":"IF(ISBLANK(BACKEND!D226),\"\",BACKEND!D226)","v":""},{"$f":"IF(ISBLANK(BACKEND!E226),\"\",BACKEND!E226)","v":""},{"$f":"IF(ISBLANK(BACKEND!F226),\"\",BACKEND!F226)","v":""},{"$f":"IF(ISBLANK(BACKEND!G226),\"\",BACKEND!G226)","v":""},false,false]
[null,null,null,null,null,null,"230-6A","Llano Sánchez - Bella Vista",null,"2027-08-14",32,null,{"$f":"IF(ISBLANK(BACKEND!D227),\"\",BACKEND!D227)","v":""},{"$f":"IF(ISBLANK(BACKEND!E227),\"\",BACKEND!E227)","v":""},{"$f":"IF(ISBLANK(BACKEND!F227),\"\",BACKEND!F227)","v":""},{"$f":"IF(ISBLANK(BACKEND!G227),\"\",BACKEND!G227)","v":""},false,false]
[null,null,null,null,null,null,"230-41","Llano Sánchez - Botija",null,"2027-08-15",32,null,{"$f":"IF(ISBLANK(BACKEND!D228),\"\",BACKEND!D228)","v":""},{"$f":"IF(ISBLANK(BACKEND!E228),\"\",BACKEND!E228)","v":""},{"$f":"IF(ISBLANK(BACKEND!F228),\"\",BACKEND!F228)","v":""},{"$f":"IF(ISBLANK(BACKEND!G228),\"\",BACKEND!G228)","v":""},false,false]
[null,null,null,null,null,null,"230-42","Llano Sánchez - Botija",null,"2027-08-16",33,null,{"$f":"IF(ISBLANK(BACKEND!D229),\"\",BACKEND!D229)","v":""},{"$f":"IF(ISBLANK(BACKEND!E229),\"\",BACKEND!E229)","v":""},{"$f":"IF(ISBLANK(BACKEND!F229),\"\",BACKEND!F229)","v":""},{"$f":"IF(ISBLANK(BACKEND!G229),\"\",BACKEND!G229)","v":""},false,false]
[null,null,null,null,null,null,"230-49","Llano Sánchez - Chorrera",null,"2027-08-17",33,null,{"$f":"IF(ISBLANK(BACKEND!D230),\"\",BACKEND!D230)","v":""},{"$f":"IF(ISBLANK(BACKEND!E230),\"\",BACKEND!E230)","v":""},{"$f":"IF(ISBLANK(BACKEND!F230),\"\",BACKEND!F230)","v":""},{"$f":"IF(ISBLANK(BACKEND!G230),\"\",BACKEND!G230)","v":""},false,false]
[null,null,null,null,null,null,"230-50","Llano Sánchez - Chorrera",null,"2027-08-18",33,null,{"$f":"IF(ISBLANK(BACKEND!D231),\"\",BACKEND!D231)","v":""},{"$f":"IF(ISBLANK(BACKEND!E231),\"\",BACKEND!E231)","v":""},{"$f":"IF(ISBLANK(BACKEND!F231),\"\",BACKEND!F231)","v":""},{"$f":"IF(ISBLANK(BACKEND!G231),\"\",BACKEND!G231)","v":""},false,false]
[null,null,null,null,null,null,"230-14A","Llano Sánchez - San Bartolo",null,"2027-08-19",33,null,{"$f":"IF(ISBLANK(BACKEND!D232),\"\",BACKEND!D232)","v":""},{"$f":"IF(ISBLANK(BACKEND!E232),\"\",BACKEND!E232)","v":""},{"$f":"IF(ISBLANK(BACKEND!F232),\"\",BACKEND!F232)","v":""},{"$f":"IF(ISBLANK(BACKEND!G232),\"\",BACKEND!G232)","v":""},false,false]
[null,null,null,null,null,null,"230-15A","Llano Sánchez - San Bartolo",null,"2027-08-20",33,null,{"$f":"IF(ISBLANK(BACKEND!D233),\"\",BACKEND!D233)","v":""},{"$f":"IF(ISBLANK(BACKEND!E233),\"\",BACKEND!E233)","v":""},{"$f":"IF(ISBLANK(BACKEND!F233),\"\",BACKEND!F233)","v":""},{"$f":"IF(ISBLANK(BACKEND!G233),\"\",BACKEND!G233)","v":""},false,false]
[null,null,null,null,null,null,"230-39","Mata de Nance - Progreso",null,"2027-08-21",33,null,{"$f":"IF(ISBLANK(BACKEND!D234),\"\",BACKEND!D234)","v":""},{"$f":"IF(ISBLANK(BACKEND!E234),\"\",BACKEND!E234)","v":""},{"$f":"IF(ISBLANK(BACKEND!F234),\"\",BACKEND!F234)","v":""},{"$f":"IF(ISBLANK(BACKEND!G234),\"\",BACKEND!G234)","v":""},false,false]
[null,null,null,null,null,null,"230-54","Panamá II - Cristóbal",null,"2027-08-22",33,null,{"$f":"IF(ISBLANK(BACKEND!D235),\"\",BACKEND!D235)","v":""},{"$f":"IF(ISBLANK(BACKEND!E235),\"\",BACKEND!E235)","v":""},{"$f":"IF(ISBLANK(BACKEND!F235),\"\",BACKEND!F235)","v":""},{"$f":"IF(ISBLANK(BACKEND!G235),\"\",BACKEND!G235)","v":""},false,false]
[null,null,null,null,null,null,"230-55","Panamá II - Cristóbal",null,"2027-08-23",34,null,{"$f":"IF(ISBLANK(BACKEND!D236),\"\",BACKEND!D236)","v":""},{"$f":"IF(ISBLANK(BACKEND!E236),\"\",BACKEND!E236)","v":""},{"$f":"IF(ISBLANK(BACKEND!F236),\"\",BACKEND!F236)","v":""},{"$f":"IF(ISBLANK(BACKEND!G236),\"\",BACKEND!G236)","v":""},false,false]
[null,null,null,null,null,null,"230-37","Portón - La Potra",null,"2027-08-24",34,null,{"$f":"IF(ISBLANK(BACKEND!D237),\"\",BACKEND!D237)","v":""},{"$f":"IF(ISBLANK(BACKEND!E237),\"\",BACKEND!E237)","v":""},{"$f":"IF(ISBLANK(BACKEND!F237),\"\",BACKEND!F237)","v":""},{"$f":"IF(ISBLANK(BACKEND!G237),\"\",BACKEND!G237)","v":""},false,false]
[null,null,null,null,null,null,"230-36","Portón - Salsipuedes",null,"2027-08-25",34,null,{"$f":"IF(ISBLANK(BACKEND!D238),\"\",BACKEND!D238)","v":""},{"$f":"IF(ISBLANK(BACKEND!E238),\"\",BACKEND!E238)","v":""},{"$f":"IF(ISBLANK(BACKEND!F238),\"\",BACKEND!F238)","v":""},{"$f":"IF(ISBLANK(BACKEND!G238),\"\",BACKEND!G238)","v":""},false,false]
[null,null,null,null,null,null,"230-27","Progreso - Baitún",null,"2027-08-26",34,null,{"$f":"IF(ISBLANK(BACKEND!D239),\"\",BACKEND!D239)","v":""},{"$f":"IF(ISBLANK(BACKEND!E239),\"\",BACKEND!E239)","v":""},{"$f":"IF(ISBLANK(BACKEND!F239),\"\",BACKEND!F239)","v":""},{"$f":"IF(ISBLANK(BACKEND!G239),\"\",BACKEND!G239)","v":""},false,false]
[null,null,null,null,null,null,"230-28A","Progreso - Portón",null,"2027-08-27",34,null,{"$f":"IF(ISBLANK(BACKEND!D240),\"\",BACKEND!D240)","v":""},{"$f":"IF(ISBLANK(BACKEND!E240),\"\",BACKEND!E240)","v":""},{"$f":"IF(ISBLANK(BACKEND!F240),\"\",BACKEND!F240)","v":""},{"$f":"IF(ISBLANK(BACKEND!G240),\"\",BACKEND!G240)","v":""},false,false]
[null,null,null,null,null,null,"230-26","Toabré - Antón IV",null,"2027-08-28",34,null,{"$f":"IF(ISBLANK(BACKEND!D241),\"\",BACKEND!D241)","v":""},{"$f":"IF(ISBLANK(BACKEND!E241),\"\",BACKEND!E241)","v":""},{"$f":"IF(ISBLANK(BACKEND!F241),\"\",BACKEND!F241)","v":""},{"$f":"IF(ISBLANK(BACKEND!G241),\"\",BACKEND!G241)","v":""},false,false]
[null,null,null,null,null,null,"T1 - Panamá","Panamá",null,"2027-08-29",34,null,{"$f":"IF(ISBLANK(BACKEND!D242),\"\",BACKEND!D242)","v":""},{"$f":"IF(ISBLANK(BACKEND!E242),\"\",BACKEND!E242)","v":""},{"$f":"IF(ISBLANK(BACKEND!F242),\"\",BACKEND!F242)","v":""},{"$f":"IF(ISBLANK(BACKEND!G242),\"\",BACKEND!G242)","v":""},false,false]
[null,null,null,null,null,null,"T2 - Panamá","Panamá",null,"2027-08-30",35,null,{"$f":"IF(ISBLANK(BACKEND!D243),\"\",BACKEND!D243)","v":""},{"$f":"IF(ISBLANK(BACKEND!E243),\"\",BACKEND!E243)","v":""},{"$f":"IF(ISBLANK(BACKEND!F243),\"\",BACKEND!F243)","v":""},{"$f":"IF(ISBLANK(BACKEND!G243),\"\",BACKEND!G243)","v":""},false,false]
[null,null,null,null,null,null,"T3 - Panamá","Panamá",null,"2027-08-31",35,null,{"$f":"IF(ISBLANK(BACKEND!D244),\"\",BACKEND!D244)","v":""},{"$f":"IF(ISBLANK(BACKEND!E244),\"\",BACKEND!E244)","v":""},{"$f":"IF(ISBLANK(BACKEND!F244),\"\",BACKEND!F244)","v":""},{"$f":"IF(ISBLANK(BACKEND!G244),\"\",BACKEND!G244)","v":""},false,false]
[null,null,null,null,null,null,"T5 - Panamá","Panamá",null,"2027-09-01",35,null,{"$f":"IF(ISBLANK(BACKEND!D245),\"\",BACKEND!D245)","v":""},{"$f":"IF(ISBLANK(BACKEND!E245),\"\",BACKEND!E245)","v":""},{"$f":"IF(ISBLANK(BACKEND!F245),\"\",BACKEND!F245)","v":""},{"$f":"IF(ISBLANK(BACKEND!G245),\"\",BACKEND!G245)","v":""},false,false]
[null,null,null,null,null,null,"T1 - 24 de Diciembre","24 de Diciembre",null,"2027-09-02",35,null,{"$f":"IF(ISBLANK(BACKEND!D246),\"\",BACKEND!D246)","v":""},{"$f":"IF(ISBLANK(BACKEND!E246),\"\",BACKEND!E246)","v":""},{"$f":"IF(ISBLANK(BACKEND!F246),\"\",BACKEND!F246)","v":""},{"$f":"IF(ISBLANK(BACKEND!G246),\"\",BACKEND!G246)","v":""},false,false]
[null,null,null,null,null,null,"T2 - 24 de Diciembre","24 de Diciembre",null,"2027-09-03",35,null,{"$f":"IF(ISBLANK(BACKEND!D247),\"\",BACKEND!D247)","v":""},{"$f":"IF(ISBLANK(BACKEND!E247),\"\",BACKEND!E247)","v":""},{"$f":"IF(ISBLANK(BACKEND!F247),\"\",BACKEND!F247)","v":""},{"$f":"IF(ISBLANK(BACKEND!G247),\"\",BACKEND!G247)","v":""},false,false]
[null,null,null,null,null,null,"T1 - Boquerón 3","Boquerón 3",null,"2027-09-04",35,null,{"$f":"IF(ISBLANK(BACKEND!D248),\"\",BACKEND!D248)","v":""},{"$f":"IF(ISBLANK(BACKEND!E248),\"\",BACKEND!E248)","v":""},{"$f":"IF(ISBLANK(BACKEND!F248),\"\",BACKEND!F248)","v":""},{"$f":"IF(ISBLANK(BACKEND!G248),\"\",BACKEND!G248)","v":""},false,false]
[null,null,null,null,null,null,"T2 - Boquerón 3","Boquerón 3",null,"2027-09-05",35,null,{"$f":"IF(ISBLANK(BACKEND!D249),\"\",BACKEND!D249)","v":""},{"$f":"IF(ISBLANK(BACKEND!E249),\"\",BACKEND!E249)","v":""},{"$f":"IF(ISBLANK(BACKEND!F249),\"\",BACKEND!F249)","v":""},{"$f":"IF(ISBLANK(BACKEND!G249),\"\",BACKEND!G249)","v":""},false,false]
[null,null,null,null,null,null,"T1 - Caldera","Caldera",null,"2027-09-06",36,null,{"$f":"IF(ISBLANK(BACKEND!D250),\"\",BACKEND!D250)","v":""},{"$f":"IF(ISBLANK(BACKEND!E250),\"\",BACKEND!E250)","v":""},{"$f":"IF(ISBLANK(BACKEND!F250),\"\",BACKEND!F250)","v":""},{"$f":"IF(ISBLANK(BACKEND!G250),\"\",BACKEND!G250)","v":""},false,false]
[null,null,null,null,null,null,"T1 - Calzada Larga - ENSA","Calzada Larga - ENSA",null,"2027-09-07",36,null,{"$f":"IF(ISBLANK(BACKEND!D251),\"\",BACKEND!D251)","v":""},{"$f":"IF(ISBLANK(BACKEND!E251),\"\",BACKEND!E251)","v":""},{"$f":"IF(ISBLANK(BACKEND!F251),\"\",BACKEND!F251)","v":""},{"$f":"IF(ISBLANK(BACKEND!G251),\"\",BACKEND!G251)","v":""},false,false]
[null,null,null,null,null,null,"T1 - Cañazas","Cañazas",null,"2027-09-08",36,null,{"$f":"IF(ISBLANK(BACKEND!D252),\"\",BACKEND!D252)","v":""},{"$f":"IF(ISBLANK(BACKEND!E252),\"\",BACKEND!E252)","v":""},{"$f":"IF(ISBLANK(BACKEND!F252),\"\",BACKEND!F252)","v":""},{"$f":"IF(ISBLANK(BACKEND!G252),\"\",BACKEND!G252)","v":""},false,false]
[null,null,null,null,null,null,"T1 - Centro Bancario","Centro Bancario",null,"2027-09-09",36,null,{"$f":"IF(ISBLANK(BACKEND!D253),\"\",BACKEND!D253)","v":""},{"$f":"IF(ISBLANK(BACKEND!E253),\"\",BACKEND!E253)","v":""},{"$f":"IF(ISBLANK(BACKEND!F253),\"\",BACKEND!F253)","v":""},{"$f":"IF(ISBLANK(BACKEND!G253),\"\",BACKEND!G253)","v":""},false,false]
[null,null,null,null,null,null,"T2 - Centro Bancario","Centro Bancario",null,"2027-09-10",36,null,{"$f":"IF(ISBLANK(BACKEND!D254),\"\",BACKEND!D254)","v":""},{"$f":"IF(ISBLANK(BACKEND!E254),\"\",BACKEND!E254)","v":""},{"$f":"IF(ISBLANK(BACKEND!F254),\"\",BACKEND!F254)","v":""},{"$f":"IF(ISBLANK(BACKEND!G254),\"\",BACKEND!G254)","v":""},false,false]
[null,null,null,null,null,null,"T3 - Centro Bancario","Centro Bancario",null,"2027-09-11",36,null,{"$f":"IF(ISBLANK(BACKEND!D255),\"\",BACKEND!D255)","v":""},{"$f":"IF(ISBLANK(BACKEND!E255),\"\",BACKEND!E255)","v":""},{"$f":"IF(ISBLANK(BACKEND!F255),\"\",BACKEND!F255)","v":""},{"$f":"IF(ISBLANK(BACKEND!G255),\"\",BACKEND!G255)","v":""},false,false]
[null,null,null,null,null,null,"T1 - Cerro Viento","Cerro Viento",null,"2027-09-12",36,null,{"$f":"IF(ISBLANK(BACKEND!D256),\"\",BACKEND!D256)","v":""},{"$f":"IF(ISBLANK(BACKEND!E256),\"\",BACKEND!E256)","v":""},{"$f":"IF(ISBLANK(BACKEND!F256),\"\",BACKEND!F256)","v":""},{"$f":"IF(ISBLANK(BACKEND!G256),\"\",BACKEND!G256)","v":""},false,false]
[null,null,null,null,null,null,"T2 - Cerro Viento","Cerro Viento",null,"2027-09-13",37,null,{"$f":"IF(ISBLANK(BACKEND!D257),\"\",BACKEND!D257)","v":""},{"$f":"IF(ISBLANK(BACKEND!E257),\"\",BACKEND!E257)","v":""},{"$f":"IF(ISBLANK(BACKEND!F257),\"\",BACKEND!F257)","v":""},{"$f":"IF(ISBLANK(BACKEND!G257),\"\",BACKEND!G257)","v":""},false,false]
[null,null,null,null,null,null,"T3 - Cerro Viento","Cerro Viento",null,"2027-09-14",37,null,{"$f":"IF(ISBLANK(BACKEND!D258),\"\",BACKEND!D258)","v":""},{"$f":"IF(ISBLANK(BACKEND!E258),\"\",BACKEND!E258)","v":""},{"$f":"IF(ISBLANK(BACKEND!F258),\"\",BACKEND!F258)","v":""},{"$f":"IF(ISBLANK(BACKEND!G258),\"\",BACKEND!G258)","v":""},false,false]
[null,null,null,null,null,null,"T1 - Changuinola","Changuinola",null,"2027-09-15",37,null,{"$f":"IF(ISBLANK(BACKEND!D259),\"\",BACKEND!D259)","v":""},{"$f":"IF(ISBLANK(BACKEND!E259),\"\",BACKEND!E259)","v":""},{"$f":"IF(ISBLANK(BACKEND!F259),\"\",BACKEND!F259)","v":""},{"$f":"IF(ISBLANK(BACKEND!G259),\"\",BACKEND!G259)","v":""},false,false]
[null,null,null,null,null,null,"T1 - Charco Azul","Charco Azul",null,{"$f":"J259+1","v":"2027-09-16"},37,null,{"$f":"IF(ISBLANK(BACKEND!D260),\"\",BACKEND!D260)","v":""},{"$f":"IF(ISBLANK(BACKEND!E260),\"\",BACKEND!E260)","v":""},{"$f":"IF(ISBLANK(BACKEND!F260),\"\",BACKEND!F260)","v":""},{"$f":"IF(ISBLANK(BACKEND!G260),\"\",BACKEND!G260)","v":""},false,false]
[null,null,null,null,null,null,"T1 - Chilibre","Chilibre",null,"2027-09-17",37,null,{"$f":"IF(ISBLANK(BACKEND!D261),\"\",BACKEND!D261)","v":""},{"$f":"IF(ISBLANK(BACKEND!E261),\"\",BACKEND!E261)","v":""},{"$f":"IF(ISBLANK(BACKEND!F261),\"\",BACKEND!F261)","v":""},{"$f":"IF(ISBLANK(BACKEND!G261),\"\",BACKEND!G261)","v":""},false,false]
[null,null,null,null,null,null,"T2 - Chilibre","Chilibre",null,"2027-09-18",37,null,{"$f":"IF(ISBLANK(BACKEND!D262),\"\",BACKEND!D262)","v":""},{"$f":"IF(ISBLANK(BACKEND!E262),\"\",BACKEND!E262)","v":""},{"$f":"IF(ISBLANK(BACKEND!F262),\"\",BACKEND!F262)","v":""},{"$f":"IF(ISBLANK(BACKEND!G262),\"\",BACKEND!G262)","v":""},false,false]
[null,null,null,null,null,null,"T1 - Chorrera","Chorrera",null,"2027-09-19",37,null,{"$f":"IF(ISBLANK(BACKEND!D263),\"\",BACKEND!D263)","v":""},{"$f":"IF(ISBLANK(BACKEND!E263),\"\",BACKEND!E263)","v":""},{"$f":"IF(ISBLANK(BACKEND!F263),\"\",BACKEND!F263)","v":""},{"$f":"IF(ISBLANK(BACKEND!G263),\"\",BACKEND!G263)","v":""},false,false]
[null,null,null,null,null,null,"T2 - Chorrera","Chorrera",null,"2027-09-20",38,null,{"$f":"IF(ISBLANK(BACKEND!D264),\"\",BACKEND!D264)","v":""},{"$f":"IF(ISBLANK(BACKEND!E264),\"\",BACKEND!E264)","v":""},{"$f":"IF(ISBLANK(BACKEND!F264),\"\",BACKEND!F264)","v":""},{"$f":"IF(ISBLANK(BACKEND!G264),\"\",BACKEND!G264)","v":""},false,false]
[null,null,null,null,null,null,"T3 - Chorrera","Chorrera",null,"2027-09-21",38,null,{"$f":"IF(ISBLANK(BACKEND!D265),\"\",BACKEND!D265)","v":""},{"$f":"IF(ISBLANK(BACKEND!E265),\"\",BACKEND!E265)","v":""},{"$f":"IF(ISBLANK(BACKEND!F265),\"\",BACKEND!F265)","v":""},{"$f":"IF(ISBLANK(BACKEND!G265),\"\",BACKEND!G265)","v":""},false,false]
[null,null,null,null,null,null,"T1 - Costa del Este","Costa del Este",null,"2027-09-22",38,null,{"$f":"IF(ISBLANK(BACKEND!D266),\"\",BACKEND!D266)","v":""},{"$f":"IF(ISBLANK(BACKEND!E266),\"\",BACKEND!E266)","v":""},{"$f":"IF(ISBLANK(BACKEND!F266),\"\",BACKEND!F266)","v":""},{"$f":"IF(ISBLANK(BACKEND!G266),\"\",BACKEND!G266)","v":""},{"$f":"IF(AND(M266=\"\",N266=\"\",O266=\"\",P266=\"\"),FALSE,IFERROR((M266+N266)>=(O266+P266),TRUE))","v":false},{"$f":"Q266","v":false}]
[null,null,null,null,null,null,"T2 - Costa del Este","Costa del Este",null,"2027-09-23",38,null,{"$f":"IF(ISBLANK(BACKEND!D267),\"\",BACKEND!D267)","v":""},{"$f":"IF(ISBLANK(BACKEND!E267),\"\",BACKEND!E267)","v":""},{"$f":"IF(ISBLANK(BACKEND!F267),\"\",BACKEND!F267)","v":""},{"$f":"IF(ISBLANK(BACKEND!G267),\"\",BACKEND!G267)","v":""},false,false]
[null,null,null,null,null,null,"T1 - CPSA","CPSA",null,"2027-09-24",38,null,{"$f":"IF(ISBLANK(BACKEND!D268),\"\",BACKEND!D268)","v":""},{"$f":"IF(ISBLANK(BACKEND!E268),\"\",BACKEND!E268)","v":""},{"$f":"IF(ISBLANK(BACKEND!F268),\"\",BACKEND!F268)","v":""},{"$f":"IF(ISBLANK(BACKEND!G268),\"\",BACKEND!G268)","v":""},false,false]
[null,null,null,null,null,null,"T91 - El Coco","El Coco",null,"2027-09-25",38,null,{"$f":"IF(ISBLANK(BACKEND!D269),\"\",BACKEND!D269)","v":""},{"$f":"IF(ISBLANK(BACKEND!E269),\"\",BACKEND!E269)","v":""},{"$f":"IF(ISBLANK(BACKEND!F269),\"\",BACKEND!F269)","v":""},{"$f":"IF(ISBLANK(BACKEND!G269),\"\",BACKEND!G269)","v":""},false,false]
[null,null,null,null,null,null,"T92 - El Coco","El Coco",null,"2027-09-26",38,null,{"$f":"IF(ISBLANK(BACKEND!D270),\"\",BACKEND!D270)","v":""},{"$f":"IF(ISBLANK(BACKEND!E270),\"\",BACKEND!E270)","v":""},{"$f":"IF(ISBLANK(BACKEND!F270),\"\",BACKEND!F270)","v":""},{"$f":"IF(ISBLANK(BACKEND!G270),\"\",BACKEND!G270)","v":""},false,false]
[null,null,null,null,null,null,"T1 - El Higo","El Higo",null,"2027-09-27",39,null,{"$f":"IF(ISBLANK(BACKEND!D271),\"\",BACKEND!D271)","v":""},{"$f":"IF(ISBLANK(BACKEND!E271),\"\",BACKEND!E271)","v":""},{"$f":"IF(ISBLANK(BACKEND!F271),\"\",BACKEND!F271)","v":""},{"$f":"IF(ISBLANK(BACKEND!G271),\"\",BACKEND!G271)","v":""},false,false]
[null,null,null,null,null,null,"T5 - El Torno","El Torno",null,"2027-09-28",39,null,{"$f":"IF(ISBLANK(BACKEND!D272),\"\",BACKEND!D272)","v":""},{"$f":"IF(ISBLANK(BACKEND!E272),\"\",BACKEND!E272)","v":""},{"$f":"IF(ISBLANK(BACKEND!F272),\"\",BACKEND!F272)","v":""},{"$f":"IF(ISBLANK(BACKEND!G272),\"\",BACKEND!G272)","v":""},false,false]
[null,null,null,null,null,null,"T6 - El Torno","El Torno",null,"2027-09-29",39,null,{"$f":"IF(ISBLANK(BACKEND!D273),\"\",BACKEND!D273)","v":""},{"$f":"IF(ISBLANK(BACKEND!E273),\"\",BACKEND!E273)","v":""},{"$f":"IF(ISBLANK(BACKEND!F273),\"\",BACKEND!F273)","v":""},{"$f":"IF(ISBLANK(BACKEND!G273),\"\",BACKEND!G273)","v":""},false,false]
[null,null,null,null,null,null,"T1 - France Field","France Field",null,"2027-09-30",39,null,{"$f":"IF(ISBLANK(BACKEND!D274),\"\",BACKEND!D274)","v":""},{"$f":"IF(ISBLANK(BACKEND!E274),\"\",BACKEND!E274)","v":""},{"$f":"IF(ISBLANK(BACKEND!F274),\"\",BACKEND!F274)","v":""},{"$f":"IF(ISBLANK(BACKEND!G274),\"\",BACKEND!G274)","v":""},false,false]
[null,null,null,null,null,null,"T2 - France Field","France Field",null,"2027-10-01",39,null,{"$f":"IF(ISBLANK(BACKEND!D275),\"\",BACKEND!D275)","v":""},{"$f":"IF(ISBLANK(BACKEND!E275),\"\",BACKEND!E275)","v":""},{"$f":"IF(ISBLANK(BACKEND!F275),\"\",BACKEND!F275)","v":""},{"$f":"IF(ISBLANK(BACKEND!G275),\"\",BACKEND!G275)","v":""},false,false]
[null,null,null,null,null,null,"T3 - France Field","France Field",null,"2027-10-02",39,null,{"$f":"IF(ISBLANK(BACKEND!D276),\"\",BACKEND!D276)","v":""},{"$f":"IF(ISBLANK(BACKEND!E276),\"\",BACKEND!E276)","v":""},{"$f":"IF(ISBLANK(BACKEND!F276),\"\",BACKEND!F276)","v":""},{"$f":"IF(ISBLANK(BACKEND!G276),\"\",BACKEND!G276)","v":""},false,false]
[null,null,null,null,null,null,"T5 - France Field","France Field",null,"2027-10-03",39,null,{"$f":"IF(ISBLANK(BACKEND!D277),\"\",BACKEND!D277)","v":""},{"$f":"IF(ISBLANK(BACKEND!E277),\"\",BACKEND!E277)","v":""},{"$f":"IF(ISBLANK(BACKEND!F277),\"\",BACKEND!F277)","v":""},{"$f":"IF(ISBLANK(BACKEND!G277),\"\",BACKEND!G277)","v":""},false,false]
[null,null,null,null,null,null,"T1 - La Arena","La Arena",null,"2027-10-04",40,null,{"$f":"IF(ISBLANK(BACKEND!D278),\"\",BACKEND!D278)","v":""},{"$f":"IF(ISBLANK(BACKEND!E278),\"\",BACKEND!E278)","v":""},{"$f":"IF(ISBLANK(BACKEND!F278),\"\",BACKEND!F278)","v":""},{"$f":"IF(ISBLANK(BACKEND!G278),\"\",BACKEND!G278)","v":""},false,false]
[null,null,null,null,null,null,"T2 - La Arena","La Arena",null,"2027-10-05",40,null,{"$f":"IF(ISBLANK(BACKEND!D279),\"\",BACKEND!D279)","v":""},{"$f":"IF(ISBLANK(BACKEND!E279),\"\",BACKEND!E279)","v":""},{"$f":"IF(ISBLANK(BACKEND!F279),\"\",BACKEND!F279)","v":""},{"$f":"IF(ISBLANK(BACKEND!G279),\"\",BACKEND!G279)","v":""},false,false]
[null,null,null,null,null,null,"T8 - Las Minas 44","Las Minas 44",null,"2027-10-06",40,null,{"$f":"IF(ISBLANK(BACKEND!D280),\"\",BACKEND!D280)","v":""},{"$f":"IF(ISBLANK(BACKEND!E280),\"\",BACKEND!E280)","v":""},{"$f":"IF(ISBLANK(BACKEND!F280),\"\",BACKEND!F280)","v":""},{"$f":"IF(ISBLANK(BACKEND!G280),\"\",BACKEND!G280)","v":""},false,false]
[null,null,null,null,null,null,"T9 - Las Minas 44","Las Minas 44",null,"2027-10-07",40,null,{"$f":"IF(ISBLANK(BACKEND!D281),\"\",BACKEND!D281)","v":""},{"$f":"IF(ISBLANK(BACKEND!E281),\"\",BACKEND!E281)","v":""},{"$f":"IF(ISBLANK(BACKEND!F281),\"\",BACKEND!F281)","v":""},{"$f":"IF(ISBLANK(BACKEND!G281),\"\",BACKEND!G281)","v":""},false,false]
[null,null,null,null,null,null,"T1 - Llano Bonito","Llano Bonito",null,"2027-10-08",40,null,{"$f":"IF(ISBLANK(BACKEND!D282),\"\",BACKEND!D282)","v":""},{"$f":"IF(ISBLANK(BACKEND!E282),\"\",BACKEND!E282)","v":""},{"$f":"IF(ISBLANK(BACKEND!F282),\"\",BACKEND!F282)","v":""},{"$f":"IF(ISBLANK(BACKEND!G282),\"\",BACKEND!G282)","v":""},false,false]
[null,null,null,null,null,null,"T1 - Llano Sánchez","Llano Sánchez",null,"2027-10-09",40,null,{"$f":"IF(ISBLANK(BACKEND!D283),\"\",BACKEND!D283)","v":""},{"$f":"IF(ISBLANK(BACKEND!E283),\"\",BACKEND!E283)","v":""},{"$f":"IF(ISBLANK(BACKEND!F283),\"\",BACKEND!F283)","v":""},{"$f":"IF(ISBLANK(BACKEND!G283),\"\",BACKEND!G283)","v":""},false,false]
[null,null,null,null,null,null,"T2 - Llano Sánchez","Llano Sánchez",null,"2027-10-10",40,null,{"$f":"IF(ISBLANK(BACKEND!D284),\"\",BACKEND!D284)","v":""},{"$f":"IF(ISBLANK(BACKEND!E284),\"\",BACKEND!E284)","v":""},{"$f":"IF(ISBLANK(BACKEND!F284),\"\",BACKEND!F284)","v":""},{"$f":"IF(ISBLANK(BACKEND!G284),\"\",BACKEND!G284)","v":""},false,false]
[null,null,null,null,null,null,"T3 - Llano Sánchez","Llano Sánchez",null,"2027-10-11",41,null,{"$f":"IF(ISBLANK(BACKEND!D285),\"\",BACKEND!D285)","v":""},{"$f":"IF(ISBLANK(BACKEND!E285),\"\",BACKEND!E285)","v":""},{"$f":"IF(ISBLANK(BACKEND!F285),\"\",BACKEND!F285)","v":""},{"$f":"IF(ISBLANK(BACKEND!G285),\"\",BACKEND!G285)","v":""},false,false]
[null,null,null,null,null,null,"T1 - Locería","Locería",null,"2027-10-12",41,null,{"$f":"IF(ISBLANK(BACKEND!D286),\"\",BACKEND!D286)","v":""},{"$f":"IF(ISBLANK(BACKEND!E286),\"\",BACKEND!E286)","v":""},{"$f":"IF(ISBLANK(BACKEND!F286),\"\",BACKEND!F286)","v":""},{"$f":"IF(ISBLANK(BACKEND!G286),\"\",BACKEND!G286)","v":""},false,false]
[null,null,null,null,null,null,"T2 - Locería","Locería",null,"2027-10-13",41,null,{"$f":"IF(ISBLANK(BACKEND!D287),\"\",BACKEND!D287)","v":""},{"$f":"IF(ISBLANK(BACKEND!E287),\"\",BACKEND!E287)","v":""},{"$f":"IF(ISBLANK(BACKEND!F287),\"\",BACKEND!F287)","v":""},{"$f":"IF(ISBLANK(BACKEND!G287),\"\",BACKEND!G287)","v":""},false,false]
[null,null,null,null,null,null,"T3 - Locería","Locería",null,"2027-10-14",41,null,{"$f":"IF(ISBLANK(BACKEND!D288),\"\",BACKEND!D288)","v":""},{"$f":"IF(ISBLANK(BACKEND!E288),\"\",BACKEND!E288)","v":""},{"$f":"IF(ISBLANK(BACKEND!F288),\"\",BACKEND!F288)","v":""},{"$f":"IF(ISBLANK(BACKEND!G288),\"\",BACKEND!G288)","v":""},false,false]
[null,null,null,null,null,null,"T1 - Marañón","Marañón",null,"2027-10-15",41,null,{"$f":"IF(ISBLANK(BACKEND!D289),\"\",BACKEND!D289)","v":""},{"$f":"IF(ISBLANK(BACKEND!E289),\"\",BACKEND!E289)","v":""},{"$f":"IF(ISBLANK(BACKEND!F289),\"\",BACKEND!F289)","v":""},{"$f":"IF(ISBLANK(BACKEND!G289),\"\",BACKEND!G289)","v":""},false,false]
[null,null,null,null,null,null,"T2 - Marañón","Marañón",null,"2027-10-16",41,null,{"$f":"IF(ISBLANK(BACKEND!D290),\"\",BACKEND!D290)","v":""},{"$f":"IF(ISBLANK(BACKEND!E290),\"\",BACKEND!E290)","v":""},{"$f":"IF(ISBLANK(BACKEND!F290),\"\",BACKEND!F290)","v":""},{"$f":"IF(ISBLANK(BACKEND!G290),\"\",BACKEND!G290)","v":""},false,false]
[null,null,null,null,null,null,"T3 - Marañón","Marañón",null,"2027-10-17",41,null,{"$f":"IF(ISBLANK(BACKEND!D291),\"\",BACKEND!D291)","v":""},{"$f":"IF(ISBLANK(BACKEND!E291),\"\",BACKEND!E291)","v":""},{"$f":"IF(ISBLANK(BACKEND!F291),\"\",BACKEND!F291)","v":""},{"$f":"IF(ISBLANK(BACKEND!G291),\"\",BACKEND!G291)","v":""},false,false]
[null,null,null,null,null,null,"T1 - Mata de Nance","Mata de Nance",null,"2027-10-18",42,null,{"$f":"IF(ISBLANK(BACKEND!D292),\"\",BACKEND!D292)","v":""},{"$f":"IF(ISBLANK(BACKEND!E292),\"\",BACKEND!E292)","v":""},{"$f":"IF(ISBLANK(BACKEND!F292),\"\",BACKEND!F292)","v":""},{"$f":"IF(ISBLANK(BACKEND!G292),\"\",BACKEND!G292)","v":""},false,false]
[null,null,null,null,null,null,"T2 - Mata de Nance","Mata de Nance",null,"2027-10-19",42,null,{"$f":"IF(ISBLANK(BACKEND!D293),\"\",BACKEND!D293)","v":""},{"$f":"IF(ISBLANK(BACKEND!E293),\"\",BACKEND!E293)","v":""},{"$f":"IF(ISBLANK(BACKEND!F293),\"\",BACKEND!F293)","v":""},{"$f":"IF(ISBLANK(BACKEND!G293),\"\",BACKEND!G293)","v":""},false,false]
[null,null,null,null,null,null,"T3 - Mata de Nance","Mata de Nance",null,"2027-10-20",42,null,{"$f":"IF(ISBLANK(BACKEND!D294),\"\",BACKEND!D294)","v":""},{"$f":"IF(ISBLANK(BACKEND!E294),\"\",BACKEND!E294)","v":""},{"$f":"IF(ISBLANK(BACKEND!F294),\"\",BACKEND!F294)","v":""},{"$f":"IF(ISBLANK(BACKEND!G294),\"\",BACKEND!G294)","v":""},false,false]
[null,null,null,null,null,null,"T1 - Monte Oscuro","Monte Oscuro",null,"2027-10-21",42,null,{"$f":"IF(ISBLANK(BACKEND!D295),\"\",BACKEND!D295)","v":""},{"$f":"IF(ISBLANK(BACKEND!E295),\"\",BACKEND!E295)","v":""},{"$f":"IF(ISBLANK(BACKEND!F295),\"\",BACKEND!F295)","v":""},{"$f":"IF(ISBLANK(BACKEND!G295),\"\",BACKEND!G295)","v":""},false,false]
[null,null,null,null,null,null,"T2 - Monte Oscuro","Monte Oscuro",null,"2027-10-22",42,null,{"$f":"IF(ISBLANK(BACKEND!D296),\"\",BACKEND!D296)","v":""},{"$f":"IF(ISBLANK(BACKEND!E296),\"\",BACKEND!E296)","v":""},{"$f":"IF(ISBLANK(BACKEND!F296),\"\",BACKEND!F296)","v":""},{"$f":"IF(ISBLANK(BACKEND!G296),\"\",BACKEND!G296)","v":""},false,false]
[null,null,null,null,null,null,"T1 - Pacora","Pacora",null,"2027-10-23",42,null,{"$f":"IF(ISBLANK(BACKEND!D297),\"\",BACKEND!D297)","v":""},{"$f":"IF(ISBLANK(BACKEND!E297),\"\",BACKEND!E297)","v":""},{"$f":"IF(ISBLANK(BACKEND!F297),\"\",BACKEND!F297)","v":""},{"$f":"IF(ISBLANK(BACKEND!G297),\"\",BACKEND!G297)","v":""},false,false]
[null,null,null,null,null,null,"T1 - Panamá II","Panamá II",null,"2027-10-24",42,null,{"$f":"IF(ISBLANK(BACKEND!D298),\"\",BACKEND!D298)","v":""},{"$f":"IF(ISBLANK(BACKEND!E298),\"\",BACKEND!E298)","v":""},{"$f":"IF(ISBLANK(BACKEND!F298),\"\",BACKEND!F298)","v":""},{"$f":"IF(ISBLANK(BACKEND!G298),\"\",BACKEND!G298)","v":""},false,false]
[null,null,null,null,null,null,"T2 - Panamá II","Panamá II",null,"2027-10-25",43,null,{"$f":"IF(ISBLANK(BACKEND!D299),\"\",BACKEND!D299)","v":""},{"$f":"IF(ISBLANK(BACKEND!E299),\"\",BACKEND!E299)","v":""},{"$f":"IF(ISBLANK(BACKEND!F299),\"\",BACKEND!F299)","v":""},{"$f":"IF(ISBLANK(BACKEND!G299),\"\",BACKEND!G299)","v":""},false,false]
[null,null,null,null,null,null,"T3 - Panamá II","Panamá II",null,"2027-10-26",43,null,{"$f":"IF(ISBLANK(BACKEND!D300),\"\",BACKEND!D300)","v":""},{"$f":"IF(ISBLANK(BACKEND!E300),\"\",BACKEND!E300)","v":""},{"$f":"IF(ISBLANK(BACKEND!F300),\"\",BACKEND!F300)","v":""},{"$f":"IF(ISBLANK(BACKEND!G300),\"\",BACKEND!G300)","v":""},false,false]
[null,null,null,null,null,null,"T1 - Progreso","Progreso",null,"2027-10-27",43,null,{"$f":"IF(ISBLANK(BACKEND!D301),\"\",BACKEND!D301)","v":""},{"$f":"IF(ISBLANK(BACKEND!E301),\"\",BACKEND!E301)","v":""},{"$f":"IF(ISBLANK(BACKEND!F301),\"\",BACKEND!F301)","v":""},{"$f":"IF(ISBLANK(BACKEND!G301),\"\",BACKEND!G301)","v":""},false,false]
[null,null,null,null,null,null,"T2 - Progreso","Progreso",null,"2027-10-28",43,null,{"$f":"IF(ISBLANK(BACKEND!D302),\"\",BACKEND!D302)","v":""},{"$f":"IF(ISBLANK(BACKEND!E302),\"\",BACKEND!E302)","v":""},{"$f":"IF(ISBLANK(BACKEND!F302),\"\",BACKEND!F302)","v":""},{"$f":"IF(ISBLANK(BACKEND!G302),\"\",BACKEND!G302)","v":""},false,false]
[null,null,null,null,null,null,"T1 - San Bartolo","San Bartolo",null,"2027-10-29",43,null,{"$f":"IF(ISBLANK(BACKEND!D303),\"\",BACKEND!D303)","v":""},{"$f":"IF(ISBLANK(BACKEND!E303),\"\",BACKEND!E303)","v":""},{"$f":"IF(ISBLANK(BACKEND!F303),\"\",BACKEND!F303)","v":""},{"$f":"IF(ISBLANK(BACKEND!G303),\"\",BACKEND!G303)","v":""},false,false]
[null,null,null,null,null,null,"T1 - San Francisco","San Francisco",null,"2027-10-30",43,null,{"$f":"IF(ISBLANK(BACKEND!D304),\"\",BACKEND!D304)","v":""},{"$f":"IF(ISBLANK(BACKEND!E304),\"\",BACKEND!E304)","v":""},{"$f":"IF(ISBLANK(BACKEND!F304),\"\",BACKEND!F304)","v":""},{"$f":"IF(ISBLANK(BACKEND!G304),\"\",BACKEND!G304)","v":""},false,false]
[null,null,null,null,null,null,"T2 - San Francisco","San Francisco",null,"2027-10-31",43,null,{"$f":"IF(ISBLANK(BACKEND!D305),\"\",BACKEND!D305)","v":""},{"$f":"IF(ISBLANK(BACKEND!E305),\"\",BACKEND!E305)","v":""},{"$f":"IF(ISBLANK(BACKEND!F305),\"\",BACKEND!F305)","v":""},{"$f":"IF(ISBLANK(BACKEND!G305),\"\",BACKEND!G305)","v":""},false,false]
[null,null,null,null,null,null,"T3 - San Francisco","San Francisco",null,"2027-11-01",44,null,{"$f":"IF(ISBLANK(BACKEND!D306),\"\",BACKEND!D306)","v":""},{"$f":"IF(ISBLANK(BACKEND!E306),\"\",BACKEND!E306)","v":""},{"$f":"IF(ISBLANK(BACKEND!F306),\"\",BACKEND!F306)","v":""},{"$f":"IF(ISBLANK(BACKEND!G306),\"\",BACKEND!G306)","v":""},false,false]
[null,null,null,null,null,null,"T4 - San Francisco","San Francisco",null,"2027-11-02",44,null,{"$f":"IF(ISBLANK(BACKEND!D307),\"\",BACKEND!D307)","v":""},{"$f":"IF(ISBLANK(BACKEND!E307),\"\",BACKEND!E307)","v":""},{"$f":"IF(ISBLANK(BACKEND!F307),\"\",BACKEND!F307)","v":""},{"$f":"IF(ISBLANK(BACKEND!G307),\"\",BACKEND!G307)","v":""},false,false]
[null,null,null,null,null,null,"T1 - Santa María","Santa María",null,"2027-11-03",44,null,{"$f":"IF(ISBLANK(BACKEND!D308),\"\",BACKEND!D308)","v":""},{"$f":"IF(ISBLANK(BACKEND!E308),\"\",BACKEND!E308)","v":""},{"$f":"IF(ISBLANK(BACKEND!F308),\"\",BACKEND!F308)","v":""},{"$f":"IF(ISBLANK(BACKEND!G308),\"\",BACKEND!G308)","v":""},false,false]
[null,null,null,null,null,null,"T2 - Santa María","Santa María",null,"2027-11-04",44]
[null,null,null,null,null,null,"T3 - Santa María","Santa María",null,"2027-11-05",44]
[null,null,null,null,null,null,"T1 - Santiago","Santiago",null,"2027-11-06",44]
[null,null,null,null,null,null,"T2 - Santiago","Santiago",null,"2027-11-07",44]
[null,null,null,null,null,null,"T4 - Santiago","Santiago",null,"2027-11-08",45]
[null,null,null,null,null,null,"T1 - Tinajitas","Tinajitas",null,"2027-11-09",45]
[null,null,null,null,null,null,"T2 - Tinajitas","Tinajitas",null,"2027-11-10",45]
[null,null,null,null,null,null,"T1 - Tocumen","Tocumen",null,"2027-11-11",45]
[null,null,null,null,null,null,"T2 - Tocumen","Tocumen",null,"2027-11-12",45]
[null,null,null,null,null,null,"T3 - Tocumen","Tocumen",null,"2027-11-13",45]
[null,null,null,null,null,null,"T4 - Tocumen","Tocumen",null,"2027-11-14",45]
[null,null,null,null,null,null,null,null,null,"2027-11-15",46]
[null,null,null,null,null,null,null,null,null,"2027-11-16",46]
[null,null,null,null,null,null,null,null,null,"2027-11-17",46]
[null,null,null,null,null,null,null,null,null,"2027-11-18",46]
[null,null,null,null,null,null,null,null,null,{"$f":"J323+1","v":"2027-11-19"},46]
[null,null,null,null,null,null,null,null,null,"2027-11-20",46]
[null,null,null,null,null,null,null,null,null,"2027-11-21",46]
[null,null,null,null,null,null,null,null,null,"2027-11-22",47]
[null,null,null,null,null,null,null,null,null,"2027-11-23",47]
[null,null,null,null,null,null,null,null,null,"2027-11-24",47]
[null,null,null,null,null,null,null,null,null,"2027-11-25",47]
[null,null,null,null,null,null,null,null,null,"2027-11-26",47]
[null,null,null,null,null,null,null,null,null,"2027-11-27",47]
[null,null,null,null,null,null,null,null,null,"2027-11-28",47]
[null,null,null,null,null,null,null,null,null,"2027-11-29",48]
[null,null,null,null,null,null,null,null,null,"2027-11-30",48]
[null,null,null,null,null,null,null,null,null,"2027-12-01",48]
[null,null,null,null,null,null,null,null,null,"2027-12-02",48]
[null,null,null,null,null,null,null,null,null,"2027-12-03",48]
[null,null,null,null,null,null,null,null,null,"2027-12-04",48]
[null,null,null,null,null,null,null,null,null,"2027-12-05",48]
[null,null,null,null,null,null,null,null,null,"2027-12-06",49]
[null,null,null,null,null,null,null,null,null,"2027-12-07",49]
[null,null,null,null,null,null,null,null,null,"2027-12-08",49]
[null,null,null,null,null,null,null,null,null,"2027-12-09",49]
[null,null,null,null,null,null,null,null,null,"2027-12-10",49]
[null,null,null,null,null,null,null,null,null,"2027-12-11",49]
[null,null,null,null,null,null,null,null,null,"2027-12-12",49]
[null,null,null,null,null,null,null,null,null,"2027-12-13",50]
[null,null,null,null,null,null,null,null,null,"2027-12-14",50]
[null,null,null,null,null,null,null,null,null,"2027-12-15",50]
[null,null,null,null,null,null,null,null,null,"2027-12-16",50]
[null,null,null,null,null,null,null,null,null,"2027-12-17",50]
[null,null,null,null,null,null,null,null,null,"2027-12-18",50]
[null,null,null,null,null,null,null,null,null,"2027-12-19",50]
[null,null,null,null,null,null,null,null,null,"2027-12-20",51]
[null,null,null,null,null,null,null,null,null,"2027-12-21",51]
[null,null,null,null,null,null,null,null,null,"2027-12-22",51]
[null,null,null,null,null,null,null,null,null,"2027-12-23",51]
[null,null,null,null,null,null,null,null,null,"2027-12-24",51]
[null,null,null,null,null,null,null,null,null,"2027-12-25",51]
[null,null,null,null,null,null,null,null,null,"2027-12-26",51]
[null,null,null,null,null,null,null,null,null,"2027-12-27",52]
[null,null,null,null,null,null,null,null,null,"2027-12-28",52]
[null,null,null,null,null,null,null,null,null,"2027-12-29",52]
[null,null,null,null,null,null,null,null,null,"2027-12-30",52]
[null,null,null,null,null,null,null,null,null,"2027-12-31",52]
[null,null,null,null,null,null,null,null,null,{"$f":"J366+1","v":"2028-01-01"},52]
[null,null,null,null,null,null,null,null,null,{"$f":"J367+1","v":"2028-01-02"},52]